{"text_format":"1","workbook":"xlsx","n_sheets":5,"sheets":["入力シート","保険会社用","事業団用","協会用","加入者控"],"not_rendered":{"charts":0,"images":0,"macros":1,"external_links":0,"defined_names":9,"comments":4,"pivot_tables":0},"unopened":[],"bounds":{"document_bytes":16777216,"sheet_cells":100000,"rows_first":2000,"rows_last":500,"rows_between":2000,"halvings":0,"cell_chars":16384,"cell_head_chars":4096},"cells_cut":0,"cells_raw":0,"read":"whole","date_system":"1900"}

{"sheet":"入力シート","index":0,"n_rows":206,"n_cols":7,"rows_kept":206,"cut":false,"hidden":false,"merged":[[4,2,4,3],[2,3,2,5],[3,3,3,5],[4,4,4,5],[4,1,5,1],[2,1,2,2],[3,1,3,2]]}
[null,null,"LPガス配送受託販売所名簿入力シート",null,null,"○○県"]
[null,null,"（＊注意）配送事業所ごとに作成してください。",null,null,"2015-06-03"]
[null,"ＬＰガス配送事業者"]
[null,"配　送　事　業　所"]
[null,"NO.","L　P　ガ　ス　配　送　受　託　販　売　所",null,"配送契約の内容"]
[null,null,"名　　称","住　　所","配　送　先\n消費者戸数","1か年間の\n配送トン数"]
[null,1]
[null,2]
[null,3]
[null,4]
[null,5]
[null,6]
[null,7]
[null,8]
[null,9]
[null,10]
[null,11,null,null,null,null,"1ページ目"]
[null,12]
[null,13]
[null,14]
[null,15]
[null,16]
[null,17]
[null,18]
[null,19]
["ここまでは1ページ目⇒",20]
[null,21]
[null,22]
[null,23]
[null,24]
[null,25]
[null,26]
[null,27]
[null,28]
[null,29]
[null,30]
["2ページ目　",31,null,null,null,null,"2ページ目"]
[null,32]
[null,33]
[null,34]
[null,35]
[null,36]
[null,37]
[null,38]
[null,39]
["ここまでは2ページ目⇒",40]
[null,41]
[null,42]
[null,43]
[null,44]
[null,45]
[null,46]
[null,47]
[null,48]
[null,49]
[null,50]
["3ページ目　",51,null,null,null,null,"3ページ目"]
[null,52]
[null,53]
[null,54]
[null,55]
[null,56]
[null,57]
[null,58]
[null,59]
["ここまでは3ページ目⇒",60]
[null,61]
[null,62]
[null,63]
[null,64]
[null,65]
[null,66]
[null,67]
[null,68]
[null,69]
[null,70]
["4ページ目　",71,null,null,null,null,"4ページ目"]
[null,72]
[null,73]
[null,74]
[null,75]
[null,76]
[null,77]
[null,78]
[null,79]
["ここまでは4ページ目⇒",80]
[null,81]
[null,82]
[null,83]
[null,84]
[null,85]
[null,86]
[null,87]
[null,88]
[null,89]
[null,90]
["5ページ目　",91,null,null,null,null,"5ページ目"]
[null,92]
[null,93]
[null,94]
[null,95]
[null,96]
[null,97]
[null,98]
[null,99]
["ここまでは5ページ目⇒",100]
[null,101]
[null,102]
[null,103]
[null,104]
[null,105]
[null,106]
[null,107]
[null,108]
[null,109]
[null,110]
["6ページ目　",111,null,null,null,null,"6ページ目"]
[null,112]
[null,113]
[null,114]
[null,115]
[null,116]
[null,117]
[null,118]
[null,119]
["ここまでは6ページ目⇒",120]
[null,121]
[null,122]
[null,123]
[null,124]
[null,125]
[null,126]
[null,127]
[null,128]
[null,129]
[null,130]
["7ページ目　",131,null,null,null,null,"7ページ目"]
[null,132]
[null,133]
[null,134]
[null,135]
[null,136]
[null,137]
[null,138]
[null,139]
["ここまでは7ページ目⇒",140]
[null,141]
[null,142]
[null,143]
[null,144]
[null,145]
[null,146]
[null,147]
[null,148]
[null,149]
[null,150]
["8ページ目　",151,null,null,null,null,"8ページ目"]
[null,152]
[null,153]
[null,154]
[null,155]
[null,156]
[null,157]
[null,158]
[null,159]
["ここまでは8ページ目⇒",160]
[null,161]
[null,162]
[null,163]
[null,164]
[null,165]
[null,166]
[null,167]
[null,168]
[null,169]
[null,170]
["9ページ目　",171,null,null,null,null,"9ページ目"]
[null,172]
[null,173]
[null,174]
[null,175]
[null,176]
[null,177]
[null,178]
[null,179]
["ここまでは9ページ目⇒",180]
[null,181]
[null,182]
[null,183]
[null,184]
[null,185]
[null,186]
[null,187]
[null,188]
[null,189]
[null,190]
["10ページ目　",191,null,null,null,null,"10ページ目"]
[null,192]
[null,193]
[null,194]
[null,195]
[null,196]
[null,197]
[null,198]
[null,199]
[null,200]

{"sheet":"保険会社用","index":1,"n_rows":273,"n_cols":13,"rows_kept":273,"cut":false,"hidden":false,"merged":[[255,10,256,10],[255,11,256,11],[256,8,256,9],[257,0,258,0],[257,4,258,4],[257,5,258,5],[257,6,258,6],[257,8,257,9],[257,10,258,10],[257,11,258,11],[258,8,258,9],[259,0,260,0],[259,4,260,4],[259,5,260,5],[259,6,260,6],[259,8,259,9],[259,10,260,10],[259,11,260,11],[260,8,260,9],[260,2,260,3],[249,0,250,0],[249,2,249,3],[249,4,250,4],[249,5,250,5],[249,6,250,6],[249,8,249,9],[249,10,250,10],[249,11,250,11],[250,2,250,3],[250,8,250,9],[251,0,252,0],[251,2,251,3],[251,4,252,4],[251,5,252,5],[251,6,252,6],[251,8,251,9],[251,10,252,10],[251,11,252,11],[252,2,252,3],[252,8,252,9],[220,4,220,5],[220,6,220,8],[220,10,220,11],[221,6,221,8],[222,0,223,0],[222,2,222,3],[222,4,223,4],[222,5,223,5],[222,6,223,6],[222,8,222,9],[222,10,223,10],[222,11,223,11],[223,8,223,9],[232,11,233,11],[233,8,233,9],[234,0,235,0],[234,4,235,4],[234,5,235,5],[234,6,235,6],[234,8,234,9],[234,10,235,10],[234,11,235,11],[235,8,235,9],[234,2,234,3],[225,2,225,3],[226,2,226,3],[223,2,223,3],[224,2,224,3],[224,0,225,0],[224,4,225,4],[224,5,225,5],[224,6,225,6],[205,10,206,10],[205,11,206,11],[206,8,206,9],[207,0,208,0],[207,4,208,4],[207,5,208,5],[207,6,208,6],[207,8,207,9],[207,10,208,10],[207,11,208,11],[208,8,208,9],[209,0,210,0],[209,4,210,4],[209,5,210,5],[209,6,210,6],[209,8,209,9],[209,10,210,10],[209,11,210,11],[210,8,210,9],[210,2,210,3],[185,2,185,3],[185,8,185,9],[186,0,187,0],[186,2,186,3],[186,4,187,4],[186,5,187,5],[186,6,187,6],[186,8,186,9],[186,10,187,10],[186,11,187,11],[187,2,187,3],[187,8,187,9],[188,7,189,9],[188,10,189,10],[188,11,189,11],[190,7,191,9],[190,10,191,10],[190,11,191,11],[184,0,185,0],[184,2,184,3],[184,4,185,4],[184,5,185,5],[184,6,185,6],[184,8,184,9],[184,10,185,10],[184,11,185,11],[178,10,179,10],[178,11,179,11],[179,8,179,9],[180,0,181,0],[180,4,181,4],[180,5,181,5],[180,6,181,6],[180,8,180,9],[180,10,181,10],[180,11,181,11],[181,2,181,3],[181,8,181,9],[182,0,183,0],[182,2,182,3],[182,4,183,4],[182,5,183,5],[182,6,183,6],[182,8,182,9],[182,10,183,10],[182,11,183,11],[183,2,183,3],[183,8,183,9],[180,2,180,3],[159,0,160,0],[159,2,159,3],[159,4,160,4],[159,5,160,5],[159,6,160,6],[159,8,159,9],[159,10,160,10],[159,11,160,11],[160,2,160,3],[160,8,160,9],[161,7,162,9],[161,10,162,10],[161,11,162,11],[163,7,164,9],[163,10,164,10],[163,11,164,11],[165,0,165,2],[165,5,165,9],[154,2,154,3],[154,8,154,9],[155,0,156,0],[155,2,155,3],[155,4,156,4],[155,5,156,5],[155,6,156,6],[155,8,155,9],[155,10,156,10],[155,11,156,11],[156,2,156,3],[156,8,156,9],[157,0,158,0],[157,2,157,3],[157,5,158,5],[157,6,158,6],[157,8,157,9],[157,10,158,10],[157,11,158,11],[158,2,158,3],[158,8,158,9],[157,4,158,4],[153,0,154,0],[153,2,153,3],[153,4,154,4],[153,5,154,5],[153,6,154,6],[153,8,153,9],[153,10,154,10],[153,11,154,11],[148,8,148,9],[149,0,150,0],[149,4,150,4],[149,5,150,5],[149,6,150,6],[149,8,149,9],[149,10,150,10],[149,11,150,11],[150,2,150,3],[150,8,150,9],[151,0,152,0],[151,2,151,3],[151,4,152,4],[151,5,152,5],[151,6,152,6],[151,8,151,9],[151,10,152,10],[151,11,152,11],[152,2,152,3],[152,8,152,9],[149,2,149,3],[126,0,127,0],[126,2,126,3],[126,5,127,5],[126,6,127,6],[126,8,126,9],[126,10,127,10],[126,11,127,11],[127,2,127,3],[127,8,127,9],[128,0,129,0],[128,2,128,3],[128,4,129,4],[128,5,129,5],[128,6,129,6],[128,8,128,9],[128,10,129,10],[128,11,129,11],[129,2,129,3],[129,8,129,9],[126,4,127,4],[124,0,125,0],[124,2,124,3],[124,4,125,4],[124,5,125,5],[124,6,125,6],[124,8,124,9],[124,10,125,10],[124,11,125,11],[125,2,125,3],[125,8,125,9],[120,0,121,0],[120,2,120,3],[120,4,121,4],[120,5,121,5],[120,6,121,6],[120,8,120,9],[120,10,121,10],[120,11,121,11],[114,10,115,10],[114,11,115,11],[115,8,115,9],[116,0,117,0],[116,4,117,4],[116,5,117,5],[116,6,117,6],[116,8,116,9],[116,10,117,10],[116,11,117,11],[117,8,117,9],[114,2,114,3],[121,2,121,3],[121,8,121,9],[122,0,123,0],[122,2,122,3],[122,4,123,4],[122,5,123,5],[122,6,123,6],[122,8,122,9],[122,10,123,10],[122,11,123,11],[123,2,123,3],[123,8,123,9],[89,10,90,10],[89,11,90,11],[91,10,92,10],[91,11,92,11],[93,10,94,10],[93,11,94,11],[95,10,96,10],[95,11,96,11],[97,10,98,10],[97,11,98,11],[99,10,100,10],[99,11,100,11],[101,10,102,10],[101,11,102,11],[103,10,104,10],[103,11,104,11],[105,10,106,10],[105,11,106,11],[51,11,52,11],[60,10,61,10],[60,11,61,11],[62,10,63,10],[62,11,63,11],[64,10,65,10],[64,11,65,11],[66,10,67,10],[66,11,67,11],[68,10,69,10],[68,11,69,11],[70,10,71,10],[70,11,71,11],[72,10,73,10],[72,11,73,11],[74,10,75,10],[74,11,75,11],[62,5,63,5],[64,5,65,5],[66,4,67,4],[66,5,67,5],[95,5,96,5],[97,4,98,4],[97,5,98,5],[99,4,100,4],[99,5,100,5],[101,4,102,4],[101,5,102,5],[103,4,104,4],[103,5,104,5],[33,10,34,10],[33,11,34,11],[35,10,36,10],[35,11,36,11],[37,10,38,10],[37,11,38,11],[39,10,40,10],[39,11,40,11],[41,10,42,10],[41,11,42,11],[43,10,44,10],[43,11,44,11],[45,10,46,10],[45,11,46,11],[47,10,48,10],[47,11,48,11],[49,10,50,10],[49,11,50,11],[51,10,52,10],[17,4,18,4],[17,5,18,5],[19,4,20,4],[19,5,20,5],[21,4,22,4],[21,5,22,5],[23,4,24,4],[23,5,24,5],[5,10,6,10],[5,11,6,11],[7,10,8,10],[7,11,8,11],[9,10,10,10],[9,11,10,11],[11,10,12,10],[11,11,12,11],[13,10,14,10],[13,11,14,11],[15,10,16,10],[15,11,16,11],[17,10,18,10],[17,11,18,11],[19,10,20,10],[19,11,20,11],[21,10,22,10],[21,11,22,11],[23,10,24,10],[23,11,24,11],[13,5,14,5],[15,4,16,4],[9,5,10,5],[11,5,12,5],[91,0,92,0],[91,2,91,3],[91,6,92,6],[91,8,91,9],[92,2,92,3],[92,8,92,9],[93,0,94,0],[93,2,93,3],[93,6,94,6],[93,8,93,9],[94,2,94,3],[94,8,94,9],[91,4,92,4],[91,5,92,5],[93,4,94,4],[93,5,94,5],[87,6,88,6],[87,8,87,9],[88,2,88,3],[88,8,88,9],[89,0,90,0],[89,2,89,3],[89,6,90,6],[89,8,89,9],[90,2,90,3],[90,8,90,9],[87,4,88,4],[87,5,88,5],[89,4,90,4],[89,5,90,5],[18,8,18,9],[15,5,16,5],[23,6,24,6],[80,11,81,11],[82,7,83,9],[82,10,83,10],[82,11,83,11],[85,0,85,2],[85,4,85,5],[85,6,85,8],[85,10,85,11],[84,0,84,2],[84,5,84,9],[68,4,69,4],[68,5,69,5],[70,4,71,4],[70,5,71,5],[72,4,73,4],[72,5,73,5],[74,4,75,4],[74,5,75,5],[76,4,77,4],[76,5,77,5],[78,4,79,4],[78,5,79,5],[78,10,79,10],[72,0,73,0],[76,10,77,10],[76,11,77,11],[72,2,72,3],[72,6,73,6],[72,8,72,9],[59,6,59,8],[60,0,61,0],[60,2,60,3],[60,6,61,6],[60,8,60,9],[61,2,61,3],[61,8,61,9],[62,0,63,0],[62,2,62,3],[62,6,63,6],[62,8,62,9],[63,2,63,3],[63,8,63,9],[34,8,34,9],[35,0,36,0],[35,2,35,3],[35,6,36,6],[35,8,35,9],[37,0,38,0],[37,6,38,6],[33,5,34,5],[35,4,36,4],[35,5,36,5],[37,4,38,4],[37,5,38,5],[39,0,40,0],[38,2,38,3],[51,4,52,4],[51,5,52,5],[60,4,61,4],[60,5,61,5],[62,4,63,4],[9,2,9,3],[10,2,10,3],[3,4,3,5],[3,10,3,11],[5,4,6,4],[2,0,2,2],[2,5,2,9],[0,4,1,4],[0,5,1,9],[1,0,1,2],[30,0,30,2],[30,5,30,9],[19,6,20,6],[17,6,18,6],[15,6,16,6],[13,6,14,6],[5,0,6,0],[23,0,24,0],[21,0,22,0],[19,0,20,0],[17,0,18,0],[15,0,16,0],[13,0,14,0],[11,0,12,0],[9,0,10,0],[7,0,8,0],[5,5,6,5],[7,4,8,4],[7,5,8,5],[9,4,10,4],[11,4,12,4],[13,4,14,4],[21,6,22,6],[27,10,28,10],[23,2,23,3],[24,2,24,3],[5,8,5,9],[6,8,6,9],[7,8,7,9],[8,8,8,9],[9,8,9,9],[10,8,10,9],[11,8,11,9],[12,8,12,9],[17,2,17,3],[18,2,18,3],[19,2,19,3],[20,2,20,3],[21,2,21,3],[22,2,22,3],[11,2,11,3],[12,2,12,3],[13,2,13,3],[14,2,14,3],[15,2,15,3],[16,2,16,3],[11,6,12,6],[9,6,10,6],[7,6,8,6],[5,6,6,6],[5,2,5,3],[6,2,6,3],[7,2,7,3],[8,2,8,3],[27,11,28,11],[3,6,3,8],[4,6,4,8],[3,0,3,2],[4,0,4,2],[25,10,26,10],[33,4,34,4],[25,11,26,11],[31,0,31,2],[31,4,31,5],[31,6,31,8],[31,10,31,11],[32,0,32,2],[32,6,32,8],[33,0,34,0],[33,2,33,3],[33,6,34,6],[33,8,33,9],[34,2,34,3],[25,7,26,9],[27,7,28,9],[19,8,19,9],[20,8,20,9],[21,8,21,9],[22,8,22,9],[23,8,23,9],[24,8,24,9],[13,8,13,9],[14,8,14,9],[15,8,15,9],[16,8,16,9],[17,8,17,9],[36,2,36,3],[36,8,36,9],[37,2,37,3],[37,8,37,9],[39,4,40,4],[39,5,40,5],[41,4,42,4],[41,5,42,5],[43,0,44,0],[42,2,42,3],[43,6,44,6],[42,8,42,9],[43,2,43,3],[43,8,43,9],[41,0,42,0],[40,2,40,3],[41,6,42,6],[40,8,40,9],[41,2,41,3],[41,8,41,9],[39,6,40,6],[38,8,38,9],[39,2,39,3],[39,8,39,9],[43,4,44,4],[43,5,44,5],[47,0,48,0],[46,2,46,3],[47,6,48,6],[46,8,46,9],[47,2,47,3],[47,8,47,9],[45,0,46,0],[44,2,44,3],[45,6,46,6],[44,8,44,9],[45,2,45,3],[45,8,45,9],[51,0,52,0],[50,2,50,3],[51,6,52,6],[50,8,50,9],[51,2,51,3],[51,8,51,9],[49,0,50,0],[48,2,48,3],[49,6,50,6],[48,8,48,9],[49,2,49,3],[49,8,49,9],[52,2,52,3],[52,8,52,9],[45,4,46,4],[45,5,46,5],[47,4,48,4],[47,5,48,5],[49,4,50,4],[49,5,50,5],[53,7,54,9],[53,10,54,10],[53,11,54,11],[55,7,56,9],[55,10,56,10],[55,11,56,11],[64,4,65,4],[57,0,57,2],[57,5,57,9],[58,0,58,2],[58,4,58,5],[58,6,58,8],[58,10,58,11],[68,0,69,0],[68,2,68,3],[68,6,69,6],[68,8,68,9],[69,2,69,3],[69,8,69,9],[66,0,67,0],[66,2,66,3],[66,6,67,6],[66,8,66,9],[67,2,67,3],[67,8,67,9],[64,0,65,0],[64,2,64,3],[64,6,65,6],[64,8,64,9],[65,2,65,3],[65,8,65,9],[59,0,59,2],[70,2,70,3],[70,6,71,6],[70,8,70,9],[71,2,71,3],[71,8,71,9],[76,0,77,0],[76,2,76,3],[76,6,77,6],[76,8,76,9],[77,2,77,3],[77,8,77,9],[74,0,75,0],[74,2,74,3],[74,6,75,6],[74,8,74,9],[75,2,75,3],[75,8,75,9],[73,2,73,3],[73,8,73,9],[70,0,71,0],[78,0,79,0],[78,2,78,3],[78,6,79,6],[78,8,78,9],[79,2,79,3],[79,8,79,9],[78,11,79,11],[87,10,88,10],[87,11,88,11],[95,4,96,4],[86,0,86,2],[86,6,86,8],[87,0,88,0],[87,2,87,3],[101,0,102,0],[98,2,98,3],[98,8,98,9],[99,2,99,3],[99,8,99,9],[99,0,100,0],[96,2,96,3],[96,8,96,9],[97,2,97,3],[97,8,97,9],[95,0,96,0],[95,2,95,3],[95,6,96,6],[95,8,95,9],[97,0,98,0],[97,6,98,6],[80,7,81,9],[80,10,81,10],[105,0,106,0],[102,2,102,3],[102,8,102,9],[103,2,103,3],[103,8,103,9],[103,0,104,0],[100,2,100,3],[100,8,100,9],[101,2,101,3],[101,8,101,9],[99,6,100,6],[101,6,102,6],[106,2,106,3],[106,8,106,9],[104,2,104,3],[104,8,104,9],[105,2,105,3],[105,8,105,9],[103,6,104,6],[105,6,106,6],[105,4,106,4],[105,5,106,5],[112,4,112,5],[112,10,112,11],[107,7,108,9],[107,10,108,10],[107,11,108,11],[109,7,110,9],[109,10,110,10],[109,11,110,11],[111,0,111,2],[111,5,111,9],[112,0,112,2],[112,6,112,8],[113,0,113,2],[117,2,117,3],[118,2,118,3],[115,2,115,3],[116,2,116,3],[118,0,119,0],[118,4,119,4],[118,5,119,5],[118,6,119,6],[118,8,118,9],[118,10,119,10],[118,11,119,11],[119,2,119,3],[119,8,119,9],[113,6,113,8],[114,0,115,0],[114,4,115,4],[114,5,115,5],[114,6,115,6],[114,8,114,9],[132,0,133,0],[132,2,132,3],[133,2,133,3],[130,0,131,0],[130,2,130,3],[131,2,131,3],[130,4,131,4],[130,5,131,5],[130,6,131,6],[130,8,130,9],[130,10,131,10],[130,11,131,11],[131,8,131,9],[132,4,133,4],[132,5,133,5],[132,6,133,6],[132,8,132,9],[132,10,133,10],[132,11,133,11],[133,8,133,9],[134,7,135,9],[134,10,135,10],[134,11,135,11],[136,7,137,9],[136,10,137,10],[136,11,137,11],[141,2,141,3],[139,4,139,5],[139,10,139,11],[138,0,138,2],[138,5,138,9],[139,0,139,2],[139,6,139,8],[140,0,140,2],[140,6,140,8],[141,0,142,0],[141,4,142,4],[141,5,142,5],[141,6,142,6],[141,8,141,9],[141,10,142,10],[144,2,144,3],[145,2,145,3],[142,2,142,3],[143,2,143,3],[141,11,142,11],[142,8,142,9],[143,0,144,0],[143,4,144,4],[143,5,144,5],[143,6,144,6],[143,8,143,9],[143,10,144,10],[143,11,144,11],[144,8,144,9],[145,0,146,0],[145,4,146,4],[148,2,148,3],[146,2,146,3],[147,2,147,3],[145,5,146,5],[145,6,146,6],[145,8,145,9],[145,10,146,10],[145,11,146,11],[146,8,146,9],[147,0,148,0],[147,4,148,4],[147,5,148,5],[147,6,148,6],[147,8,147,9],[147,10,148,10],[147,11,148,11],[168,2,168,3],[166,4,166,5],[166,10,166,11],[166,0,166,2],[166,6,166,8],[167,0,167,2],[167,6,167,8],[168,0,169,0],[168,4,169,4],[168,5,169,5],[168,6,169,6],[168,8,168,9],[168,10,169,10],[168,11,169,11],[169,8,169,9],[171,2,171,3],[172,2,172,3],[169,2,169,3],[170,2,170,3],[170,0,171,0],[170,4,171,4],[170,5,171,5],[170,6,171,6],[170,8,170,9],[170,10,171,10],[170,11,171,11],[171,8,171,9],[172,0,173,0],[172,4,173,4],[172,5,173,5],[172,6,173,6],[175,2,175,3],[176,2,176,3],[173,2,173,3],[174,2,174,3],[172,8,172,9],[172,10,173,10],[172,11,173,11],[173,8,173,9],[174,0,175,0],[174,4,175,4],[174,5,175,5],[174,6,175,6],[174,8,174,9],[174,10,175,10],[174,11,175,11],[175,8,175,9],[179,2,179,3],[177,2,177,3],[178,2,178,3],[176,0,177,0],[176,4,177,4],[176,5,177,5],[176,6,177,6],[176,8,176,9],[176,10,177,10],[176,11,177,11],[177,8,177,9],[178,0,179,0],[178,4,179,4],[178,5,179,5],[178,6,179,6],[178,8,178,9],[195,2,195,3],[193,4,193,5],[193,10,193,11],[192,0,192,2],[192,5,192,9],[193,0,193,2],[193,6,193,8],[194,0,194,2],[194,6,194,8],[195,0,196,0],[195,4,196,4],[195,5,196,5],[195,6,196,6],[195,8,195,9],[195,10,196,10],[195,11,196,11],[196,8,196,9],[198,2,198,3],[199,2,199,3],[196,2,196,3],[197,2,197,3],[197,0,198,0],[197,4,198,4],[197,5,198,5],[197,6,198,6],[197,8,197,9],[197,10,198,10],[197,11,198,11],[198,8,198,9],[199,0,200,0],[199,4,200,4],[199,5,200,5],[199,6,200,6],[202,2,202,3],[203,2,203,3],[200,2,200,3],[201,2,201,3],[199,8,199,9],[199,10,200,10],[199,11,200,11],[200,8,200,9],[201,0,202,0],[201,4,202,4],[201,5,202,5],[201,6,202,6],[201,8,201,9],[201,10,202,10],[201,11,202,11],[202,8,202,9],[206,2,206,3],[207,2,207,3],[204,2,204,3],[205,2,205,3],[203,0,204,0],[203,4,204,4],[203,5,204,5],[203,6,204,6],[203,8,203,9],[203,10,204,10],[203,11,204,11],[204,8,204,9],[205,0,206,0],[205,4,206,4],[205,5,206,5],[205,6,206,6],[205,8,205,9],[211,2,211,3],[208,2,208,3],[209,2,209,3],[211,0,212,0],[211,4,212,4],[211,5,212,5],[211,6,212,6],[211,8,211,9],[211,10,212,10],[211,11,212,11],[212,2,212,3],[212,8,212,9],[221,0,221,2],[220,0,220,2],[213,0,214,0],[213,2,213,3],[213,4,214,4],[213,5,214,5],[213,6,214,6],[213,8,213,9],[213,10,214,10],[213,11,214,11],[214,2,214,3],[214,8,214,9],[215,7,216,9],[215,10,216,10],[215,11,216,11],[217,7,218,9],[217,10,218,10],[217,11,218,11],[219,0,219,2],[219,5,219,9],[224,8,224,9],[224,10,225,10],[224,11,225,11],[225,8,225,9],[226,0,227,0],[226,4,227,4],[226,5,227,5],[226,6,227,6],[226,8,226,9]],"merged_total":1143,"flags":["merged_cut"]}
[null,null,null,null,"配　送\n事業所",{"$f":"入力シート!D4","v":0},null,null,null,null,null,{"$f":"入力シート!$F$1","v":"○○県"}]
["LPガス配送事業者",null,null,{"$f":"入力シート!D3","v":0},null,null,null,null,null,null,null,{"$f":"入力シート!F2","v":"2015-06-03"}]
[null,null,null,null,null,null,null,null,null,null,1,{"$f":"IF($L$26=0,1,(COUNTIF($L$26,\">0\")+COUNTIF($L$54,\">0\")+COUNTIF($L$81,\">0\")+COUNTIF($L$108,\">0\")+COUNTIF($L$135,\">0\")+COUNTIF($L$162,\">0\")+COUNTIF($L$189,\">0\")+COUNTIF($L$216,\">0\")+COUNTIF($L$243,\">0\")+COUNTIF($L$270,\">0\")))","v":1},1]
["LPガス配送",null,null,"名　　　　称","配送契約の内容",null,"LPガス配送",null,null,"名　　　　称","配送契約の内容"]
["受託販売所",null,null,"住　　　　所","配　送　先\n消費者戸数","1か年間の\n配送トン数","受託販売所",null,null,"住　　　　所","配　送　先\n消費者戸数","1か年間の\n配送トン数"]
[1,"名称",{"$f":"IF(ISERROR(VLOOKUP(IF(A6<>0,A6,A5),入力シート!$B$7:$F$206,2,0)),\"\",IF(VLOOKUP(IF(A6<>0,A6,A5),入力シート!$B$7:$F$206,2,0)=0,\"\",VLOOKUP(IF(A6<>0,A6,A5),入力シート!$B$7:$F$206,2,0)))","v":""},null,{"$f":"IF(ISERROR(VLOOKUP(IF(A6<>0,A6,A5),入力シート!$B$7:$F$206,4,0)),\"\",IF(VLOOKUP(IF(A6<>0,A6,A5),入力シート!$B$7:$F$206,4,0)=0,\"\",VLOOKUP(IF(A6<>0,A6,A5),入力シート!$B$7:$F$206,4,0)))","v":""},{"$f":"IF(ISERROR(VLOOKUP(IF(A6<>0,A6,A5),入力シート!$B$7:$F$206,5,0)),\"\",IF(VLOOKUP(IF(A6<>0,A6,A5),入力シート!$B$7:$F$206,5,0)=0,\"\",VLOOKUP(IF(A6<>0,A6,A5),入力シート!$B$7:$F$206,5,0)))","v":""},11,"名称",{"$f":"IF(ISERROR(VLOOKUP(IF(G6<>0,G6,G5),入力シート!$B$7:$F$206,2,0)),\"\",IF(VLOOKUP(IF(G6<>0,G6,G5),入力シート!$B$7:$F$206,2,0)=0,\"\",VLOOKUP(IF(G6<>0,G6,G5),入力シート!$B$7:$F$206,2,0)))","v":""},null,{"$f":"IF(ISERROR(VLOOKUP(IF(G6<>0,G6,G5),入力シート!$B$7:$F$206,4,0)),\"\",IF(VLOOKUP(IF(G6<>0,G6,G5),入力シート!$B$7:$F$206,4,0)=0,\"\",VLOOKUP(IF(G6<>0,G6,G5),入力シート!$B$7:$F$206,4,0)))","v":""},{"$f":"IF(ISERROR(VLOOKUP(IF(G6<>0,G6,G5),入力シート!$B$7:$F$206,5,0)),\"\",IF(VLOOKUP(IF(G6<>0,G6,G5),入力シート!$B$7:$F$206,5,0)=0,\"\",VLOOKUP(IF(G6<>0,G6,G5),入力シート!$B$7:$F$206,5,0)))","v":""}]
[null,"住所",{"$f":"IF(ISERROR(VLOOKUP(IF(A7<>0,A7,A6),入力シート!$B$7:$F$206,3,0)),\"\",IF(VLOOKUP(IF(A7<>0,A7,A6),入力シート!$B$7:$F$206,3,0)=0,\"\",VLOOKUP(IF(A7<>0,A7,A6),入力シート!$B$7:$F$206,3,0)))","v":""},null,{"$f":"IF(ISERROR(VLOOKUP(IF(C7<>0,C7,C6),入力シート!$B$7:$F$206,2,0)),\"\",IF(VLOOKUP(IF(C7<>0,C7,C6),入力シート!$B$7:$F$206,2,0)=0,\"\",VLOOKUP(IF(C7<>0,C7,C6),入力シート!$B$7:$F$206,2,0)))","v":""},{"$f":"IF(ISERROR(VLOOKUP(IF(D7<>0,D7,D6),入力シート!$B$7:$F$206,2,0)),\"\",IF(VLOOKUP(IF(D7<>0,D7,D6),入力シート!$B$7:$F$206,2,0)=0,\"\",VLOOKUP(IF(D7<>0,D7,D6),入力シート!$B$7:$F$206,2,0)))","v":""},null,"住所",{"$f":"IF(ISERROR(VLOOKUP(IF(G7<>0,G7,G6),入力シート!$B$7:$F$206,3,0)),\"\",IF(VLOOKUP(IF(G7<>0,G7,G6),入力シート!$B$7:$F$206,3,0)=0,\"\",VLOOKUP(IF(G7<>0,G7,G6),入力シート!$B$7:$F$206,3,0)))","v":""},null,{"$f":"IF(ISERROR(VLOOKUP(IF(I7<>0,I7,I6),入力シート!$B$7:$F$206,2,0)),\"\",IF(VLOOKUP(IF(I7<>0,I7,I6),入力シート!$B$7:$F$206,2,0)=0,\"\",VLOOKUP(IF(I7<>0,I7,I6),入力シート!$B$7:$F$206,2,0)))","v":""},{"$f":"IF(ISERROR(VLOOKUP(IF(J7<>0,J7,J6),入力シート!$B$7:$F$206,2,0)),\"\",IF(VLOOKUP(IF(J7<>0,J7,J6),入力シート!$B$7:$F$206,2,0)=0,\"\",VLOOKUP(IF(J7<>0,J7,J6),入力シート!$B$7:$F$206,2,0)))","v":""}]
[2,"名称",{"$f":"IF(ISERROR(VLOOKUP(IF(A8<>0,A8,A7),入力シート!$B$7:$F$206,2,0)),\"\",IF(VLOOKUP(IF(A8<>0,A8,A7),入力シート!$B$7:$F$206,2,0)=0,\"\",VLOOKUP(IF(A8<>0,A8,A7),入力シート!$B$7:$F$206,2,0)))","v":""},null,{"$f":"IF(ISERROR(VLOOKUP(IF(A8<>0,A8,A7),入力シート!$B$7:$F$206,4,0)),\"\",IF(VLOOKUP(IF(A8<>0,A8,A7),入力シート!$B$7:$F$206,4,0)=0,\"\",VLOOKUP(IF(A8<>0,A8,A7),入力シート!$B$7:$F$206,4,0)))","v":""},{"$f":"IF(ISERROR(VLOOKUP(IF(A8<>0,A8,A7),入力シート!$B$7:$F$206,5,0)),\"\",IF(VLOOKUP(IF(A8<>0,A8,A7),入力シート!$B$7:$F$206,5,0)=0,\"\",VLOOKUP(IF(A8<>0,A8,A7),入力シート!$B$7:$F$206,5,0)))","v":""},12,"名称",{"$f":"IF(ISERROR(VLOOKUP(IF(G8<>0,G8,G7),入力シート!$B$7:$F$206,2,0)),\"\",IF(VLOOKUP(IF(G8<>0,G8,G7),入力シート!$B$7:$F$206,2,0)=0,\"\",VLOOKUP(IF(G8<>0,G8,G7),入力シート!$B$7:$F$206,2,0)))","v":""},null,{"$f":"IF(ISERROR(VLOOKUP(IF(G8<>0,G8,G7),入力シート!$B$7:$F$206,4,0)),\"\",IF(VLOOKUP(IF(G8<>0,G8,G7),入力シート!$B$7:$F$206,4,0)=0,\"\",VLOOKUP(IF(G8<>0,G8,G7),入力シート!$B$7:$F$206,4,0)))","v":""},{"$f":"IF(ISERROR(VLOOKUP(IF(G8<>0,G8,G7),入力シート!$B$7:$F$206,5,0)),\"\",IF(VLOOKUP(IF(G8<>0,G8,G7),入力シート!$B$7:$F$206,5,0)=0,\"\",VLOOKUP(IF(G8<>0,G8,G7),入力シート!$B$7:$F$206,5,0)))","v":""}]
[null,"住所",{"$f":"IF(ISERROR(VLOOKUP(IF(A9<>0,A9,A8),入力シート!$B$7:$F$206,3,0)),\"\",IF(VLOOKUP(IF(A9<>0,A9,A8),入力シート!$B$7:$F$206,3,0)=0,\"\",VLOOKUP(IF(A9<>0,A9,A8),入力シート!$B$7:$F$206,3,0)))","v":""},null,{"$f":"IF(ISERROR(VLOOKUP(IF(C9<>0,C9,C8),入力シート!$B$7:$F$206,2,0)),\"\",IF(VLOOKUP(IF(C9<>0,C9,C8),入力シート!$B$7:$F$206,2,0)=0,\"\",VLOOKUP(IF(C9<>0,C9,C8),入力シート!$B$7:$F$206,2,0)))","v":""},{"$f":"IF(ISERROR(VLOOKUP(IF(D9<>0,D9,D8),入力シート!$B$7:$F$206,2,0)),\"\",IF(VLOOKUP(IF(D9<>0,D9,D8),入力シート!$B$7:$F$206,2,0)=0,\"\",VLOOKUP(IF(D9<>0,D9,D8),入力シート!$B$7:$F$206,2,0)))","v":""},null,"住所",{"$f":"IF(ISERROR(VLOOKUP(IF(G9<>0,G9,G8),入力シート!$B$7:$F$206,3,0)),\"\",IF(VLOOKUP(IF(G9<>0,G9,G8),入力シート!$B$7:$F$206,3,0)=0,\"\",VLOOKUP(IF(G9<>0,G9,G8),入力シート!$B$7:$F$206,3,0)))","v":""},null,{"$f":"IF(ISERROR(VLOOKUP(IF(I9<>0,I9,I8),入力シート!$B$7:$F$206,2,0)),\"\",IF(VLOOKUP(IF(I9<>0,I9,I8),入力シート!$B$7:$F$206,2,0)=0,\"\",VLOOKUP(IF(I9<>0,I9,I8),入力シート!$B$7:$F$206,2,0)))","v":""},{"$f":"IF(ISERROR(VLOOKUP(IF(J9<>0,J9,J8),入力シート!$B$7:$F$206,2,0)),\"\",IF(VLOOKUP(IF(J9<>0,J9,J8),入力シート!$B$7:$F$206,2,0)=0,\"\",VLOOKUP(IF(J9<>0,J9,J8),入力シート!$B$7:$F$206,2,0)))","v":""}]
[3,"名称",{"$f":"IF(ISERROR(VLOOKUP(IF(A10<>0,A10,A9),入力シート!$B$7:$F$206,2,0)),\"\",IF(VLOOKUP(IF(A10<>0,A10,A9),入力シート!$B$7:$F$206,2,0)=0,\"\",VLOOKUP(IF(A10<>0,A10,A9),入力シート!$B$7:$F$206,2,0)))","v":""},null,{"$f":"IF(ISERROR(VLOOKUP(IF(A10<>0,A10,A9),入力シート!$B$7:$F$206,4,0)),\"\",IF(VLOOKUP(IF(A10<>0,A10,A9),入力シート!$B$7:$F$206,4,0)=0,\"\",VLOOKUP(IF(A10<>0,A10,A9),入力シート!$B$7:$F$206,4,0)))","v":""},{"$f":"IF(ISERROR(VLOOKUP(IF(A10<>0,A10,A9),入力シート!$B$7:$F$206,5,0)),\"\",IF(VLOOKUP(IF(A10<>0,A10,A9),入力シート!$B$7:$F$206,5,0)=0,\"\",VLOOKUP(IF(A10<>0,A10,A9),入力シート!$B$7:$F$206,5,0)))","v":""},13,"名称",{"$f":"IF(ISERROR(VLOOKUP(IF(G10<>0,G10,G9),入力シート!$B$7:$F$206,2,0)),\"\",IF(VLOOKUP(IF(G10<>0,G10,G9),入力シート!$B$7:$F$206,2,0)=0,\"\",VLOOKUP(IF(G10<>0,G10,G9),入力シート!$B$7:$F$206,2,0)))","v":""},null,{"$f":"IF(ISERROR(VLOOKUP(IF(G10<>0,G10,G9),入力シート!$B$7:$F$206,4,0)),\"\",IF(VLOOKUP(IF(G10<>0,G10,G9),入力シート!$B$7:$F$206,4,0)=0,\"\",VLOOKUP(IF(G10<>0,G10,G9),入力シート!$B$7:$F$206,4,0)))","v":""},{"$f":"IF(ISERROR(VLOOKUP(IF(G10<>0,G10,G9),入力シート!$B$7:$F$206,5,0)),\"\",IF(VLOOKUP(IF(G10<>0,G10,G9),入力シート!$B$7:$F$206,5,0)=0,\"\",VLOOKUP(IF(G10<>0,G10,G9),入力シート!$B$7:$F$206,5,0)))","v":""}]
[null,"住所",{"$f":"IF(ISERROR(VLOOKUP(IF(A11<>0,A11,A10),入力シート!$B$7:$F$206,3,0)),\"\",IF(VLOOKUP(IF(A11<>0,A11,A10),入力シート!$B$7:$F$206,3,0)=0,\"\",VLOOKUP(IF(A11<>0,A11,A10),入力シート!$B$7:$F$206,3,0)))","v":""},null,{"$f":"IF(ISERROR(VLOOKUP(IF(C11<>0,C11,C10),入力シート!$B$7:$F$206,2,0)),\"\",IF(VLOOKUP(IF(C11<>0,C11,C10),入力シート!$B$7:$F$206,2,0)=0,\"\",VLOOKUP(IF(C11<>0,C11,C10),入力シート!$B$7:$F$206,2,0)))","v":""},{"$f":"IF(ISERROR(VLOOKUP(IF(D11<>0,D11,D10),入力シート!$B$7:$F$206,2,0)),\"\",IF(VLOOKUP(IF(D11<>0,D11,D10),入力シート!$B$7:$F$206,2,0)=0,\"\",VLOOKUP(IF(D11<>0,D11,D10),入力シート!$B$7:$F$206,2,0)))","v":""},null,"住所",{"$f":"IF(ISERROR(VLOOKUP(IF(G11<>0,G11,G10),入力シート!$B$7:$F$206,3,0)),\"\",IF(VLOOKUP(IF(G11<>0,G11,G10),入力シート!$B$7:$F$206,3,0)=0,\"\",VLOOKUP(IF(G11<>0,G11,G10),入力シート!$B$7:$F$206,3,0)))","v":""},null,{"$f":"IF(ISERROR(VLOOKUP(IF(I11<>0,I11,I10),入力シート!$B$7:$F$206,2,0)),\"\",IF(VLOOKUP(IF(I11<>0,I11,I10),入力シート!$B$7:$F$206,2,0)=0,\"\",VLOOKUP(IF(I11<>0,I11,I10),入力シート!$B$7:$F$206,2,0)))","v":""},{"$f":"IF(ISERROR(VLOOKUP(IF(J11<>0,J11,J10),入力シート!$B$7:$F$206,2,0)),\"\",IF(VLOOKUP(IF(J11<>0,J11,J10),入力シート!$B$7:$F$206,2,0)=0,\"\",VLOOKUP(IF(J11<>0,J11,J10),入力シート!$B$7:$F$206,2,0)))","v":""}]
[4,"名称",{"$f":"IF(ISERROR(VLOOKUP(IF(A12<>0,A12,A11),入力シート!$B$7:$F$206,2,0)),\"\",IF(VLOOKUP(IF(A12<>0,A12,A11),入力シート!$B$7:$F$206,2,0)=0,\"\",VLOOKUP(IF(A12<>0,A12,A11),入力シート!$B$7:$F$206,2,0)))","v":""},null,{"$f":"IF(ISERROR(VLOOKUP(IF(A12<>0,A12,A11),入力シート!$B$7:$F$206,4,0)),\"\",IF(VLOOKUP(IF(A12<>0,A12,A11),入力シート!$B$7:$F$206,4,0)=0,\"\",VLOOKUP(IF(A12<>0,A12,A11),入力シート!$B$7:$F$206,4,0)))","v":""},{"$f":"IF(ISERROR(VLOOKUP(IF(A12<>0,A12,A11),入力シート!$B$7:$F$206,5,0)),\"\",IF(VLOOKUP(IF(A12<>0,A12,A11),入力シート!$B$7:$F$206,5,0)=0,\"\",VLOOKUP(IF(A12<>0,A12,A11),入力シート!$B$7:$F$206,5,0)))","v":""},14,"名称",{"$f":"IF(ISERROR(VLOOKUP(IF(G12<>0,G12,G11),入力シート!$B$7:$F$206,2,0)),\"\",IF(VLOOKUP(IF(G12<>0,G12,G11),入力シート!$B$7:$F$206,2,0)=0,\"\",VLOOKUP(IF(G12<>0,G12,G11),入力シート!$B$7:$F$206,2,0)))","v":""},null,{"$f":"IF(ISERROR(VLOOKUP(IF(G12<>0,G12,G11),入力シート!$B$7:$F$206,4,0)),\"\",IF(VLOOKUP(IF(G12<>0,G12,G11),入力シート!$B$7:$F$206,4,0)=0,\"\",VLOOKUP(IF(G12<>0,G12,G11),入力シート!$B$7:$F$206,4,0)))","v":""},{"$f":"IF(ISERROR(VLOOKUP(IF(G12<>0,G12,G11),入力シート!$B$7:$F$206,5,0)),\"\",IF(VLOOKUP(IF(G12<>0,G12,G11),入力シート!$B$7:$F$206,5,0)=0,\"\",VLOOKUP(IF(G12<>0,G12,G11),入力シート!$B$7:$F$206,5,0)))","v":""}]
[null,"住所",{"$f":"IF(ISERROR(VLOOKUP(IF(A13<>0,A13,A12),入力シート!$B$7:$F$206,3,0)),\"\",IF(VLOOKUP(IF(A13<>0,A13,A12),入力シート!$B$7:$F$206,3,0)=0,\"\",VLOOKUP(IF(A13<>0,A13,A12),入力シート!$B$7:$F$206,3,0)))","v":""},null,{"$f":"IF(ISERROR(VLOOKUP(IF(C13<>0,C13,C12),入力シート!$B$7:$F$206,2,0)),\"\",IF(VLOOKUP(IF(C13<>0,C13,C12),入力シート!$B$7:$F$206,2,0)=0,\"\",VLOOKUP(IF(C13<>0,C13,C12),入力シート!$B$7:$F$206,2,0)))","v":""},{"$f":"IF(ISERROR(VLOOKUP(IF(D13<>0,D13,D12),入力シート!$B$7:$F$206,2,0)),\"\",IF(VLOOKUP(IF(D13<>0,D13,D12),入力シート!$B$7:$F$206,2,0)=0,\"\",VLOOKUP(IF(D13<>0,D13,D12),入力シート!$B$7:$F$206,2,0)))","v":""},null,"住所",{"$f":"IF(ISERROR(VLOOKUP(IF(G13<>0,G13,G12),入力シート!$B$7:$F$206,3,0)),\"\",IF(VLOOKUP(IF(G13<>0,G13,G12),入力シート!$B$7:$F$206,3,0)=0,\"\",VLOOKUP(IF(G13<>0,G13,G12),入力シート!$B$7:$F$206,3,0)))","v":""},null,{"$f":"IF(ISERROR(VLOOKUP(IF(I13<>0,I13,I12),入力シート!$B$7:$F$206,2,0)),\"\",IF(VLOOKUP(IF(I13<>0,I13,I12),入力シート!$B$7:$F$206,2,0)=0,\"\",VLOOKUP(IF(I13<>0,I13,I12),入力シート!$B$7:$F$206,2,0)))","v":""},{"$f":"IF(ISERROR(VLOOKUP(IF(J13<>0,J13,J12),入力シート!$B$7:$F$206,2,0)),\"\",IF(VLOOKUP(IF(J13<>0,J13,J12),入力シート!$B$7:$F$206,2,0)=0,\"\",VLOOKUP(IF(J13<>0,J13,J12),入力シート!$B$7:$F$206,2,0)))","v":""}]
[5,"名称",{"$f":"IF(ISERROR(VLOOKUP(IF(A14<>0,A14,A13),入力シート!$B$7:$F$206,2,0)),\"\",IF(VLOOKUP(IF(A14<>0,A14,A13),入力シート!$B$7:$F$206,2,0)=0,\"\",VLOOKUP(IF(A14<>0,A14,A13),入力シート!$B$7:$F$206,2,0)))","v":""},null,{"$f":"IF(ISERROR(VLOOKUP(IF(A14<>0,A14,A13),入力シート!$B$7:$F$206,4,0)),\"\",IF(VLOOKUP(IF(A14<>0,A14,A13),入力シート!$B$7:$F$206,4,0)=0,\"\",VLOOKUP(IF(A14<>0,A14,A13),入力シート!$B$7:$F$206,4,0)))","v":""},{"$f":"IF(ISERROR(VLOOKUP(IF(A14<>0,A14,A13),入力シート!$B$7:$F$206,5,0)),\"\",IF(VLOOKUP(IF(A14<>0,A14,A13),入力シート!$B$7:$F$206,5,0)=0,\"\",VLOOKUP(IF(A14<>0,A14,A13),入力シート!$B$7:$F$206,5,0)))","v":""},15,"名称",{"$f":"IF(ISERROR(VLOOKUP(IF(G14<>0,G14,G13),入力シート!$B$7:$F$206,2,0)),\"\",IF(VLOOKUP(IF(G14<>0,G14,G13),入力シート!$B$7:$F$206,2,0)=0,\"\",VLOOKUP(IF(G14<>0,G14,G13),入力シート!$B$7:$F$206,2,0)))","v":""},null,{"$f":"IF(ISERROR(VLOOKUP(IF(G14<>0,G14,G13),入力シート!$B$7:$F$206,4,0)),\"\",IF(VLOOKUP(IF(G14<>0,G14,G13),入力シート!$B$7:$F$206,4,0)=0,\"\",VLOOKUP(IF(G14<>0,G14,G13),入力シート!$B$7:$F$206,4,0)))","v":""},{"$f":"IF(ISERROR(VLOOKUP(IF(G14<>0,G14,G13),入力シート!$B$7:$F$206,5,0)),\"\",IF(VLOOKUP(IF(G14<>0,G14,G13),入力シート!$B$7:$F$206,5,0)=0,\"\",VLOOKUP(IF(G14<>0,G14,G13),入力シート!$B$7:$F$206,5,0)))","v":""}]
[null,"住所",{"$f":"IF(ISERROR(VLOOKUP(IF(A15<>0,A15,A14),入力シート!$B$7:$F$206,3,0)),\"\",IF(VLOOKUP(IF(A15<>0,A15,A14),入力シート!$B$7:$F$206,3,0)=0,\"\",VLOOKUP(IF(A15<>0,A15,A14),入力シート!$B$7:$F$206,3,0)))","v":""},null,{"$f":"IF(ISERROR(VLOOKUP(IF(C15<>0,C15,C14),入力シート!$B$7:$F$206,2,0)),\"\",IF(VLOOKUP(IF(C15<>0,C15,C14),入力シート!$B$7:$F$206,2,0)=0,\"\",VLOOKUP(IF(C15<>0,C15,C14),入力シート!$B$7:$F$206,2,0)))","v":""},{"$f":"IF(ISERROR(VLOOKUP(IF(D15<>0,D15,D14),入力シート!$B$7:$F$206,2,0)),\"\",IF(VLOOKUP(IF(D15<>0,D15,D14),入力シート!$B$7:$F$206,2,0)=0,\"\",VLOOKUP(IF(D15<>0,D15,D14),入力シート!$B$7:$F$206,2,0)))","v":""},null,"住所",{"$f":"IF(ISERROR(VLOOKUP(IF(G15<>0,G15,G14),入力シート!$B$7:$F$206,3,0)),\"\",IF(VLOOKUP(IF(G15<>0,G15,G14),入力シート!$B$7:$F$206,3,0)=0,\"\",VLOOKUP(IF(G15<>0,G15,G14),入力シート!$B$7:$F$206,3,0)))","v":""},null,{"$f":"IF(ISERROR(VLOOKUP(IF(I15<>0,I15,I14),入力シート!$B$7:$F$206,2,0)),\"\",IF(VLOOKUP(IF(I15<>0,I15,I14),入力シート!$B$7:$F$206,2,0)=0,\"\",VLOOKUP(IF(I15<>0,I15,I14),入力シート!$B$7:$F$206,2,0)))","v":""},{"$f":"IF(ISERROR(VLOOKUP(IF(J15<>0,J15,J14),入力シート!$B$7:$F$206,2,0)),\"\",IF(VLOOKUP(IF(J15<>0,J15,J14),入力シート!$B$7:$F$206,2,0)=0,\"\",VLOOKUP(IF(J15<>0,J15,J14),入力シート!$B$7:$F$206,2,0)))","v":""}]
[6,"名称",{"$f":"IF(ISERROR(VLOOKUP(IF(A16<>0,A16,A15),入力シート!$B$7:$F$206,2,0)),\"\",IF(VLOOKUP(IF(A16<>0,A16,A15),入力シート!$B$7:$F$206,2,0)=0,\"\",VLOOKUP(IF(A16<>0,A16,A15),入力シート!$B$7:$F$206,2,0)))","v":""},null,{"$f":"IF(ISERROR(VLOOKUP(IF(A16<>0,A16,A15),入力シート!$B$7:$F$206,4,0)),\"\",IF(VLOOKUP(IF(A16<>0,A16,A15),入力シート!$B$7:$F$206,4,0)=0,\"\",VLOOKUP(IF(A16<>0,A16,A15),入力シート!$B$7:$F$206,4,0)))","v":""},{"$f":"IF(ISERROR(VLOOKUP(IF(A16<>0,A16,A15),入力シート!$B$7:$F$206,5,0)),\"\",IF(VLOOKUP(IF(A16<>0,A16,A15),入力シート!$B$7:$F$206,5,0)=0,\"\",VLOOKUP(IF(A16<>0,A16,A15),入力シート!$B$7:$F$206,5,0)))","v":""},16,"名称",{"$f":"IF(ISERROR(VLOOKUP(IF(G16<>0,G16,G15),入力シート!$B$7:$F$206,2,0)),\"\",IF(VLOOKUP(IF(G16<>0,G16,G15),入力シート!$B$7:$F$206,2,0)=0,\"\",VLOOKUP(IF(G16<>0,G16,G15),入力シート!$B$7:$F$206,2,0)))","v":""},null,{"$f":"IF(ISERROR(VLOOKUP(IF(G16<>0,G16,G15),入力シート!$B$7:$F$206,4,0)),\"\",IF(VLOOKUP(IF(G16<>0,G16,G15),入力シート!$B$7:$F$206,4,0)=0,\"\",VLOOKUP(IF(G16<>0,G16,G15),入力シート!$B$7:$F$206,4,0)))","v":""},{"$f":"IF(ISERROR(VLOOKUP(IF(G16<>0,G16,G15),入力シート!$B$7:$F$206,5,0)),\"\",IF(VLOOKUP(IF(G16<>0,G16,G15),入力シート!$B$7:$F$206,5,0)=0,\"\",VLOOKUP(IF(G16<>0,G16,G15),入力シート!$B$7:$F$206,5,0)))","v":""}]
[null,"住所",{"$f":"IF(ISERROR(VLOOKUP(IF(A17<>0,A17,A16),入力シート!$B$7:$F$206,3,0)),\"\",IF(VLOOKUP(IF(A17<>0,A17,A16),入力シート!$B$7:$F$206,3,0)=0,\"\",VLOOKUP(IF(A17<>0,A17,A16),入力シート!$B$7:$F$206,3,0)))","v":""},null,{"$f":"IF(ISERROR(VLOOKUP(IF(C17<>0,C17,C16),入力シート!$B$7:$F$206,2,0)),\"\",IF(VLOOKUP(IF(C17<>0,C17,C16),入力シート!$B$7:$F$206,2,0)=0,\"\",VLOOKUP(IF(C17<>0,C17,C16),入力シート!$B$7:$F$206,2,0)))","v":""},{"$f":"IF(ISERROR(VLOOKUP(IF(D17<>0,D17,D16),入力シート!$B$7:$F$206,2,0)),\"\",IF(VLOOKUP(IF(D17<>0,D17,D16),入力シート!$B$7:$F$206,2,0)=0,\"\",VLOOKUP(IF(D17<>0,D17,D16),入力シート!$B$7:$F$206,2,0)))","v":""},null,"住所",{"$f":"IF(ISERROR(VLOOKUP(IF(G17<>0,G17,G16),入力シート!$B$7:$F$206,3,0)),\"\",IF(VLOOKUP(IF(G17<>0,G17,G16),入力シート!$B$7:$F$206,3,0)=0,\"\",VLOOKUP(IF(G17<>0,G17,G16),入力シート!$B$7:$F$206,3,0)))","v":""},null,{"$f":"IF(ISERROR(VLOOKUP(IF(I17<>0,I17,I16),入力シート!$B$7:$F$206,2,0)),\"\",IF(VLOOKUP(IF(I17<>0,I17,I16),入力シート!$B$7:$F$206,2,0)=0,\"\",VLOOKUP(IF(I17<>0,I17,I16),入力シート!$B$7:$F$206,2,0)))","v":""},{"$f":"IF(ISERROR(VLOOKUP(IF(J17<>0,J17,J16),入力シート!$B$7:$F$206,2,0)),\"\",IF(VLOOKUP(IF(J17<>0,J17,J16),入力シート!$B$7:$F$206,2,0)=0,\"\",VLOOKUP(IF(J17<>0,J17,J16),入力シート!$B$7:$F$206,2,0)))","v":""}]
[7,"名称",{"$f":"IF(ISERROR(VLOOKUP(IF(A18<>0,A18,A17),入力シート!$B$7:$F$206,2,0)),\"\",IF(VLOOKUP(IF(A18<>0,A18,A17),入力シート!$B$7:$F$206,2,0)=0,\"\",VLOOKUP(IF(A18<>0,A18,A17),入力シート!$B$7:$F$206,2,0)))","v":""},null,{"$f":"IF(ISERROR(VLOOKUP(IF(A18<>0,A18,A17),入力シート!$B$7:$F$206,4,0)),\"\",IF(VLOOKUP(IF(A18<>0,A18,A17),入力シート!$B$7:$F$206,4,0)=0,\"\",VLOOKUP(IF(A18<>0,A18,A17),入力シート!$B$7:$F$206,4,0)))","v":""},{"$f":"IF(ISERROR(VLOOKUP(IF(A18<>0,A18,A17),入力シート!$B$7:$F$206,5,0)),\"\",IF(VLOOKUP(IF(A18<>0,A18,A17),入力シート!$B$7:$F$206,5,0)=0,\"\",VLOOKUP(IF(A18<>0,A18,A17),入力シート!$B$7:$F$206,5,0)))","v":""},17,"名称",{"$f":"IF(ISERROR(VLOOKUP(IF(G18<>0,G18,G17),入力シート!$B$7:$F$206,2,0)),\"\",IF(VLOOKUP(IF(G18<>0,G18,G17),入力シート!$B$7:$F$206,2,0)=0,\"\",VLOOKUP(IF(G18<>0,G18,G17),入力シート!$B$7:$F$206,2,0)))","v":""},null,{"$f":"IF(ISERROR(VLOOKUP(IF(G18<>0,G18,G17),入力シート!$B$7:$F$206,4,0)),\"\",IF(VLOOKUP(IF(G18<>0,G18,G17),入力シート!$B$7:$F$206,4,0)=0,\"\",VLOOKUP(IF(G18<>0,G18,G17),入力シート!$B$7:$F$206,4,0)))","v":""},{"$f":"IF(ISERROR(VLOOKUP(IF(G18<>0,G18,G17),入力シート!$B$7:$F$206,5,0)),\"\",IF(VLOOKUP(IF(G18<>0,G18,G17),入力シート!$B$7:$F$206,5,0)=0,\"\",VLOOKUP(IF(G18<>0,G18,G17),入力シート!$B$7:$F$206,5,0)))","v":""}]
[null,"住所",{"$f":"IF(ISERROR(VLOOKUP(IF(A19<>0,A19,A18),入力シート!$B$7:$F$206,3,0)),\"\",IF(VLOOKUP(IF(A19<>0,A19,A18),入力シート!$B$7:$F$206,3,0)=0,\"\",VLOOKUP(IF(A19<>0,A19,A18),入力シート!$B$7:$F$206,3,0)))","v":""},null,{"$f":"IF(ISERROR(VLOOKUP(IF(C19<>0,C19,C18),入力シート!$B$7:$F$206,2,0)),\"\",IF(VLOOKUP(IF(C19<>0,C19,C18),入力シート!$B$7:$F$206,2,0)=0,\"\",VLOOKUP(IF(C19<>0,C19,C18),入力シート!$B$7:$F$206,2,0)))","v":""},{"$f":"IF(ISERROR(VLOOKUP(IF(D19<>0,D19,D18),入力シート!$B$7:$F$206,2,0)),\"\",IF(VLOOKUP(IF(D19<>0,D19,D18),入力シート!$B$7:$F$206,2,0)=0,\"\",VLOOKUP(IF(D19<>0,D19,D18),入力シート!$B$7:$F$206,2,0)))","v":""},null,"住所",{"$f":"IF(ISERROR(VLOOKUP(IF(G19<>0,G19,G18),入力シート!$B$7:$F$206,3,0)),\"\",IF(VLOOKUP(IF(G19<>0,G19,G18),入力シート!$B$7:$F$206,3,0)=0,\"\",VLOOKUP(IF(G19<>0,G19,G18),入力シート!$B$7:$F$206,3,0)))","v":""},null,{"$f":"IF(ISERROR(VLOOKUP(IF(I19<>0,I19,I18),入力シート!$B$7:$F$206,2,0)),\"\",IF(VLOOKUP(IF(I19<>0,I19,I18),入力シート!$B$7:$F$206,2,0)=0,\"\",VLOOKUP(IF(I19<>0,I19,I18),入力シート!$B$7:$F$206,2,0)))","v":""},{"$f":"IF(ISERROR(VLOOKUP(IF(J19<>0,J19,J18),入力シート!$B$7:$F$206,2,0)),\"\",IF(VLOOKUP(IF(J19<>0,J19,J18),入力シート!$B$7:$F$206,2,0)=0,\"\",VLOOKUP(IF(J19<>0,J19,J18),入力シート!$B$7:$F$206,2,0)))","v":""}]
[8,"名称",{"$f":"IF(ISERROR(VLOOKUP(IF(A20<>0,A20,A19),入力シート!$B$7:$F$206,2,0)),\"\",IF(VLOOKUP(IF(A20<>0,A20,A19),入力シート!$B$7:$F$206,2,0)=0,\"\",VLOOKUP(IF(A20<>0,A20,A19),入力シート!$B$7:$F$206,2,0)))","v":""},null,{"$f":"IF(ISERROR(VLOOKUP(IF(A20<>0,A20,A19),入力シート!$B$7:$F$206,4,0)),\"\",IF(VLOOKUP(IF(A20<>0,A20,A19),入力シート!$B$7:$F$206,4,0)=0,\"\",VLOOKUP(IF(A20<>0,A20,A19),入力シート!$B$7:$F$206,4,0)))","v":""},{"$f":"IF(ISERROR(VLOOKUP(IF(A20<>0,A20,A19),入力シート!$B$7:$F$206,5,0)),\"\",IF(VLOOKUP(IF(A20<>0,A20,A19),入力シート!$B$7:$F$206,5,0)=0,\"\",VLOOKUP(IF(A20<>0,A20,A19),入力シート!$B$7:$F$206,5,0)))","v":""},18,"名称",{"$f":"IF(ISERROR(VLOOKUP(IF(G20<>0,G20,G19),入力シート!$B$7:$F$206,2,0)),\"\",IF(VLOOKUP(IF(G20<>0,G20,G19),入力シート!$B$7:$F$206,2,0)=0,\"\",VLOOKUP(IF(G20<>0,G20,G19),入力シート!$B$7:$F$206,2,0)))","v":""},null,{"$f":"IF(ISERROR(VLOOKUP(IF(G20<>0,G20,G19),入力シート!$B$7:$F$206,4,0)),\"\",IF(VLOOKUP(IF(G20<>0,G20,G19),入力シート!$B$7:$F$206,4,0)=0,\"\",VLOOKUP(IF(G20<>0,G20,G19),入力シート!$B$7:$F$206,4,0)))","v":""},{"$f":"IF(ISERROR(VLOOKUP(IF(G20<>0,G20,G19),入力シート!$B$7:$F$206,5,0)),\"\",IF(VLOOKUP(IF(G20<>0,G20,G19),入力シート!$B$7:$F$206,5,0)=0,\"\",VLOOKUP(IF(G20<>0,G20,G19),入力シート!$B$7:$F$206,5,0)))","v":""}]
[null,"住所",{"$f":"IF(ISERROR(VLOOKUP(IF(A21<>0,A21,A20),入力シート!$B$7:$F$206,3,0)),\"\",IF(VLOOKUP(IF(A21<>0,A21,A20),入力シート!$B$7:$F$206,3,0)=0,\"\",VLOOKUP(IF(A21<>0,A21,A20),入力シート!$B$7:$F$206,3,0)))","v":""},null,{"$f":"IF(ISERROR(VLOOKUP(IF(C21<>0,C21,C20),入力シート!$B$7:$F$206,2,0)),\"\",IF(VLOOKUP(IF(C21<>0,C21,C20),入力シート!$B$7:$F$206,2,0)=0,\"\",VLOOKUP(IF(C21<>0,C21,C20),入力シート!$B$7:$F$206,2,0)))","v":""},{"$f":"IF(ISERROR(VLOOKUP(IF(D21<>0,D21,D20),入力シート!$B$7:$F$206,2,0)),\"\",IF(VLOOKUP(IF(D21<>0,D21,D20),入力シート!$B$7:$F$206,2,0)=0,\"\",VLOOKUP(IF(D21<>0,D21,D20),入力シート!$B$7:$F$206,2,0)))","v":""},null,"住所",{"$f":"IF(ISERROR(VLOOKUP(IF(G21<>0,G21,G20),入力シート!$B$7:$F$206,3,0)),\"\",IF(VLOOKUP(IF(G21<>0,G21,G20),入力シート!$B$7:$F$206,3,0)=0,\"\",VLOOKUP(IF(G21<>0,G21,G20),入力シート!$B$7:$F$206,3,0)))","v":""},null,{"$f":"IF(ISERROR(VLOOKUP(IF(I21<>0,I21,I20),入力シート!$B$7:$F$206,2,0)),\"\",IF(VLOOKUP(IF(I21<>0,I21,I20),入力シート!$B$7:$F$206,2,0)=0,\"\",VLOOKUP(IF(I21<>0,I21,I20),入力シート!$B$7:$F$206,2,0)))","v":""},{"$f":"IF(ISERROR(VLOOKUP(IF(J21<>0,J21,J20),入力シート!$B$7:$F$206,2,0)),\"\",IF(VLOOKUP(IF(J21<>0,J21,J20),入力シート!$B$7:$F$206,2,0)=0,\"\",VLOOKUP(IF(J21<>0,J21,J20),入力シート!$B$7:$F$206,2,0)))","v":""}]
[9,"名称",{"$f":"IF(ISERROR(VLOOKUP(IF(A22<>0,A22,A21),入力シート!$B$7:$F$206,2,0)),\"\",IF(VLOOKUP(IF(A22<>0,A22,A21),入力シート!$B$7:$F$206,2,0)=0,\"\",VLOOKUP(IF(A22<>0,A22,A21),入力シート!$B$7:$F$206,2,0)))","v":""},null,{"$f":"IF(ISERROR(VLOOKUP(IF(A22<>0,A22,A21),入力シート!$B$7:$F$206,4,0)),\"\",IF(VLOOKUP(IF(A22<>0,A22,A21),入力シート!$B$7:$F$206,4,0)=0,\"\",VLOOKUP(IF(A22<>0,A22,A21),入力シート!$B$7:$F$206,4,0)))","v":""},{"$f":"IF(ISERROR(VLOOKUP(IF(A22<>0,A22,A21),入力シート!$B$7:$F$206,5,0)),\"\",IF(VLOOKUP(IF(A22<>0,A22,A21),入力シート!$B$7:$F$206,5,0)=0,\"\",VLOOKUP(IF(A22<>0,A22,A21),入力シート!$B$7:$F$206,5,0)))","v":""},19,"名称",{"$f":"IF(ISERROR(VLOOKUP(IF(G22<>0,G22,G21),入力シート!$B$7:$F$206,2,0)),\"\",IF(VLOOKUP(IF(G22<>0,G22,G21),入力シート!$B$7:$F$206,2,0)=0,\"\",VLOOKUP(IF(G22<>0,G22,G21),入力シート!$B$7:$F$206,2,0)))","v":""},null,{"$f":"IF(ISERROR(VLOOKUP(IF(G22<>0,G22,G21),入力シート!$B$7:$F$206,4,0)),\"\",IF(VLOOKUP(IF(G22<>0,G22,G21),入力シート!$B$7:$F$206,4,0)=0,\"\",VLOOKUP(IF(G22<>0,G22,G21),入力シート!$B$7:$F$206,4,0)))","v":""},{"$f":"IF(ISERROR(VLOOKUP(IF(G22<>0,G22,G21),入力シート!$B$7:$F$206,5,0)),\"\",IF(VLOOKUP(IF(G22<>0,G22,G21),入力シート!$B$7:$F$206,5,0)=0,\"\",VLOOKUP(IF(G22<>0,G22,G21),入力シート!$B$7:$F$206,5,0)))","v":""}]
[null,"住所",{"$f":"IF(ISERROR(VLOOKUP(IF(A23<>0,A23,A22),入力シート!$B$7:$F$206,3,0)),\"\",IF(VLOOKUP(IF(A23<>0,A23,A22),入力シート!$B$7:$F$206,3,0)=0,\"\",VLOOKUP(IF(A23<>0,A23,A22),入力シート!$B$7:$F$206,3,0)))","v":""},null,{"$f":"IF(ISERROR(VLOOKUP(IF(C23<>0,C23,C22),入力シート!$B$7:$F$206,2,0)),\"\",IF(VLOOKUP(IF(C23<>0,C23,C22),入力シート!$B$7:$F$206,2,0)=0,\"\",VLOOKUP(IF(C23<>0,C23,C22),入力シート!$B$7:$F$206,2,0)))","v":""},{"$f":"IF(ISERROR(VLOOKUP(IF(D23<>0,D23,D22),入力シート!$B$7:$F$206,2,0)),\"\",IF(VLOOKUP(IF(D23<>0,D23,D22),入力シート!$B$7:$F$206,2,0)=0,\"\",VLOOKUP(IF(D23<>0,D23,D22),入力シート!$B$7:$F$206,2,0)))","v":""},null,"住所",{"$f":"IF(ISERROR(VLOOKUP(IF(G23<>0,G23,G22),入力シート!$B$7:$F$206,3,0)),\"\",IF(VLOOKUP(IF(G23<>0,G23,G22),入力シート!$B$7:$F$206,3,0)=0,\"\",VLOOKUP(IF(G23<>0,G23,G22),入力シート!$B$7:$F$206,3,0)))","v":""},null,{"$f":"IF(ISERROR(VLOOKUP(IF(I23<>0,I23,I22),入力シート!$B$7:$F$206,2,0)),\"\",IF(VLOOKUP(IF(I23<>0,I23,I22),入力シート!$B$7:$F$206,2,0)=0,\"\",VLOOKUP(IF(I23<>0,I23,I22),入力シート!$B$7:$F$206,2,0)))","v":""},{"$f":"IF(ISERROR(VLOOKUP(IF(J23<>0,J23,J22),入力シート!$B$7:$F$206,2,0)),\"\",IF(VLOOKUP(IF(J23<>0,J23,J22),入力シート!$B$7:$F$206,2,0)=0,\"\",VLOOKUP(IF(J23<>0,J23,J22),入力シート!$B$7:$F$206,2,0)))","v":""}]
[10,"名称",{"$f":"IF(ISERROR(VLOOKUP(IF(A24<>0,A24,A23),入力シート!$B$7:$F$206,2,0)),\"\",IF(VLOOKUP(IF(A24<>0,A24,A23),入力シート!$B$7:$F$206,2,0)=0,\"\",VLOOKUP(IF(A24<>0,A24,A23),入力シート!$B$7:$F$206,2,0)))","v":""},null,{"$f":"IF(ISERROR(VLOOKUP(IF(A24<>0,A24,A23),入力シート!$B$7:$F$206,4,0)),\"\",IF(VLOOKUP(IF(A24<>0,A24,A23),入力シート!$B$7:$F$206,4,0)=0,\"\",VLOOKUP(IF(A24<>0,A24,A23),入力シート!$B$7:$F$206,4,0)))","v":""},{"$f":"IF(ISERROR(VLOOKUP(IF(A24<>0,A24,A23),入力シート!$B$7:$F$206,5,0)),\"\",IF(VLOOKUP(IF(A24<>0,A24,A23),入力シート!$B$7:$F$206,5,0)=0,\"\",VLOOKUP(IF(A24<>0,A24,A23),入力シート!$B$7:$F$206,5,0)))","v":""},20,"名称",{"$f":"IF(ISERROR(VLOOKUP(IF(G24<>0,G24,G23),入力シート!$B$7:$F$206,2,0)),\"\",IF(VLOOKUP(IF(G24<>0,G24,G23),入力シート!$B$7:$F$206,2,0)=0,\"\",VLOOKUP(IF(G24<>0,G24,G23),入力シート!$B$7:$F$206,2,0)))","v":""},null,{"$f":"IF(ISERROR(VLOOKUP(IF(G24<>0,G24,G23),入力シート!$B$7:$F$206,4,0)),\"\",IF(VLOOKUP(IF(G24<>0,G24,G23),入力シート!$B$7:$F$206,4,0)=0,\"\",VLOOKUP(IF(G24<>0,G24,G23),入力シート!$B$7:$F$206,4,0)))","v":""},{"$f":"IF(ISERROR(VLOOKUP(IF(G24<>0,G24,G23),入力シート!$B$7:$F$206,5,0)),\"\",IF(VLOOKUP(IF(G24<>0,G24,G23),入力シート!$B$7:$F$206,5,0)=0,\"\",VLOOKUP(IF(G24<>0,G24,G23),入力シート!$B$7:$F$206,5,0)))","v":""}]
[null,"住所",{"$f":"IF(ISERROR(VLOOKUP(IF(A25<>0,A25,A24),入力シート!$B$7:$F$206,3,0)),\"\",IF(VLOOKUP(IF(A25<>0,A25,A24),入力シート!$B$7:$F$206,3,0)=0,\"\",VLOOKUP(IF(A25<>0,A25,A24),入力シート!$B$7:$F$206,3,0)))","v":""},null,{"$f":"IF(ISERROR(VLOOKUP(IF(C25<>0,C25,C24),入力シート!$B$7:$F$206,2,0)),\"\",IF(VLOOKUP(IF(C25<>0,C25,C24),入力シート!$B$7:$F$206,2,0)=0,\"\",VLOOKUP(IF(C25<>0,C25,C24),入力シート!$B$7:$F$206,2,0)))","v":""},{"$f":"IF(ISERROR(VLOOKUP(IF(D25<>0,D25,D24),入力シート!$B$7:$F$206,2,0)),\"\",IF(VLOOKUP(IF(D25<>0,D25,D24),入力シート!$B$7:$F$206,2,0)=0,\"\",VLOOKUP(IF(D25<>0,D25,D24),入力シート!$B$7:$F$206,2,0)))","v":""},null,"住所",{"$f":"IF(ISERROR(VLOOKUP(IF(G25<>0,G25,G24),入力シート!$B$7:$F$206,3,0)),\"\",IF(VLOOKUP(IF(G25<>0,G25,G24),入力シート!$B$7:$F$206,3,0)=0,\"\",VLOOKUP(IF(G25<>0,G25,G24),入力シート!$B$7:$F$206,3,0)))","v":""},null,{"$f":"IF(ISERROR(VLOOKUP(IF(I25<>0,I25,I24),入力シート!$B$7:$F$206,2,0)),\"\",IF(VLOOKUP(IF(I25<>0,I25,I24),入力シート!$B$7:$F$206,2,0)=0,\"\",VLOOKUP(IF(I25<>0,I25,I24),入力シート!$B$7:$F$206,2,0)))","v":""},{"$f":"IF(ISERROR(VLOOKUP(IF(J25<>0,J25,J24),入力シート!$B$7:$F$206,2,0)),\"\",IF(VLOOKUP(IF(J25<>0,J25,J24),入力シート!$B$7:$F$206,2,0)=0,\"\",VLOOKUP(IF(J25<>0,J25,J24),入力シート!$B$7:$F$206,2,0)))","v":""}]
["（注）","1.本名簿には、配送事業者がＬＰガス配送を受託しているＬＰガス販売事業者をすべて記入する。",null,null,null,null,null,"小　　計（このページの合計）",null,null,{"$f":"SUM(E6:E25,K6:K25)","v":0},{"$f":"SUM(F6:F25,L6:L25)","v":0}]
[null,"2.ＬＰガス配送受託販売所の名称欄には企業名、販売所名を明記し、住所欄には当該販売所の住所を記入する。"]
[null,"3.保険契約加入依頼の際、依頼書に本名簿（保険会社用、事業団用、都道府県協会用）を添付して提出する。",null,null,null,null,null,"配送事業所ごとの合計",null,null,{"$f":"SUM(K26,K54,K81,K108,K135,K162,K189,K216,K243,K270)","v":0},{"$f":"ROUNDDOWN(SUM(L26,L54,L81,L108,L135,L162,L189,L216,L243,L270,),0)","v":0}]
[null,"4.支部が事業団に加入依頼書を送付する際、２部（保険会社用、事業団用）を添付する。"]
[null,null,null,null,null,null,null,null,null,null,null,"＊１トン未満切り捨て"]
[null,null,null,null,null,null,null,null,null,null,2,{"$f":"COUNTIF($L$26,\">0\")+COUNTIF($L$54,\">0\")+COUNTIF($L$81,\">0\")+COUNTIF($L$108,\">0\")+COUNTIF($L$135,\">0\")+COUNTIF($L$162,\">0\")+COUNTIF($L$189,\">0\")+COUNTIF($L$216,\">0\")+COUNTIF($L$243,\">0\")+COUNTIF($L$270,\">0\")","v":0}]
["LPガス配送",null,null,"名　　　　称","配送契約の内容",null,"LPガス配送",null,null,"名　　　　称","配送契約の内容"]
["受託販売所",null,null,"住　　　　所","配　送　先\n消費者戸数","1か年間の\n配送トン数","受託販売所",null,null,"住　　　　所","配　送　先\n消費者戸数","1か年間の\n配送トン数"]
[21,"名称",{"$f":"IF(ISERROR(VLOOKUP(IF(A34<>0,A34,A33),入力シート!$B$7:$F$206,2,0)),\"\",IF(VLOOKUP(IF(A34<>0,A34,A33),入力シート!$B$7:$F$206,2,0)=0,\"\",VLOOKUP(IF(A34<>0,A34,A33),入力シート!$B$7:$F$206,2,0)))","v":""},null,{"$f":"IF(ISERROR(VLOOKUP(IF(A34<>0,A34,A33),入力シート!$B$7:$F$206,4,0)),\"\",IF(VLOOKUP(IF(A34<>0,A34,A33),入力シート!$B$7:$F$206,4,0)=0,\"\",VLOOKUP(IF(A34<>0,A34,A33),入力シート!$B$7:$F$206,4,0)))","v":""},{"$f":"IF(ISERROR(VLOOKUP(IF(A34<>0,A34,A33),入力シート!$B$7:$F$206,5,0)),\"\",IF(VLOOKUP(IF(A34<>0,A34,A33),入力シート!$B$7:$F$206,5,0)=0,\"\",VLOOKUP(IF(A34<>0,A34,A33),入力シート!$B$7:$F$206,5,0)))","v":""},31,"名称",{"$f":"IF(ISERROR(VLOOKUP(IF(G34<>0,G34,G33),入力シート!$B$7:$F$206,2,0)),\"\",IF(VLOOKUP(IF(G34<>0,G34,G33),入力シート!$B$7:$F$206,2,0)=0,\"\",VLOOKUP(IF(G34<>0,G34,G33),入力シート!$B$7:$F$206,2,0)))","v":""},null,{"$f":"IF(ISERROR(VLOOKUP(IF(G34<>0,G34,G33),入力シート!$B$7:$F$206,4,0)),\"\",IF(VLOOKUP(IF(G34<>0,G34,G33),入力シート!$B$7:$F$206,4,0)=0,\"\",VLOOKUP(IF(G34<>0,G34,G33),入力シート!$B$7:$F$206,4,0)))","v":""},{"$f":"IF(ISERROR(VLOOKUP(IF(G34<>0,G34,G33),入力シート!$B$7:$F$206,5,0)),\"\",IF(VLOOKUP(IF(G34<>0,G34,G33),入力シート!$B$7:$F$206,5,0)=0,\"\",VLOOKUP(IF(G34<>0,G34,G33),入力シート!$B$7:$F$206,5,0)))","v":""}]
[null,"住所",{"$f":"IF(ISERROR(VLOOKUP(IF(A35<>0,A35,A34),入力シート!$B$7:$F$206,3,0)),\"\",IF(VLOOKUP(IF(A35<>0,A35,A34),入力シート!$B$7:$F$206,3,0)=0,\"\",VLOOKUP(IF(A35<>0,A35,A34),入力シート!$B$7:$F$206,3,0)))","v":""},null,{"$f":"IF(ISERROR(VLOOKUP(IF(C35<>0,C35,C34),入力シート!$B$7:$F$206,2,0)),\"\",IF(VLOOKUP(IF(C35<>0,C35,C34),入力シート!$B$7:$F$206,2,0)=0,\"\",VLOOKUP(IF(C35<>0,C35,C34),入力シート!$B$7:$F$206,2,0)))","v":""},{"$f":"IF(ISERROR(VLOOKUP(IF(D35<>0,D35,D34),入力シート!$B$7:$F$206,2,0)),\"\",IF(VLOOKUP(IF(D35<>0,D35,D34),入力シート!$B$7:$F$206,2,0)=0,\"\",VLOOKUP(IF(D35<>0,D35,D34),入力シート!$B$7:$F$206,2,0)))","v":""},null,"住所",{"$f":"IF(ISERROR(VLOOKUP(IF(G35<>0,G35,G34),入力シート!$B$7:$F$206,3,0)),\"\",IF(VLOOKUP(IF(G35<>0,G35,G34),入力シート!$B$7:$F$206,3,0)=0,\"\",VLOOKUP(IF(G35<>0,G35,G34),入力シート!$B$7:$F$206,3,0)))","v":""},null,{"$f":"IF(ISERROR(VLOOKUP(IF(I35<>0,I35,I34),入力シート!$B$7:$F$206,2,0)),\"\",IF(VLOOKUP(IF(I35<>0,I35,I34),入力シート!$B$7:$F$206,2,0)=0,\"\",VLOOKUP(IF(I35<>0,I35,I34),入力シート!$B$7:$F$206,2,0)))","v":""},{"$f":"IF(ISERROR(VLOOKUP(IF(J35<>0,J35,J34),入力シート!$B$7:$F$206,2,0)),\"\",IF(VLOOKUP(IF(J35<>0,J35,J34),入力シート!$B$7:$F$206,2,0)=0,\"\",VLOOKUP(IF(J35<>0,J35,J34),入力シート!$B$7:$F$206,2,0)))","v":""}]
[22,"名称",{"$f":"IF(ISERROR(VLOOKUP(IF(A36<>0,A36,A35),入力シート!$B$7:$F$206,2,0)),\"\",IF(VLOOKUP(IF(A36<>0,A36,A35),入力シート!$B$7:$F$206,2,0)=0,\"\",VLOOKUP(IF(A36<>0,A36,A35),入力シート!$B$7:$F$206,2,0)))","v":""},null,{"$f":"IF(ISERROR(VLOOKUP(IF(A36<>0,A36,A35),入力シート!$B$7:$F$206,4,0)),\"\",IF(VLOOKUP(IF(A36<>0,A36,A35),入力シート!$B$7:$F$206,4,0)=0,\"\",VLOOKUP(IF(A36<>0,A36,A35),入力シート!$B$7:$F$206,4,0)))","v":""},{"$f":"IF(ISERROR(VLOOKUP(IF(A36<>0,A36,A35),入力シート!$B$7:$F$206,5,0)),\"\",IF(VLOOKUP(IF(A36<>0,A36,A35),入力シート!$B$7:$F$206,5,0)=0,\"\",VLOOKUP(IF(A36<>0,A36,A35),入力シート!$B$7:$F$206,5,0)))","v":""},32,"名称",{"$f":"IF(ISERROR(VLOOKUP(IF(G36<>0,G36,G35),入力シート!$B$7:$F$206,2,0)),\"\",IF(VLOOKUP(IF(G36<>0,G36,G35),入力シート!$B$7:$F$206,2,0)=0,\"\",VLOOKUP(IF(G36<>0,G36,G35),入力シート!$B$7:$F$206,2,0)))","v":""},null,{"$f":"IF(ISERROR(VLOOKUP(IF(G36<>0,G36,G35),入力シート!$B$7:$F$206,4,0)),\"\",IF(VLOOKUP(IF(G36<>0,G36,G35),入力シート!$B$7:$F$206,4,0)=0,\"\",VLOOKUP(IF(G36<>0,G36,G35),入力シート!$B$7:$F$206,4,0)))","v":""},{"$f":"IF(ISERROR(VLOOKUP(IF(G36<>0,G36,G35),入力シート!$B$7:$F$206,5,0)),\"\",IF(VLOOKUP(IF(G36<>0,G36,G35),入力シート!$B$7:$F$206,5,0)=0,\"\",VLOOKUP(IF(G36<>0,G36,G35),入力シート!$B$7:$F$206,5,0)))","v":""}]
[null,"住所",{"$f":"IF(ISERROR(VLOOKUP(IF(A37<>0,A37,A36),入力シート!$B$7:$F$206,3,0)),\"\",IF(VLOOKUP(IF(A37<>0,A37,A36),入力シート!$B$7:$F$206,3,0)=0,\"\",VLOOKUP(IF(A37<>0,A37,A36),入力シート!$B$7:$F$206,3,0)))","v":""},null,{"$f":"IF(ISERROR(VLOOKUP(IF(C37<>0,C37,C36),入力シート!$B$7:$F$206,2,0)),\"\",IF(VLOOKUP(IF(C37<>0,C37,C36),入力シート!$B$7:$F$206,2,0)=0,\"\",VLOOKUP(IF(C37<>0,C37,C36),入力シート!$B$7:$F$206,2,0)))","v":""},{"$f":"IF(ISERROR(VLOOKUP(IF(D37<>0,D37,D36),入力シート!$B$7:$F$206,2,0)),\"\",IF(VLOOKUP(IF(D37<>0,D37,D36),入力シート!$B$7:$F$206,2,0)=0,\"\",VLOOKUP(IF(D37<>0,D37,D36),入力シート!$B$7:$F$206,2,0)))","v":""},null,"住所",{"$f":"IF(ISERROR(VLOOKUP(IF(G37<>0,G37,G36),入力シート!$B$7:$F$206,3,0)),\"\",IF(VLOOKUP(IF(G37<>0,G37,G36),入力シート!$B$7:$F$206,3,0)=0,\"\",VLOOKUP(IF(G37<>0,G37,G36),入力シート!$B$7:$F$206,3,0)))","v":""},null,{"$f":"IF(ISERROR(VLOOKUP(IF(I37<>0,I37,I36),入力シート!$B$7:$F$206,2,0)),\"\",IF(VLOOKUP(IF(I37<>0,I37,I36),入力シート!$B$7:$F$206,2,0)=0,\"\",VLOOKUP(IF(I37<>0,I37,I36),入力シート!$B$7:$F$206,2,0)))","v":""},{"$f":"IF(ISERROR(VLOOKUP(IF(J37<>0,J37,J36),入力シート!$B$7:$F$206,2,0)),\"\",IF(VLOOKUP(IF(J37<>0,J37,J36),入力シート!$B$7:$F$206,2,0)=0,\"\",VLOOKUP(IF(J37<>0,J37,J36),入力シート!$B$7:$F$206,2,0)))","v":""}]
[23,"名称",{"$f":"IF(ISERROR(VLOOKUP(IF(A38<>0,A38,A37),入力シート!$B$7:$F$206,2,0)),\"\",IF(VLOOKUP(IF(A38<>0,A38,A37),入力シート!$B$7:$F$206,2,0)=0,\"\",VLOOKUP(IF(A38<>0,A38,A37),入力シート!$B$7:$F$206,2,0)))","v":""},null,{"$f":"IF(ISERROR(VLOOKUP(IF(A38<>0,A38,A37),入力シート!$B$7:$F$206,4,0)),\"\",IF(VLOOKUP(IF(A38<>0,A38,A37),入力シート!$B$7:$F$206,4,0)=0,\"\",VLOOKUP(IF(A38<>0,A38,A37),入力シート!$B$7:$F$206,4,0)))","v":""},{"$f":"IF(ISERROR(VLOOKUP(IF(A38<>0,A38,A37),入力シート!$B$7:$F$206,5,0)),\"\",IF(VLOOKUP(IF(A38<>0,A38,A37),入力シート!$B$7:$F$206,5,0)=0,\"\",VLOOKUP(IF(A38<>0,A38,A37),入力シート!$B$7:$F$206,5,0)))","v":""},33,"名称",{"$f":"IF(ISERROR(VLOOKUP(IF(G38<>0,G38,G37),入力シート!$B$7:$F$206,2,0)),\"\",IF(VLOOKUP(IF(G38<>0,G38,G37),入力シート!$B$7:$F$206,2,0)=0,\"\",VLOOKUP(IF(G38<>0,G38,G37),入力シート!$B$7:$F$206,2,0)))","v":""},null,{"$f":"IF(ISERROR(VLOOKUP(IF(G38<>0,G38,G37),入力シート!$B$7:$F$206,4,0)),\"\",IF(VLOOKUP(IF(G38<>0,G38,G37),入力シート!$B$7:$F$206,4,0)=0,\"\",VLOOKUP(IF(G38<>0,G38,G37),入力シート!$B$7:$F$206,4,0)))","v":""},{"$f":"IF(ISERROR(VLOOKUP(IF(G38<>0,G38,G37),入力シート!$B$7:$F$206,5,0)),\"\",IF(VLOOKUP(IF(G38<>0,G38,G37),入力シート!$B$7:$F$206,5,0)=0,\"\",VLOOKUP(IF(G38<>0,G38,G37),入力シート!$B$7:$F$206,5,0)))","v":""}]
[null,"住所",{"$f":"IF(ISERROR(VLOOKUP(IF(A39<>0,A39,A38),入力シート!$B$7:$F$206,3,0)),\"\",IF(VLOOKUP(IF(A39<>0,A39,A38),入力シート!$B$7:$F$206,3,0)=0,\"\",VLOOKUP(IF(A39<>0,A39,A38),入力シート!$B$7:$F$206,3,0)))","v":""},null,{"$f":"IF(ISERROR(VLOOKUP(IF(C39<>0,C39,C38),入力シート!$B$7:$F$206,2,0)),\"\",IF(VLOOKUP(IF(C39<>0,C39,C38),入力シート!$B$7:$F$206,2,0)=0,\"\",VLOOKUP(IF(C39<>0,C39,C38),入力シート!$B$7:$F$206,2,0)))","v":""},{"$f":"IF(ISERROR(VLOOKUP(IF(D39<>0,D39,D38),入力シート!$B$7:$F$206,2,0)),\"\",IF(VLOOKUP(IF(D39<>0,D39,D38),入力シート!$B$7:$F$206,2,0)=0,\"\",VLOOKUP(IF(D39<>0,D39,D38),入力シート!$B$7:$F$206,2,0)))","v":""},null,"住所",{"$f":"IF(ISERROR(VLOOKUP(IF(G39<>0,G39,G38),入力シート!$B$7:$F$206,3,0)),\"\",IF(VLOOKUP(IF(G39<>0,G39,G38),入力シート!$B$7:$F$206,3,0)=0,\"\",VLOOKUP(IF(G39<>0,G39,G38),入力シート!$B$7:$F$206,3,0)))","v":""},null,{"$f":"IF(ISERROR(VLOOKUP(IF(I39<>0,I39,I38),入力シート!$B$7:$F$206,2,0)),\"\",IF(VLOOKUP(IF(I39<>0,I39,I38),入力シート!$B$7:$F$206,2,0)=0,\"\",VLOOKUP(IF(I39<>0,I39,I38),入力シート!$B$7:$F$206,2,0)))","v":""},{"$f":"IF(ISERROR(VLOOKUP(IF(J39<>0,J39,J38),入力シート!$B$7:$F$206,2,0)),\"\",IF(VLOOKUP(IF(J39<>0,J39,J38),入力シート!$B$7:$F$206,2,0)=0,\"\",VLOOKUP(IF(J39<>0,J39,J38),入力シート!$B$7:$F$206,2,0)))","v":""}]
[24,"名称",{"$f":"IF(ISERROR(VLOOKUP(IF(A40<>0,A40,A39),入力シート!$B$7:$F$206,2,0)),\"\",IF(VLOOKUP(IF(A40<>0,A40,A39),入力シート!$B$7:$F$206,2,0)=0,\"\",VLOOKUP(IF(A40<>0,A40,A39),入力シート!$B$7:$F$206,2,0)))","v":""},null,{"$f":"IF(ISERROR(VLOOKUP(IF(A40<>0,A40,A39),入力シート!$B$7:$F$206,4,0)),\"\",IF(VLOOKUP(IF(A40<>0,A40,A39),入力シート!$B$7:$F$206,4,0)=0,\"\",VLOOKUP(IF(A40<>0,A40,A39),入力シート!$B$7:$F$206,4,0)))","v":""},{"$f":"IF(ISERROR(VLOOKUP(IF(A40<>0,A40,A39),入力シート!$B$7:$F$206,5,0)),\"\",IF(VLOOKUP(IF(A40<>0,A40,A39),入力シート!$B$7:$F$206,5,0)=0,\"\",VLOOKUP(IF(A40<>0,A40,A39),入力シート!$B$7:$F$206,5,0)))","v":""},34,"名称",{"$f":"IF(ISERROR(VLOOKUP(IF(G40<>0,G40,G39),入力シート!$B$7:$F$206,2,0)),\"\",IF(VLOOKUP(IF(G40<>0,G40,G39),入力シート!$B$7:$F$206,2,0)=0,\"\",VLOOKUP(IF(G40<>0,G40,G39),入力シート!$B$7:$F$206,2,0)))","v":""},null,{"$f":"IF(ISERROR(VLOOKUP(IF(G40<>0,G40,G39),入力シート!$B$7:$F$206,4,0)),\"\",IF(VLOOKUP(IF(G40<>0,G40,G39),入力シート!$B$7:$F$206,4,0)=0,\"\",VLOOKUP(IF(G40<>0,G40,G39),入力シート!$B$7:$F$206,4,0)))","v":""},{"$f":"IF(ISERROR(VLOOKUP(IF(G40<>0,G40,G39),入力シート!$B$7:$F$206,5,0)),\"\",IF(VLOOKUP(IF(G40<>0,G40,G39),入力シート!$B$7:$F$206,5,0)=0,\"\",VLOOKUP(IF(G40<>0,G40,G39),入力シート!$B$7:$F$206,5,0)))","v":""}]
[null,"住所",{"$f":"IF(ISERROR(VLOOKUP(IF(A41<>0,A41,A40),入力シート!$B$7:$F$206,3,0)),\"\",IF(VLOOKUP(IF(A41<>0,A41,A40),入力シート!$B$7:$F$206,3,0)=0,\"\",VLOOKUP(IF(A41<>0,A41,A40),入力シート!$B$7:$F$206,3,0)))","v":""},null,{"$f":"IF(ISERROR(VLOOKUP(IF(C41<>0,C41,C40),入力シート!$B$7:$F$206,2,0)),\"\",IF(VLOOKUP(IF(C41<>0,C41,C40),入力シート!$B$7:$F$206,2,0)=0,\"\",VLOOKUP(IF(C41<>0,C41,C40),入力シート!$B$7:$F$206,2,0)))","v":""},{"$f":"IF(ISERROR(VLOOKUP(IF(D41<>0,D41,D40),入力シート!$B$7:$F$206,2,0)),\"\",IF(VLOOKUP(IF(D41<>0,D41,D40),入力シート!$B$7:$F$206,2,0)=0,\"\",VLOOKUP(IF(D41<>0,D41,D40),入力シート!$B$7:$F$206,2,0)))","v":""},null,"住所",{"$f":"IF(ISERROR(VLOOKUP(IF(G41<>0,G41,G40),入力シート!$B$7:$F$206,3,0)),\"\",IF(VLOOKUP(IF(G41<>0,G41,G40),入力シート!$B$7:$F$206,3,0)=0,\"\",VLOOKUP(IF(G41<>0,G41,G40),入力シート!$B$7:$F$206,3,0)))","v":""},null,{"$f":"IF(ISERROR(VLOOKUP(IF(I41<>0,I41,I40),入力シート!$B$7:$F$206,2,0)),\"\",IF(VLOOKUP(IF(I41<>0,I41,I40),入力シート!$B$7:$F$206,2,0)=0,\"\",VLOOKUP(IF(I41<>0,I41,I40),入力シート!$B$7:$F$206,2,0)))","v":""},{"$f":"IF(ISERROR(VLOOKUP(IF(J41<>0,J41,J40),入力シート!$B$7:$F$206,2,0)),\"\",IF(VLOOKUP(IF(J41<>0,J41,J40),入力シート!$B$7:$F$206,2,0)=0,\"\",VLOOKUP(IF(J41<>0,J41,J40),入力シート!$B$7:$F$206,2,0)))","v":""}]
[25,"名称",{"$f":"IF(ISERROR(VLOOKUP(IF(A42<>0,A42,A41),入力シート!$B$7:$F$206,2,0)),\"\",IF(VLOOKUP(IF(A42<>0,A42,A41),入力シート!$B$7:$F$206,2,0)=0,\"\",VLOOKUP(IF(A42<>0,A42,A41),入力シート!$B$7:$F$206,2,0)))","v":""},null,{"$f":"IF(ISERROR(VLOOKUP(IF(A42<>0,A42,A41),入力シート!$B$7:$F$206,4,0)),\"\",IF(VLOOKUP(IF(A42<>0,A42,A41),入力シート!$B$7:$F$206,4,0)=0,\"\",VLOOKUP(IF(A42<>0,A42,A41),入力シート!$B$7:$F$206,4,0)))","v":""},{"$f":"IF(ISERROR(VLOOKUP(IF(A42<>0,A42,A41),入力シート!$B$7:$F$206,5,0)),\"\",IF(VLOOKUP(IF(A42<>0,A42,A41),入力シート!$B$7:$F$206,5,0)=0,\"\",VLOOKUP(IF(A42<>0,A42,A41),入力シート!$B$7:$F$206,5,0)))","v":""},35,"名称",{"$f":"IF(ISERROR(VLOOKUP(IF(G42<>0,G42,G41),入力シート!$B$7:$F$206,2,0)),\"\",IF(VLOOKUP(IF(G42<>0,G42,G41),入力シート!$B$7:$F$206,2,0)=0,\"\",VLOOKUP(IF(G42<>0,G42,G41),入力シート!$B$7:$F$206,2,0)))","v":""},null,{"$f":"IF(ISERROR(VLOOKUP(IF(G42<>0,G42,G41),入力シート!$B$7:$F$206,4,0)),\"\",IF(VLOOKUP(IF(G42<>0,G42,G41),入力シート!$B$7:$F$206,4,0)=0,\"\",VLOOKUP(IF(G42<>0,G42,G41),入力シート!$B$7:$F$206,4,0)))","v":""},{"$f":"IF(ISERROR(VLOOKUP(IF(G42<>0,G42,G41),入力シート!$B$7:$F$206,5,0)),\"\",IF(VLOOKUP(IF(G42<>0,G42,G41),入力シート!$B$7:$F$206,5,0)=0,\"\",VLOOKUP(IF(G42<>0,G42,G41),入力シート!$B$7:$F$206,5,0)))","v":""}]
[null,"住所",{"$f":"IF(ISERROR(VLOOKUP(IF(A43<>0,A43,A42),入力シート!$B$7:$F$206,3,0)),\"\",IF(VLOOKUP(IF(A43<>0,A43,A42),入力シート!$B$7:$F$206,3,0)=0,\"\",VLOOKUP(IF(A43<>0,A43,A42),入力シート!$B$7:$F$206,3,0)))","v":""},null,{"$f":"IF(ISERROR(VLOOKUP(IF(C43<>0,C43,C42),入力シート!$B$7:$F$206,2,0)),\"\",IF(VLOOKUP(IF(C43<>0,C43,C42),入力シート!$B$7:$F$206,2,0)=0,\"\",VLOOKUP(IF(C43<>0,C43,C42),入力シート!$B$7:$F$206,2,0)))","v":""},{"$f":"IF(ISERROR(VLOOKUP(IF(D43<>0,D43,D42),入力シート!$B$7:$F$206,2,0)),\"\",IF(VLOOKUP(IF(D43<>0,D43,D42),入力シート!$B$7:$F$206,2,0)=0,\"\",VLOOKUP(IF(D43<>0,D43,D42),入力シート!$B$7:$F$206,2,0)))","v":""},null,"住所",{"$f":"IF(ISERROR(VLOOKUP(IF(G43<>0,G43,G42),入力シート!$B$7:$F$206,3,0)),\"\",IF(VLOOKUP(IF(G43<>0,G43,G42),入力シート!$B$7:$F$206,3,0)=0,\"\",VLOOKUP(IF(G43<>0,G43,G42),入力シート!$B$7:$F$206,3,0)))","v":""},null,{"$f":"IF(ISERROR(VLOOKUP(IF(I43<>0,I43,I42),入力シート!$B$7:$F$206,2,0)),\"\",IF(VLOOKUP(IF(I43<>0,I43,I42),入力シート!$B$7:$F$206,2,0)=0,\"\",VLOOKUP(IF(I43<>0,I43,I42),入力シート!$B$7:$F$206,2,0)))","v":""},{"$f":"IF(ISERROR(VLOOKUP(IF(J43<>0,J43,J42),入力シート!$B$7:$F$206,2,0)),\"\",IF(VLOOKUP(IF(J43<>0,J43,J42),入力シート!$B$7:$F$206,2,0)=0,\"\",VLOOKUP(IF(J43<>0,J43,J42),入力シート!$B$7:$F$206,2,0)))","v":""}]
[26,"名称",{"$f":"IF(ISERROR(VLOOKUP(IF(A44<>0,A44,A43),入力シート!$B$7:$F$206,2,0)),\"\",IF(VLOOKUP(IF(A44<>0,A44,A43),入力シート!$B$7:$F$206,2,0)=0,\"\",VLOOKUP(IF(A44<>0,A44,A43),入力シート!$B$7:$F$206,2,0)))","v":""},null,{"$f":"IF(ISERROR(VLOOKUP(IF(A44<>0,A44,A43),入力シート!$B$7:$F$206,4,0)),\"\",IF(VLOOKUP(IF(A44<>0,A44,A43),入力シート!$B$7:$F$206,4,0)=0,\"\",VLOOKUP(IF(A44<>0,A44,A43),入力シート!$B$7:$F$206,4,0)))","v":""},{"$f":"IF(ISERROR(VLOOKUP(IF(A44<>0,A44,A43),入力シート!$B$7:$F$206,5,0)),\"\",IF(VLOOKUP(IF(A44<>0,A44,A43),入力シート!$B$7:$F$206,5,0)=0,\"\",VLOOKUP(IF(A44<>0,A44,A43),入力シート!$B$7:$F$206,5,0)))","v":""},36,"名称",{"$f":"IF(ISERROR(VLOOKUP(IF(G44<>0,G44,G43),入力シート!$B$7:$F$206,2,0)),\"\",IF(VLOOKUP(IF(G44<>0,G44,G43),入力シート!$B$7:$F$206,2,0)=0,\"\",VLOOKUP(IF(G44<>0,G44,G43),入力シート!$B$7:$F$206,2,0)))","v":""},null,{"$f":"IF(ISERROR(VLOOKUP(IF(G44<>0,G44,G43),入力シート!$B$7:$F$206,4,0)),\"\",IF(VLOOKUP(IF(G44<>0,G44,G43),入力シート!$B$7:$F$206,4,0)=0,\"\",VLOOKUP(IF(G44<>0,G44,G43),入力シート!$B$7:$F$206,4,0)))","v":""},{"$f":"IF(ISERROR(VLOOKUP(IF(G44<>0,G44,G43),入力シート!$B$7:$F$206,5,0)),\"\",IF(VLOOKUP(IF(G44<>0,G44,G43),入力シート!$B$7:$F$206,5,0)=0,\"\",VLOOKUP(IF(G44<>0,G44,G43),入力シート!$B$7:$F$206,5,0)))","v":""}]
[null,"住所",{"$f":"IF(ISERROR(VLOOKUP(IF(A45<>0,A45,A44),入力シート!$B$7:$F$206,3,0)),\"\",IF(VLOOKUP(IF(A45<>0,A45,A44),入力シート!$B$7:$F$206,3,0)=0,\"\",VLOOKUP(IF(A45<>0,A45,A44),入力シート!$B$7:$F$206,3,0)))","v":""},null,{"$f":"IF(ISERROR(VLOOKUP(IF(C45<>0,C45,C44),入力シート!$B$7:$F$206,2,0)),\"\",IF(VLOOKUP(IF(C45<>0,C45,C44),入力シート!$B$7:$F$206,2,0)=0,\"\",VLOOKUP(IF(C45<>0,C45,C44),入力シート!$B$7:$F$206,2,0)))","v":""},{"$f":"IF(ISERROR(VLOOKUP(IF(D45<>0,D45,D44),入力シート!$B$7:$F$206,2,0)),\"\",IF(VLOOKUP(IF(D45<>0,D45,D44),入力シート!$B$7:$F$206,2,0)=0,\"\",VLOOKUP(IF(D45<>0,D45,D44),入力シート!$B$7:$F$206,2,0)))","v":""},null,"住所",{"$f":"IF(ISERROR(VLOOKUP(IF(G45<>0,G45,G44),入力シート!$B$7:$F$206,3,0)),\"\",IF(VLOOKUP(IF(G45<>0,G45,G44),入力シート!$B$7:$F$206,3,0)=0,\"\",VLOOKUP(IF(G45<>0,G45,G44),入力シート!$B$7:$F$206,3,0)))","v":""},null,{"$f":"IF(ISERROR(VLOOKUP(IF(I45<>0,I45,I44),入力シート!$B$7:$F$206,2,0)),\"\",IF(VLOOKUP(IF(I45<>0,I45,I44),入力シート!$B$7:$F$206,2,0)=0,\"\",VLOOKUP(IF(I45<>0,I45,I44),入力シート!$B$7:$F$206,2,0)))","v":""},{"$f":"IF(ISERROR(VLOOKUP(IF(J45<>0,J45,J44),入力シート!$B$7:$F$206,2,0)),\"\",IF(VLOOKUP(IF(J45<>0,J45,J44),入力シート!$B$7:$F$206,2,0)=0,\"\",VLOOKUP(IF(J45<>0,J45,J44),入力シート!$B$7:$F$206,2,0)))","v":""}]
[27,"名称",{"$f":"IF(ISERROR(VLOOKUP(IF(A46<>0,A46,A45),入力シート!$B$7:$F$206,2,0)),\"\",IF(VLOOKUP(IF(A46<>0,A46,A45),入力シート!$B$7:$F$206,2,0)=0,\"\",VLOOKUP(IF(A46<>0,A46,A45),入力シート!$B$7:$F$206,2,0)))","v":""},null,{"$f":"IF(ISERROR(VLOOKUP(IF(A46<>0,A46,A45),入力シート!$B$7:$F$206,4,0)),\"\",IF(VLOOKUP(IF(A46<>0,A46,A45),入力シート!$B$7:$F$206,4,0)=0,\"\",VLOOKUP(IF(A46<>0,A46,A45),入力シート!$B$7:$F$206,4,0)))","v":""},{"$f":"IF(ISERROR(VLOOKUP(IF(A46<>0,A46,A45),入力シート!$B$7:$F$206,5,0)),\"\",IF(VLOOKUP(IF(A46<>0,A46,A45),入力シート!$B$7:$F$206,5,0)=0,\"\",VLOOKUP(IF(A46<>0,A46,A45),入力シート!$B$7:$F$206,5,0)))","v":""},37,"名称",{"$f":"IF(ISERROR(VLOOKUP(IF(G46<>0,G46,G45),入力シート!$B$7:$F$206,2,0)),\"\",IF(VLOOKUP(IF(G46<>0,G46,G45),入力シート!$B$7:$F$206,2,0)=0,\"\",VLOOKUP(IF(G46<>0,G46,G45),入力シート!$B$7:$F$206,2,0)))","v":""},null,{"$f":"IF(ISERROR(VLOOKUP(IF(G46<>0,G46,G45),入力シート!$B$7:$F$206,4,0)),\"\",IF(VLOOKUP(IF(G46<>0,G46,G45),入力シート!$B$7:$F$206,4,0)=0,\"\",VLOOKUP(IF(G46<>0,G46,G45),入力シート!$B$7:$F$206,4,0)))","v":""},{"$f":"IF(ISERROR(VLOOKUP(IF(G46<>0,G46,G45),入力シート!$B$7:$F$206,5,0)),\"\",IF(VLOOKUP(IF(G46<>0,G46,G45),入力シート!$B$7:$F$206,5,0)=0,\"\",VLOOKUP(IF(G46<>0,G46,G45),入力シート!$B$7:$F$206,5,0)))","v":""}]
[null,"住所",{"$f":"IF(ISERROR(VLOOKUP(IF(A47<>0,A47,A46),入力シート!$B$7:$F$206,3,0)),\"\",IF(VLOOKUP(IF(A47<>0,A47,A46),入力シート!$B$7:$F$206,3,0)=0,\"\",VLOOKUP(IF(A47<>0,A47,A46),入力シート!$B$7:$F$206,3,0)))","v":""},null,{"$f":"IF(ISERROR(VLOOKUP(IF(C47<>0,C47,C46),入力シート!$B$7:$F$206,2,0)),\"\",IF(VLOOKUP(IF(C47<>0,C47,C46),入力シート!$B$7:$F$206,2,0)=0,\"\",VLOOKUP(IF(C47<>0,C47,C46),入力シート!$B$7:$F$206,2,0)))","v":""},{"$f":"IF(ISERROR(VLOOKUP(IF(D47<>0,D47,D46),入力シート!$B$7:$F$206,2,0)),\"\",IF(VLOOKUP(IF(D47<>0,D47,D46),入力シート!$B$7:$F$206,2,0)=0,\"\",VLOOKUP(IF(D47<>0,D47,D46),入力シート!$B$7:$F$206,2,0)))","v":""},null,"住所",{"$f":"IF(ISERROR(VLOOKUP(IF(G47<>0,G47,G46),入力シート!$B$7:$F$206,3,0)),\"\",IF(VLOOKUP(IF(G47<>0,G47,G46),入力シート!$B$7:$F$206,3,0)=0,\"\",VLOOKUP(IF(G47<>0,G47,G46),入力シート!$B$7:$F$206,3,0)))","v":""},null,{"$f":"IF(ISERROR(VLOOKUP(IF(I47<>0,I47,I46),入力シート!$B$7:$F$206,2,0)),\"\",IF(VLOOKUP(IF(I47<>0,I47,I46),入力シート!$B$7:$F$206,2,0)=0,\"\",VLOOKUP(IF(I47<>0,I47,I46),入力シート!$B$7:$F$206,2,0)))","v":""},{"$f":"IF(ISERROR(VLOOKUP(IF(J47<>0,J47,J46),入力シート!$B$7:$F$206,2,0)),\"\",IF(VLOOKUP(IF(J47<>0,J47,J46),入力シート!$B$7:$F$206,2,0)=0,\"\",VLOOKUP(IF(J47<>0,J47,J46),入力シート!$B$7:$F$206,2,0)))","v":""}]
[28,"名称",{"$f":"IF(ISERROR(VLOOKUP(IF(A48<>0,A48,A47),入力シート!$B$7:$F$206,2,0)),\"\",IF(VLOOKUP(IF(A48<>0,A48,A47),入力シート!$B$7:$F$206,2,0)=0,\"\",VLOOKUP(IF(A48<>0,A48,A47),入力シート!$B$7:$F$206,2,0)))","v":""},null,{"$f":"IF(ISERROR(VLOOKUP(IF(A48<>0,A48,A47),入力シート!$B$7:$F$206,4,0)),\"\",IF(VLOOKUP(IF(A48<>0,A48,A47),入力シート!$B$7:$F$206,4,0)=0,\"\",VLOOKUP(IF(A48<>0,A48,A47),入力シート!$B$7:$F$206,4,0)))","v":""},{"$f":"IF(ISERROR(VLOOKUP(IF(A48<>0,A48,A47),入力シート!$B$7:$F$206,5,0)),\"\",IF(VLOOKUP(IF(A48<>0,A48,A47),入力シート!$B$7:$F$206,5,0)=0,\"\",VLOOKUP(IF(A48<>0,A48,A47),入力シート!$B$7:$F$206,5,0)))","v":""},38,"名称",{"$f":"IF(ISERROR(VLOOKUP(IF(G48<>0,G48,G47),入力シート!$B$7:$F$206,2,0)),\"\",IF(VLOOKUP(IF(G48<>0,G48,G47),入力シート!$B$7:$F$206,2,0)=0,\"\",VLOOKUP(IF(G48<>0,G48,G47),入力シート!$B$7:$F$206,2,0)))","v":""},null,{"$f":"IF(ISERROR(VLOOKUP(IF(G48<>0,G48,G47),入力シート!$B$7:$F$206,4,0)),\"\",IF(VLOOKUP(IF(G48<>0,G48,G47),入力シート!$B$7:$F$206,4,0)=0,\"\",VLOOKUP(IF(G48<>0,G48,G47),入力シート!$B$7:$F$206,4,0)))","v":""},{"$f":"IF(ISERROR(VLOOKUP(IF(G48<>0,G48,G47),入力シート!$B$7:$F$206,5,0)),\"\",IF(VLOOKUP(IF(G48<>0,G48,G47),入力シート!$B$7:$F$206,5,0)=0,\"\",VLOOKUP(IF(G48<>0,G48,G47),入力シート!$B$7:$F$206,5,0)))","v":""}]
[null,"住所",{"$f":"IF(ISERROR(VLOOKUP(IF(A49<>0,A49,A48),入力シート!$B$7:$F$206,3,0)),\"\",IF(VLOOKUP(IF(A49<>0,A49,A48),入力シート!$B$7:$F$206,3,0)=0,\"\",VLOOKUP(IF(A49<>0,A49,A48),入力シート!$B$7:$F$206,3,0)))","v":""},null,{"$f":"IF(ISERROR(VLOOKUP(IF(C49<>0,C49,C48),入力シート!$B$7:$F$206,2,0)),\"\",IF(VLOOKUP(IF(C49<>0,C49,C48),入力シート!$B$7:$F$206,2,0)=0,\"\",VLOOKUP(IF(C49<>0,C49,C48),入力シート!$B$7:$F$206,2,0)))","v":""},{"$f":"IF(ISERROR(VLOOKUP(IF(D49<>0,D49,D48),入力シート!$B$7:$F$206,2,0)),\"\",IF(VLOOKUP(IF(D49<>0,D49,D48),入力シート!$B$7:$F$206,2,0)=0,\"\",VLOOKUP(IF(D49<>0,D49,D48),入力シート!$B$7:$F$206,2,0)))","v":""},null,"住所",{"$f":"IF(ISERROR(VLOOKUP(IF(G49<>0,G49,G48),入力シート!$B$7:$F$206,3,0)),\"\",IF(VLOOKUP(IF(G49<>0,G49,G48),入力シート!$B$7:$F$206,3,0)=0,\"\",VLOOKUP(IF(G49<>0,G49,G48),入力シート!$B$7:$F$206,3,0)))","v":""},null,{"$f":"IF(ISERROR(VLOOKUP(IF(I49<>0,I49,I48),入力シート!$B$7:$F$206,2,0)),\"\",IF(VLOOKUP(IF(I49<>0,I49,I48),入力シート!$B$7:$F$206,2,0)=0,\"\",VLOOKUP(IF(I49<>0,I49,I48),入力シート!$B$7:$F$206,2,0)))","v":""},{"$f":"IF(ISERROR(VLOOKUP(IF(J49<>0,J49,J48),入力シート!$B$7:$F$206,2,0)),\"\",IF(VLOOKUP(IF(J49<>0,J49,J48),入力シート!$B$7:$F$206,2,0)=0,\"\",VLOOKUP(IF(J49<>0,J49,J48),入力シート!$B$7:$F$206,2,0)))","v":""}]
[29,"名称",{"$f":"IF(ISERROR(VLOOKUP(IF(A50<>0,A50,A49),入力シート!$B$7:$F$206,2,0)),\"\",IF(VLOOKUP(IF(A50<>0,A50,A49),入力シート!$B$7:$F$206,2,0)=0,\"\",VLOOKUP(IF(A50<>0,A50,A49),入力シート!$B$7:$F$206,2,0)))","v":""},null,{"$f":"IF(ISERROR(VLOOKUP(IF(A50<>0,A50,A49),入力シート!$B$7:$F$206,4,0)),\"\",IF(VLOOKUP(IF(A50<>0,A50,A49),入力シート!$B$7:$F$206,4,0)=0,\"\",VLOOKUP(IF(A50<>0,A50,A49),入力シート!$B$7:$F$206,4,0)))","v":""},{"$f":"IF(ISERROR(VLOOKUP(IF(A50<>0,A50,A49),入力シート!$B$7:$F$206,5,0)),\"\",IF(VLOOKUP(IF(A50<>0,A50,A49),入力シート!$B$7:$F$206,5,0)=0,\"\",VLOOKUP(IF(A50<>0,A50,A49),入力シート!$B$7:$F$206,5,0)))","v":""},39,"名称",{"$f":"IF(ISERROR(VLOOKUP(IF(G50<>0,G50,G49),入力シート!$B$7:$F$206,2,0)),\"\",IF(VLOOKUP(IF(G50<>0,G50,G49),入力シート!$B$7:$F$206,2,0)=0,\"\",VLOOKUP(IF(G50<>0,G50,G49),入力シート!$B$7:$F$206,2,0)))","v":""},null,{"$f":"IF(ISERROR(VLOOKUP(IF(G50<>0,G50,G49),入力シート!$B$7:$F$206,4,0)),\"\",IF(VLOOKUP(IF(G50<>0,G50,G49),入力シート!$B$7:$F$206,4,0)=0,\"\",VLOOKUP(IF(G50<>0,G50,G49),入力シート!$B$7:$F$206,4,0)))","v":""},{"$f":"IF(ISERROR(VLOOKUP(IF(G50<>0,G50,G49),入力シート!$B$7:$F$206,5,0)),\"\",IF(VLOOKUP(IF(G50<>0,G50,G49),入力シート!$B$7:$F$206,5,0)=0,\"\",VLOOKUP(IF(G50<>0,G50,G49),入力シート!$B$7:$F$206,5,0)))","v":""}]
[null,"住所",{"$f":"IF(ISERROR(VLOOKUP(IF(A51<>0,A51,A50),入力シート!$B$7:$F$206,3,0)),\"\",IF(VLOOKUP(IF(A51<>0,A51,A50),入力シート!$B$7:$F$206,3,0)=0,\"\",VLOOKUP(IF(A51<>0,A51,A50),入力シート!$B$7:$F$206,3,0)))","v":""},null,{"$f":"IF(ISERROR(VLOOKUP(IF(C51<>0,C51,C50),入力シート!$B$7:$F$206,2,0)),\"\",IF(VLOOKUP(IF(C51<>0,C51,C50),入力シート!$B$7:$F$206,2,0)=0,\"\",VLOOKUP(IF(C51<>0,C51,C50),入力シート!$B$7:$F$206,2,0)))","v":""},{"$f":"IF(ISERROR(VLOOKUP(IF(D51<>0,D51,D50),入力シート!$B$7:$F$206,2,0)),\"\",IF(VLOOKUP(IF(D51<>0,D51,D50),入力シート!$B$7:$F$206,2,0)=0,\"\",VLOOKUP(IF(D51<>0,D51,D50),入力シート!$B$7:$F$206,2,0)))","v":""},null,"住所",{"$f":"IF(ISERROR(VLOOKUP(IF(G51<>0,G51,G50),入力シート!$B$7:$F$206,3,0)),\"\",IF(VLOOKUP(IF(G51<>0,G51,G50),入力シート!$B$7:$F$206,3,0)=0,\"\",VLOOKUP(IF(G51<>0,G51,G50),入力シート!$B$7:$F$206,3,0)))","v":""},null,{"$f":"IF(ISERROR(VLOOKUP(IF(I51<>0,I51,I50),入力シート!$B$7:$F$206,2,0)),\"\",IF(VLOOKUP(IF(I51<>0,I51,I50),入力シート!$B$7:$F$206,2,0)=0,\"\",VLOOKUP(IF(I51<>0,I51,I50),入力シート!$B$7:$F$206,2,0)))","v":""},{"$f":"IF(ISERROR(VLOOKUP(IF(J51<>0,J51,J50),入力シート!$B$7:$F$206,2,0)),\"\",IF(VLOOKUP(IF(J51<>0,J51,J50),入力シート!$B$7:$F$206,2,0)=0,\"\",VLOOKUP(IF(J51<>0,J51,J50),入力シート!$B$7:$F$206,2,0)))","v":""}]
[30,"名称",{"$f":"IF(ISERROR(VLOOKUP(IF(A52<>0,A52,A51),入力シート!$B$7:$F$206,2,0)),\"\",IF(VLOOKUP(IF(A52<>0,A52,A51),入力シート!$B$7:$F$206,2,0)=0,\"\",VLOOKUP(IF(A52<>0,A52,A51),入力シート!$B$7:$F$206,2,0)))","v":""},null,{"$f":"IF(ISERROR(VLOOKUP(IF(A52<>0,A52,A51),入力シート!$B$7:$F$206,4,0)),\"\",IF(VLOOKUP(IF(A52<>0,A52,A51),入力シート!$B$7:$F$206,4,0)=0,\"\",VLOOKUP(IF(A52<>0,A52,A51),入力シート!$B$7:$F$206,4,0)))","v":""},{"$f":"IF(ISERROR(VLOOKUP(IF(A52<>0,A52,A51),入力シート!$B$7:$F$206,5,0)),\"\",IF(VLOOKUP(IF(A52<>0,A52,A51),入力シート!$B$7:$F$206,5,0)=0,\"\",VLOOKUP(IF(A52<>0,A52,A51),入力シート!$B$7:$F$206,5,0)))","v":""},40,"名称",{"$f":"IF(ISERROR(VLOOKUP(IF(G52<>0,G52,G51),入力シート!$B$7:$F$206,2,0)),\"\",IF(VLOOKUP(IF(G52<>0,G52,G51),入力シート!$B$7:$F$206,2,0)=0,\"\",VLOOKUP(IF(G52<>0,G52,G51),入力シート!$B$7:$F$206,2,0)))","v":""},null,{"$f":"IF(ISERROR(VLOOKUP(IF(G52<>0,G52,G51),入力シート!$B$7:$F$206,4,0)),\"\",IF(VLOOKUP(IF(G52<>0,G52,G51),入力シート!$B$7:$F$206,4,0)=0,\"\",VLOOKUP(IF(G52<>0,G52,G51),入力シート!$B$7:$F$206,4,0)))","v":""},{"$f":"IF(ISERROR(VLOOKUP(IF(G52<>0,G52,G51),入力シート!$B$7:$F$206,5,0)),\"\",IF(VLOOKUP(IF(G52<>0,G52,G51),入力シート!$B$7:$F$206,5,0)=0,\"\",VLOOKUP(IF(G52<>0,G52,G51),入力シート!$B$7:$F$206,5,0)))","v":""}]
[null,"住所",{"$f":"IF(ISERROR(VLOOKUP(IF(A53<>0,A53,A52),入力シート!$B$7:$F$206,3,0)),\"\",IF(VLOOKUP(IF(A53<>0,A53,A52),入力シート!$B$7:$F$206,3,0)=0,\"\",VLOOKUP(IF(A53<>0,A53,A52),入力シート!$B$7:$F$206,3,0)))","v":""},null,{"$f":"IF(ISERROR(VLOOKUP(IF(C53<>0,C53,C52),入力シート!$B$7:$F$206,2,0)),\"\",IF(VLOOKUP(IF(C53<>0,C53,C52),入力シート!$B$7:$F$206,2,0)=0,\"\",VLOOKUP(IF(C53<>0,C53,C52),入力シート!$B$7:$F$206,2,0)))","v":""},{"$f":"IF(ISERROR(VLOOKUP(IF(D53<>0,D53,D52),入力シート!$B$7:$F$206,2,0)),\"\",IF(VLOOKUP(IF(D53<>0,D53,D52),入力シート!$B$7:$F$206,2,0)=0,\"\",VLOOKUP(IF(D53<>0,D53,D52),入力シート!$B$7:$F$206,2,0)))","v":""},null,"住所",{"$f":"IF(ISERROR(VLOOKUP(IF(G53<>0,G53,G52),入力シート!$B$7:$F$206,3,0)),\"\",IF(VLOOKUP(IF(G53<>0,G53,G52),入力シート!$B$7:$F$206,3,0)=0,\"\",VLOOKUP(IF(G53<>0,G53,G52),入力シート!$B$7:$F$206,3,0)))","v":""},null,{"$f":"IF(ISERROR(VLOOKUP(IF(I53<>0,I53,I52),入力シート!$B$7:$F$206,2,0)),\"\",IF(VLOOKUP(IF(I53<>0,I53,I52),入力シート!$B$7:$F$206,2,0)=0,\"\",VLOOKUP(IF(I53<>0,I53,I52),入力シート!$B$7:$F$206,2,0)))","v":""},{"$f":"IF(ISERROR(VLOOKUP(IF(J53<>0,J53,J52),入力シート!$B$7:$F$206,2,0)),\"\",IF(VLOOKUP(IF(J53<>0,J53,J52),入力シート!$B$7:$F$206,2,0)=0,\"\",VLOOKUP(IF(J53<>0,J53,J52),入力シート!$B$7:$F$206,2,0)))","v":""}]
["（注）","1.本名簿には、配送事業者がＬＰガス配送を受託しているＬＰガス販売事業者をすべて記入する。",null,null,null,null,null,"小　　計（このページの合計）",null,null,{"$f":"SUM(E34:E53,K34:K53)","v":0},{"$f":"SUM(F34:F53,L34:L53)","v":0}]
[null,"2.ＬＰガス配送受託販売所の名称欄には企業名、販売所名を明記し、住所欄には当該販売所の住所を記入する。"]
[null,"3.保険契約加入依頼の際、依頼書に本名簿（保険会社用、事業団用、都道府県協会用）を添付して提出する。"]
[null,"4.支部が事業団に加入依頼書を送付する際、２部（保険会社用、事業団用）を添付する。"]
[null,null,null,null,null,null,null,null,null,null,3,{"$f":"COUNTIF($L$26,\">0\")+COUNTIF($L$54,\">0\")+COUNTIF($L$81,\">0\")+COUNTIF($L$108,\">0\")+COUNTIF($L$135,\">0\")+COUNTIF($L$162,\">0\")+COUNTIF($L$189,\">0\")+COUNTIF($L$216,\">0\")+COUNTIF($L$243,\">0\")+COUNTIF($L$270,\">0\")","v":0}]
["LPガス配送",null,null,"名　　　　称","配送契約の内容",null,"LPガス配送",null,null,"名　　　　称","配送契約の内容"]
["受託販売所",null,null,"住　　　　所","配　送　先\n消費者戸数","1か年間の\n配送トン数","受託販売所",null,null,"住　　　　所","配　送　先\n消費者戸数","1か年間の\n配送トン数"]
[41,"名称",{"$f":"IF(ISERROR(VLOOKUP(IF(A61<>0,A61,A60),入力シート!$B$7:$F$206,2,0)),\"\",IF(VLOOKUP(IF(A61<>0,A61,A60),入力シート!$B$7:$F$206,2,0)=0,\"\",VLOOKUP(IF(A61<>0,A61,A60),入力シート!$B$7:$F$206,2,0)))","v":""},null,{"$f":"IF(ISERROR(VLOOKUP(IF(A61<>0,A61,A60),入力シート!$B$7:$F$206,4,0)),\"\",IF(VLOOKUP(IF(A61<>0,A61,A60),入力シート!$B$7:$F$206,4,0)=0,\"\",VLOOKUP(IF(A61<>0,A61,A60),入力シート!$B$7:$F$206,4,0)))","v":""},{"$f":"IF(ISERROR(VLOOKUP(IF(A61<>0,A61,A60),入力シート!$B$7:$F$206,5,0)),\"\",IF(VLOOKUP(IF(A61<>0,A61,A60),入力シート!$B$7:$F$206,5,0)=0,\"\",VLOOKUP(IF(A61<>0,A61,A60),入力シート!$B$7:$F$206,5,0)))","v":""},51,"名称",{"$f":"IF(ISERROR(VLOOKUP(IF(G61<>0,G61,G60),入力シート!$B$7:$F$206,2,0)),\"\",IF(VLOOKUP(IF(G61<>0,G61,G60),入力シート!$B$7:$F$206,2,0)=0,\"\",VLOOKUP(IF(G61<>0,G61,G60),入力シート!$B$7:$F$206,2,0)))","v":""},null,{"$f":"IF(ISERROR(VLOOKUP(IF(G61<>0,G61,G60),入力シート!$B$7:$F$206,4,0)),\"\",IF(VLOOKUP(IF(G61<>0,G61,G60),入力シート!$B$7:$F$206,4,0)=0,\"\",VLOOKUP(IF(G61<>0,G61,G60),入力シート!$B$7:$F$206,4,0)))","v":""},{"$f":"IF(ISERROR(VLOOKUP(IF(G61<>0,G61,G60),入力シート!$B$7:$F$206,5,0)),\"\",IF(VLOOKUP(IF(G61<>0,G61,G60),入力シート!$B$7:$F$206,5,0)=0,\"\",VLOOKUP(IF(G61<>0,G61,G60),入力シート!$B$7:$F$206,5,0)))","v":""}]
[null,"住所",{"$f":"IF(ISERROR(VLOOKUP(IF(A62<>0,A62,A61),入力シート!$B$7:$F$206,3,0)),\"\",IF(VLOOKUP(IF(A62<>0,A62,A61),入力シート!$B$7:$F$206,3,0)=0,\"\",VLOOKUP(IF(A62<>0,A62,A61),入力シート!$B$7:$F$206,3,0)))","v":""},null,{"$f":"IF(ISERROR(VLOOKUP(IF(C62<>0,C62,C61),入力シート!$B$7:$F$206,2,0)),\"\",IF(VLOOKUP(IF(C62<>0,C62,C61),入力シート!$B$7:$F$206,2,0)=0,\"\",VLOOKUP(IF(C62<>0,C62,C61),入力シート!$B$7:$F$206,2,0)))","v":""},{"$f":"IF(ISERROR(VLOOKUP(IF(D62<>0,D62,D61),入力シート!$B$7:$F$206,2,0)),\"\",IF(VLOOKUP(IF(D62<>0,D62,D61),入力シート!$B$7:$F$206,2,0)=0,\"\",VLOOKUP(IF(D62<>0,D62,D61),入力シート!$B$7:$F$206,2,0)))","v":""},null,"住所",{"$f":"IF(ISERROR(VLOOKUP(IF(G62<>0,G62,G61),入力シート!$B$7:$F$206,3,0)),\"\",IF(VLOOKUP(IF(G62<>0,G62,G61),入力シート!$B$7:$F$206,3,0)=0,\"\",VLOOKUP(IF(G62<>0,G62,G61),入力シート!$B$7:$F$206,3,0)))","v":""},null,{"$f":"IF(ISERROR(VLOOKUP(IF(I62<>0,I62,I61),入力シート!$B$7:$F$206,2,0)),\"\",IF(VLOOKUP(IF(I62<>0,I62,I61),入力シート!$B$7:$F$206,2,0)=0,\"\",VLOOKUP(IF(I62<>0,I62,I61),入力シート!$B$7:$F$206,2,0)))","v":""},{"$f":"IF(ISERROR(VLOOKUP(IF(J62<>0,J62,J61),入力シート!$B$7:$F$206,2,0)),\"\",IF(VLOOKUP(IF(J62<>0,J62,J61),入力シート!$B$7:$F$206,2,0)=0,\"\",VLOOKUP(IF(J62<>0,J62,J61),入力シート!$B$7:$F$206,2,0)))","v":""}]
[42,"名称",{"$f":"IF(ISERROR(VLOOKUP(IF(A63<>0,A63,A62),入力シート!$B$7:$F$206,2,0)),\"\",IF(VLOOKUP(IF(A63<>0,A63,A62),入力シート!$B$7:$F$206,2,0)=0,\"\",VLOOKUP(IF(A63<>0,A63,A62),入力シート!$B$7:$F$206,2,0)))","v":""},null,{"$f":"IF(ISERROR(VLOOKUP(IF(A63<>0,A63,A62),入力シート!$B$7:$F$206,4,0)),\"\",IF(VLOOKUP(IF(A63<>0,A63,A62),入力シート!$B$7:$F$206,4,0)=0,\"\",VLOOKUP(IF(A63<>0,A63,A62),入力シート!$B$7:$F$206,4,0)))","v":""},{"$f":"IF(ISERROR(VLOOKUP(IF(A63<>0,A63,A62),入力シート!$B$7:$F$206,5,0)),\"\",IF(VLOOKUP(IF(A63<>0,A63,A62),入力シート!$B$7:$F$206,5,0)=0,\"\",VLOOKUP(IF(A63<>0,A63,A62),入力シート!$B$7:$F$206,5,0)))","v":""},52,"名称",{"$f":"IF(ISERROR(VLOOKUP(IF(G63<>0,G63,G62),入力シート!$B$7:$F$206,2,0)),\"\",IF(VLOOKUP(IF(G63<>0,G63,G62),入力シート!$B$7:$F$206,2,0)=0,\"\",VLOOKUP(IF(G63<>0,G63,G62),入力シート!$B$7:$F$206,2,0)))","v":""},null,{"$f":"IF(ISERROR(VLOOKUP(IF(G63<>0,G63,G62),入力シート!$B$7:$F$206,4,0)),\"\",IF(VLOOKUP(IF(G63<>0,G63,G62),入力シート!$B$7:$F$206,4,0)=0,\"\",VLOOKUP(IF(G63<>0,G63,G62),入力シート!$B$7:$F$206,4,0)))","v":""},{"$f":"IF(ISERROR(VLOOKUP(IF(G63<>0,G63,G62),入力シート!$B$7:$F$206,5,0)),\"\",IF(VLOOKUP(IF(G63<>0,G63,G62),入力シート!$B$7:$F$206,5,0)=0,\"\",VLOOKUP(IF(G63<>0,G63,G62),入力シート!$B$7:$F$206,5,0)))","v":""}]
[null,"住所",{"$f":"IF(ISERROR(VLOOKUP(IF(A64<>0,A64,A63),入力シート!$B$7:$F$206,3,0)),\"\",IF(VLOOKUP(IF(A64<>0,A64,A63),入力シート!$B$7:$F$206,3,0)=0,\"\",VLOOKUP(IF(A64<>0,A64,A63),入力シート!$B$7:$F$206,3,0)))","v":""},null,{"$f":"IF(ISERROR(VLOOKUP(IF(C64<>0,C64,C63),入力シート!$B$7:$F$206,2,0)),\"\",IF(VLOOKUP(IF(C64<>0,C64,C63),入力シート!$B$7:$F$206,2,0)=0,\"\",VLOOKUP(IF(C64<>0,C64,C63),入力シート!$B$7:$F$206,2,0)))","v":""},{"$f":"IF(ISERROR(VLOOKUP(IF(D64<>0,D64,D63),入力シート!$B$7:$F$206,2,0)),\"\",IF(VLOOKUP(IF(D64<>0,D64,D63),入力シート!$B$7:$F$206,2,0)=0,\"\",VLOOKUP(IF(D64<>0,D64,D63),入力シート!$B$7:$F$206,2,0)))","v":""},null,"住所",{"$f":"IF(ISERROR(VLOOKUP(IF(G64<>0,G64,G63),入力シート!$B$7:$F$206,3,0)),\"\",IF(VLOOKUP(IF(G64<>0,G64,G63),入力シート!$B$7:$F$206,3,0)=0,\"\",VLOOKUP(IF(G64<>0,G64,G63),入力シート!$B$7:$F$206,3,0)))","v":""},null,{"$f":"IF(ISERROR(VLOOKUP(IF(I64<>0,I64,I63),入力シート!$B$7:$F$206,2,0)),\"\",IF(VLOOKUP(IF(I64<>0,I64,I63),入力シート!$B$7:$F$206,2,0)=0,\"\",VLOOKUP(IF(I64<>0,I64,I63),入力シート!$B$7:$F$206,2,0)))","v":""},{"$f":"IF(ISERROR(VLOOKUP(IF(J64<>0,J64,J63),入力シート!$B$7:$F$206,2,0)),\"\",IF(VLOOKUP(IF(J64<>0,J64,J63),入力シート!$B$7:$F$206,2,0)=0,\"\",VLOOKUP(IF(J64<>0,J64,J63),入力シート!$B$7:$F$206,2,0)))","v":""}]
[43,"名称",{"$f":"IF(ISERROR(VLOOKUP(IF(A65<>0,A65,A64),入力シート!$B$7:$F$206,2,0)),\"\",IF(VLOOKUP(IF(A65<>0,A65,A64),入力シート!$B$7:$F$206,2,0)=0,\"\",VLOOKUP(IF(A65<>0,A65,A64),入力シート!$B$7:$F$206,2,0)))","v":""},null,{"$f":"IF(ISERROR(VLOOKUP(IF(A65<>0,A65,A64),入力シート!$B$7:$F$206,4,0)),\"\",IF(VLOOKUP(IF(A65<>0,A65,A64),入力シート!$B$7:$F$206,4,0)=0,\"\",VLOOKUP(IF(A65<>0,A65,A64),入力シート!$B$7:$F$206,4,0)))","v":""},{"$f":"IF(ISERROR(VLOOKUP(IF(A65<>0,A65,A64),入力シート!$B$7:$F$206,5,0)),\"\",IF(VLOOKUP(IF(A65<>0,A65,A64),入力シート!$B$7:$F$206,5,0)=0,\"\",VLOOKUP(IF(A65<>0,A65,A64),入力シート!$B$7:$F$206,5,0)))","v":""},53,"名称",{"$f":"IF(ISERROR(VLOOKUP(IF(G65<>0,G65,G64),入力シート!$B$7:$F$206,2,0)),\"\",IF(VLOOKUP(IF(G65<>0,G65,G64),入力シート!$B$7:$F$206,2,0)=0,\"\",VLOOKUP(IF(G65<>0,G65,G64),入力シート!$B$7:$F$206,2,0)))","v":""},null,{"$f":"IF(ISERROR(VLOOKUP(IF(G65<>0,G65,G64),入力シート!$B$7:$F$206,4,0)),\"\",IF(VLOOKUP(IF(G65<>0,G65,G64),入力シート!$B$7:$F$206,4,0)=0,\"\",VLOOKUP(IF(G65<>0,G65,G64),入力シート!$B$7:$F$206,4,0)))","v":""},{"$f":"IF(ISERROR(VLOOKUP(IF(G65<>0,G65,G64),入力シート!$B$7:$F$206,5,0)),\"\",IF(VLOOKUP(IF(G65<>0,G65,G64),入力シート!$B$7:$F$206,5,0)=0,\"\",VLOOKUP(IF(G65<>0,G65,G64),入力シート!$B$7:$F$206,5,0)))","v":""}]
[null,"住所",{"$f":"IF(ISERROR(VLOOKUP(IF(A66<>0,A66,A65),入力シート!$B$7:$F$206,3,0)),\"\",IF(VLOOKUP(IF(A66<>0,A66,A65),入力シート!$B$7:$F$206,3,0)=0,\"\",VLOOKUP(IF(A66<>0,A66,A65),入力シート!$B$7:$F$206,3,0)))","v":""},null,{"$f":"IF(ISERROR(VLOOKUP(IF(C66<>0,C66,C65),入力シート!$B$7:$F$206,2,0)),\"\",IF(VLOOKUP(IF(C66<>0,C66,C65),入力シート!$B$7:$F$206,2,0)=0,\"\",VLOOKUP(IF(C66<>0,C66,C65),入力シート!$B$7:$F$206,2,0)))","v":""},{"$f":"IF(ISERROR(VLOOKUP(IF(D66<>0,D66,D65),入力シート!$B$7:$F$206,2,0)),\"\",IF(VLOOKUP(IF(D66<>0,D66,D65),入力シート!$B$7:$F$206,2,0)=0,\"\",VLOOKUP(IF(D66<>0,D66,D65),入力シート!$B$7:$F$206,2,0)))","v":""},null,"住所",{"$f":"IF(ISERROR(VLOOKUP(IF(G66<>0,G66,G65),入力シート!$B$7:$F$206,3,0)),\"\",IF(VLOOKUP(IF(G66<>0,G66,G65),入力シート!$B$7:$F$206,3,0)=0,\"\",VLOOKUP(IF(G66<>0,G66,G65),入力シート!$B$7:$F$206,3,0)))","v":""},null,{"$f":"IF(ISERROR(VLOOKUP(IF(I66<>0,I66,I65),入力シート!$B$7:$F$206,2,0)),\"\",IF(VLOOKUP(IF(I66<>0,I66,I65),入力シート!$B$7:$F$206,2,0)=0,\"\",VLOOKUP(IF(I66<>0,I66,I65),入力シート!$B$7:$F$206,2,0)))","v":""},{"$f":"IF(ISERROR(VLOOKUP(IF(J66<>0,J66,J65),入力シート!$B$7:$F$206,2,0)),\"\",IF(VLOOKUP(IF(J66<>0,J66,J65),入力シート!$B$7:$F$206,2,0)=0,\"\",VLOOKUP(IF(J66<>0,J66,J65),入力シート!$B$7:$F$206,2,0)))","v":""}]
[44,"名称",{"$f":"IF(ISERROR(VLOOKUP(IF(A67<>0,A67,A66),入力シート!$B$7:$F$206,2,0)),\"\",IF(VLOOKUP(IF(A67<>0,A67,A66),入力シート!$B$7:$F$206,2,0)=0,\"\",VLOOKUP(IF(A67<>0,A67,A66),入力シート!$B$7:$F$206,2,0)))","v":""},null,{"$f":"IF(ISERROR(VLOOKUP(IF(A67<>0,A67,A66),入力シート!$B$7:$F$206,4,0)),\"\",IF(VLOOKUP(IF(A67<>0,A67,A66),入力シート!$B$7:$F$206,4,0)=0,\"\",VLOOKUP(IF(A67<>0,A67,A66),入力シート!$B$7:$F$206,4,0)))","v":""},{"$f":"IF(ISERROR(VLOOKUP(IF(A67<>0,A67,A66),入力シート!$B$7:$F$206,5,0)),\"\",IF(VLOOKUP(IF(A67<>0,A67,A66),入力シート!$B$7:$F$206,5,0)=0,\"\",VLOOKUP(IF(A67<>0,A67,A66),入力シート!$B$7:$F$206,5,0)))","v":""},54,"名称",{"$f":"IF(ISERROR(VLOOKUP(IF(G67<>0,G67,G66),入力シート!$B$7:$F$206,2,0)),\"\",IF(VLOOKUP(IF(G67<>0,G67,G66),入力シート!$B$7:$F$206,2,0)=0,\"\",VLOOKUP(IF(G67<>0,G67,G66),入力シート!$B$7:$F$206,2,0)))","v":""},null,{"$f":"IF(ISERROR(VLOOKUP(IF(G67<>0,G67,G66),入力シート!$B$7:$F$206,4,0)),\"\",IF(VLOOKUP(IF(G67<>0,G67,G66),入力シート!$B$7:$F$206,4,0)=0,\"\",VLOOKUP(IF(G67<>0,G67,G66),入力シート!$B$7:$F$206,4,0)))","v":""},{"$f":"IF(ISERROR(VLOOKUP(IF(G67<>0,G67,G66),入力シート!$B$7:$F$206,5,0)),\"\",IF(VLOOKUP(IF(G67<>0,G67,G66),入力シート!$B$7:$F$206,5,0)=0,\"\",VLOOKUP(IF(G67<>0,G67,G66),入力シート!$B$7:$F$206,5,0)))","v":""}]
[null,"住所",{"$f":"IF(ISERROR(VLOOKUP(IF(A68<>0,A68,A67),入力シート!$B$7:$F$206,3,0)),\"\",IF(VLOOKUP(IF(A68<>0,A68,A67),入力シート!$B$7:$F$206,3,0)=0,\"\",VLOOKUP(IF(A68<>0,A68,A67),入力シート!$B$7:$F$206,3,0)))","v":""},null,{"$f":"IF(ISERROR(VLOOKUP(IF(C68<>0,C68,C67),入力シート!$B$7:$F$206,2,0)),\"\",IF(VLOOKUP(IF(C68<>0,C68,C67),入力シート!$B$7:$F$206,2,0)=0,\"\",VLOOKUP(IF(C68<>0,C68,C67),入力シート!$B$7:$F$206,2,0)))","v":""},{"$f":"IF(ISERROR(VLOOKUP(IF(D68<>0,D68,D67),入力シート!$B$7:$F$206,2,0)),\"\",IF(VLOOKUP(IF(D68<>0,D68,D67),入力シート!$B$7:$F$206,2,0)=0,\"\",VLOOKUP(IF(D68<>0,D68,D67),入力シート!$B$7:$F$206,2,0)))","v":""},null,"住所",{"$f":"IF(ISERROR(VLOOKUP(IF(G68<>0,G68,G67),入力シート!$B$7:$F$206,3,0)),\"\",IF(VLOOKUP(IF(G68<>0,G68,G67),入力シート!$B$7:$F$206,3,0)=0,\"\",VLOOKUP(IF(G68<>0,G68,G67),入力シート!$B$7:$F$206,3,0)))","v":""},null,{"$f":"IF(ISERROR(VLOOKUP(IF(I68<>0,I68,I67),入力シート!$B$7:$F$206,2,0)),\"\",IF(VLOOKUP(IF(I68<>0,I68,I67),入力シート!$B$7:$F$206,2,0)=0,\"\",VLOOKUP(IF(I68<>0,I68,I67),入力シート!$B$7:$F$206,2,0)))","v":""},{"$f":"IF(ISERROR(VLOOKUP(IF(J68<>0,J68,J67),入力シート!$B$7:$F$206,2,0)),\"\",IF(VLOOKUP(IF(J68<>0,J68,J67),入力シート!$B$7:$F$206,2,0)=0,\"\",VLOOKUP(IF(J68<>0,J68,J67),入力シート!$B$7:$F$206,2,0)))","v":""}]
[45,"名称",{"$f":"IF(ISERROR(VLOOKUP(IF(A69<>0,A69,A68),入力シート!$B$7:$F$206,2,0)),\"\",IF(VLOOKUP(IF(A69<>0,A69,A68),入力シート!$B$7:$F$206,2,0)=0,\"\",VLOOKUP(IF(A69<>0,A69,A68),入力シート!$B$7:$F$206,2,0)))","v":""},null,{"$f":"IF(ISERROR(VLOOKUP(IF(A69<>0,A69,A68),入力シート!$B$7:$F$206,4,0)),\"\",IF(VLOOKUP(IF(A69<>0,A69,A68),入力シート!$B$7:$F$206,4,0)=0,\"\",VLOOKUP(IF(A69<>0,A69,A68),入力シート!$B$7:$F$206,4,0)))","v":""},{"$f":"IF(ISERROR(VLOOKUP(IF(A69<>0,A69,A68),入力シート!$B$7:$F$206,5,0)),\"\",IF(VLOOKUP(IF(A69<>0,A69,A68),入力シート!$B$7:$F$206,5,0)=0,\"\",VLOOKUP(IF(A69<>0,A69,A68),入力シート!$B$7:$F$206,5,0)))","v":""},55,"名称",{"$f":"IF(ISERROR(VLOOKUP(IF(G69<>0,G69,G68),入力シート!$B$7:$F$206,2,0)),\"\",IF(VLOOKUP(IF(G69<>0,G69,G68),入力シート!$B$7:$F$206,2,0)=0,\"\",VLOOKUP(IF(G69<>0,G69,G68),入力シート!$B$7:$F$206,2,0)))","v":""},null,{"$f":"IF(ISERROR(VLOOKUP(IF(G69<>0,G69,G68),入力シート!$B$7:$F$206,4,0)),\"\",IF(VLOOKUP(IF(G69<>0,G69,G68),入力シート!$B$7:$F$206,4,0)=0,\"\",VLOOKUP(IF(G69<>0,G69,G68),入力シート!$B$7:$F$206,4,0)))","v":""},{"$f":"IF(ISERROR(VLOOKUP(IF(G69<>0,G69,G68),入力シート!$B$7:$F$206,5,0)),\"\",IF(VLOOKUP(IF(G69<>0,G69,G68),入力シート!$B$7:$F$206,5,0)=0,\"\",VLOOKUP(IF(G69<>0,G69,G68),入力シート!$B$7:$F$206,5,0)))","v":""}]
[null,"住所",{"$f":"IF(ISERROR(VLOOKUP(IF(A70<>0,A70,A69),入力シート!$B$7:$F$206,3,0)),\"\",IF(VLOOKUP(IF(A70<>0,A70,A69),入力シート!$B$7:$F$206,3,0)=0,\"\",VLOOKUP(IF(A70<>0,A70,A69),入力シート!$B$7:$F$206,3,0)))","v":""},null,{"$f":"IF(ISERROR(VLOOKUP(IF(C70<>0,C70,C69),入力シート!$B$7:$F$206,2,0)),\"\",IF(VLOOKUP(IF(C70<>0,C70,C69),入力シート!$B$7:$F$206,2,0)=0,\"\",VLOOKUP(IF(C70<>0,C70,C69),入力シート!$B$7:$F$206,2,0)))","v":""},{"$f":"IF(ISERROR(VLOOKUP(IF(D70<>0,D70,D69),入力シート!$B$7:$F$206,2,0)),\"\",IF(VLOOKUP(IF(D70<>0,D70,D69),入力シート!$B$7:$F$206,2,0)=0,\"\",VLOOKUP(IF(D70<>0,D70,D69),入力シート!$B$7:$F$206,2,0)))","v":""},null,"住所",{"$f":"IF(ISERROR(VLOOKUP(IF(G70<>0,G70,G69),入力シート!$B$7:$F$206,3,0)),\"\",IF(VLOOKUP(IF(G70<>0,G70,G69),入力シート!$B$7:$F$206,3,0)=0,\"\",VLOOKUP(IF(G70<>0,G70,G69),入力シート!$B$7:$F$206,3,0)))","v":""},null,{"$f":"IF(ISERROR(VLOOKUP(IF(I70<>0,I70,I69),入力シート!$B$7:$F$206,2,0)),\"\",IF(VLOOKUP(IF(I70<>0,I70,I69),入力シート!$B$7:$F$206,2,0)=0,\"\",VLOOKUP(IF(I70<>0,I70,I69),入力シート!$B$7:$F$206,2,0)))","v":""},{"$f":"IF(ISERROR(VLOOKUP(IF(J70<>0,J70,J69),入力シート!$B$7:$F$206,2,0)),\"\",IF(VLOOKUP(IF(J70<>0,J70,J69),入力シート!$B$7:$F$206,2,0)=0,\"\",VLOOKUP(IF(J70<>0,J70,J69),入力シート!$B$7:$F$206,2,0)))","v":""}]
[46,"名称",{"$f":"IF(ISERROR(VLOOKUP(IF(A71<>0,A71,A70),入力シート!$B$7:$F$206,2,0)),\"\",IF(VLOOKUP(IF(A71<>0,A71,A70),入力シート!$B$7:$F$206,2,0)=0,\"\",VLOOKUP(IF(A71<>0,A71,A70),入力シート!$B$7:$F$206,2,0)))","v":""},null,{"$f":"IF(ISERROR(VLOOKUP(IF(A71<>0,A71,A70),入力シート!$B$7:$F$206,4,0)),\"\",IF(VLOOKUP(IF(A71<>0,A71,A70),入力シート!$B$7:$F$206,4,0)=0,\"\",VLOOKUP(IF(A71<>0,A71,A70),入力シート!$B$7:$F$206,4,0)))","v":""},{"$f":"IF(ISERROR(VLOOKUP(IF(A71<>0,A71,A70),入力シート!$B$7:$F$206,5,0)),\"\",IF(VLOOKUP(IF(A71<>0,A71,A70),入力シート!$B$7:$F$206,5,0)=0,\"\",VLOOKUP(IF(A71<>0,A71,A70),入力シート!$B$7:$F$206,5,0)))","v":""},56,"名称",{"$f":"IF(ISERROR(VLOOKUP(IF(G71<>0,G71,G70),入力シート!$B$7:$F$206,2,0)),\"\",IF(VLOOKUP(IF(G71<>0,G71,G70),入力シート!$B$7:$F$206,2,0)=0,\"\",VLOOKUP(IF(G71<>0,G71,G70),入力シート!$B$7:$F$206,2,0)))","v":""},null,{"$f":"IF(ISERROR(VLOOKUP(IF(G71<>0,G71,G70),入力シート!$B$7:$F$206,4,0)),\"\",IF(VLOOKUP(IF(G71<>0,G71,G70),入力シート!$B$7:$F$206,4,0)=0,\"\",VLOOKUP(IF(G71<>0,G71,G70),入力シート!$B$7:$F$206,4,0)))","v":""},{"$f":"IF(ISERROR(VLOOKUP(IF(G71<>0,G71,G70),入力シート!$B$7:$F$206,5,0)),\"\",IF(VLOOKUP(IF(G71<>0,G71,G70),入力シート!$B$7:$F$206,5,0)=0,\"\",VLOOKUP(IF(G71<>0,G71,G70),入力シート!$B$7:$F$206,5,0)))","v":""}]
[null,"住所",{"$f":"IF(ISERROR(VLOOKUP(IF(A72<>0,A72,A71),入力シート!$B$7:$F$206,3,0)),\"\",IF(VLOOKUP(IF(A72<>0,A72,A71),入力シート!$B$7:$F$206,3,0)=0,\"\",VLOOKUP(IF(A72<>0,A72,A71),入力シート!$B$7:$F$206,3,0)))","v":""},null,{"$f":"IF(ISERROR(VLOOKUP(IF(C72<>0,C72,C71),入力シート!$B$7:$F$206,2,0)),\"\",IF(VLOOKUP(IF(C72<>0,C72,C71),入力シート!$B$7:$F$206,2,0)=0,\"\",VLOOKUP(IF(C72<>0,C72,C71),入力シート!$B$7:$F$206,2,0)))","v":""},{"$f":"IF(ISERROR(VLOOKUP(IF(D72<>0,D72,D71),入力シート!$B$7:$F$206,2,0)),\"\",IF(VLOOKUP(IF(D72<>0,D72,D71),入力シート!$B$7:$F$206,2,0)=0,\"\",VLOOKUP(IF(D72<>0,D72,D71),入力シート!$B$7:$F$206,2,0)))","v":""},null,"住所",{"$f":"IF(ISERROR(VLOOKUP(IF(G72<>0,G72,G71),入力シート!$B$7:$F$206,3,0)),\"\",IF(VLOOKUP(IF(G72<>0,G72,G71),入力シート!$B$7:$F$206,3,0)=0,\"\",VLOOKUP(IF(G72<>0,G72,G71),入力シート!$B$7:$F$206,3,0)))","v":""},null,{"$f":"IF(ISERROR(VLOOKUP(IF(I72<>0,I72,I71),入力シート!$B$7:$F$206,2,0)),\"\",IF(VLOOKUP(IF(I72<>0,I72,I71),入力シート!$B$7:$F$206,2,0)=0,\"\",VLOOKUP(IF(I72<>0,I72,I71),入力シート!$B$7:$F$206,2,0)))","v":""},{"$f":"IF(ISERROR(VLOOKUP(IF(J72<>0,J72,J71),入力シート!$B$7:$F$206,2,0)),\"\",IF(VLOOKUP(IF(J72<>0,J72,J71),入力シート!$B$7:$F$206,2,0)=0,\"\",VLOOKUP(IF(J72<>0,J72,J71),入力シート!$B$7:$F$206,2,0)))","v":""}]
[47,"名称",{"$f":"IF(ISERROR(VLOOKUP(IF(A73<>0,A73,A72),入力シート!$B$7:$F$206,2,0)),\"\",IF(VLOOKUP(IF(A73<>0,A73,A72),入力シート!$B$7:$F$206,2,0)=0,\"\",VLOOKUP(IF(A73<>0,A73,A72),入力シート!$B$7:$F$206,2,0)))","v":""},null,{"$f":"IF(ISERROR(VLOOKUP(IF(A73<>0,A73,A72),入力シート!$B$7:$F$206,4,0)),\"\",IF(VLOOKUP(IF(A73<>0,A73,A72),入力シート!$B$7:$F$206,4,0)=0,\"\",VLOOKUP(IF(A73<>0,A73,A72),入力シート!$B$7:$F$206,4,0)))","v":""},{"$f":"IF(ISERROR(VLOOKUP(IF(A73<>0,A73,A72),入力シート!$B$7:$F$206,5,0)),\"\",IF(VLOOKUP(IF(A73<>0,A73,A72),入力シート!$B$7:$F$206,5,0)=0,\"\",VLOOKUP(IF(A73<>0,A73,A72),入力シート!$B$7:$F$206,5,0)))","v":""},57,"名称",{"$f":"IF(ISERROR(VLOOKUP(IF(G73<>0,G73,G72),入力シート!$B$7:$F$206,2,0)),\"\",IF(VLOOKUP(IF(G73<>0,G73,G72),入力シート!$B$7:$F$206,2,0)=0,\"\",VLOOKUP(IF(G73<>0,G73,G72),入力シート!$B$7:$F$206,2,0)))","v":""},null,{"$f":"IF(ISERROR(VLOOKUP(IF(G73<>0,G73,G72),入力シート!$B$7:$F$206,4,0)),\"\",IF(VLOOKUP(IF(G73<>0,G73,G72),入力シート!$B$7:$F$206,4,0)=0,\"\",VLOOKUP(IF(G73<>0,G73,G72),入力シート!$B$7:$F$206,4,0)))","v":""},{"$f":"IF(ISERROR(VLOOKUP(IF(G73<>0,G73,G72),入力シート!$B$7:$F$206,5,0)),\"\",IF(VLOOKUP(IF(G73<>0,G73,G72),入力シート!$B$7:$F$206,5,0)=0,\"\",VLOOKUP(IF(G73<>0,G73,G72),入力シート!$B$7:$F$206,5,0)))","v":""}]
[null,"住所",{"$f":"IF(ISERROR(VLOOKUP(IF(A74<>0,A74,A73),入力シート!$B$7:$F$206,3,0)),\"\",IF(VLOOKUP(IF(A74<>0,A74,A73),入力シート!$B$7:$F$206,3,0)=0,\"\",VLOOKUP(IF(A74<>0,A74,A73),入力シート!$B$7:$F$206,3,0)))","v":""},null,{"$f":"IF(ISERROR(VLOOKUP(IF(C74<>0,C74,C73),入力シート!$B$7:$F$206,2,0)),\"\",IF(VLOOKUP(IF(C74<>0,C74,C73),入力シート!$B$7:$F$206,2,0)=0,\"\",VLOOKUP(IF(C74<>0,C74,C73),入力シート!$B$7:$F$206,2,0)))","v":""},{"$f":"IF(ISERROR(VLOOKUP(IF(D74<>0,D74,D73),入力シート!$B$7:$F$206,2,0)),\"\",IF(VLOOKUP(IF(D74<>0,D74,D73),入力シート!$B$7:$F$206,2,0)=0,\"\",VLOOKUP(IF(D74<>0,D74,D73),入力シート!$B$7:$F$206,2,0)))","v":""},null,"住所",{"$f":"IF(ISERROR(VLOOKUP(IF(G74<>0,G74,G73),入力シート!$B$7:$F$206,3,0)),\"\",IF(VLOOKUP(IF(G74<>0,G74,G73),入力シート!$B$7:$F$206,3,0)=0,\"\",VLOOKUP(IF(G74<>0,G74,G73),入力シート!$B$7:$F$206,3,0)))","v":""},null,{"$f":"IF(ISERROR(VLOOKUP(IF(I74<>0,I74,I73),入力シート!$B$7:$F$206,2,0)),\"\",IF(VLOOKUP(IF(I74<>0,I74,I73),入力シート!$B$7:$F$206,2,0)=0,\"\",VLOOKUP(IF(I74<>0,I74,I73),入力シート!$B$7:$F$206,2,0)))","v":""},{"$f":"IF(ISERROR(VLOOKUP(IF(J74<>0,J74,J73),入力シート!$B$7:$F$206,2,0)),\"\",IF(VLOOKUP(IF(J74<>0,J74,J73),入力シート!$B$7:$F$206,2,0)=0,\"\",VLOOKUP(IF(J74<>0,J74,J73),入力シート!$B$7:$F$206,2,0)))","v":""}]
[48,"名称",{"$f":"IF(ISERROR(VLOOKUP(IF(A75<>0,A75,A74),入力シート!$B$7:$F$206,2,0)),\"\",IF(VLOOKUP(IF(A75<>0,A75,A74),入力シート!$B$7:$F$206,2,0)=0,\"\",VLOOKUP(IF(A75<>0,A75,A74),入力シート!$B$7:$F$206,2,0)))","v":""},null,{"$f":"IF(ISERROR(VLOOKUP(IF(A75<>0,A75,A74),入力シート!$B$7:$F$206,4,0)),\"\",IF(VLOOKUP(IF(A75<>0,A75,A74),入力シート!$B$7:$F$206,4,0)=0,\"\",VLOOKUP(IF(A75<>0,A75,A74),入力シート!$B$7:$F$206,4,0)))","v":""},{"$f":"IF(ISERROR(VLOOKUP(IF(A75<>0,A75,A74),入力シート!$B$7:$F$206,5,0)),\"\",IF(VLOOKUP(IF(A75<>0,A75,A74),入力シート!$B$7:$F$206,5,0)=0,\"\",VLOOKUP(IF(A75<>0,A75,A74),入力シート!$B$7:$F$206,5,0)))","v":""},58,"名称",{"$f":"IF(ISERROR(VLOOKUP(IF(G75<>0,G75,G74),入力シート!$B$7:$F$206,2,0)),\"\",IF(VLOOKUP(IF(G75<>0,G75,G74),入力シート!$B$7:$F$206,2,0)=0,\"\",VLOOKUP(IF(G75<>0,G75,G74),入力シート!$B$7:$F$206,2,0)))","v":""},null,{"$f":"IF(ISERROR(VLOOKUP(IF(G75<>0,G75,G74),入力シート!$B$7:$F$206,4,0)),\"\",IF(VLOOKUP(IF(G75<>0,G75,G74),入力シート!$B$7:$F$206,4,0)=0,\"\",VLOOKUP(IF(G75<>0,G75,G74),入力シート!$B$7:$F$206,4,0)))","v":""},{"$f":"IF(ISERROR(VLOOKUP(IF(G75<>0,G75,G74),入力シート!$B$7:$F$206,5,0)),\"\",IF(VLOOKUP(IF(G75<>0,G75,G74),入力シート!$B$7:$F$206,5,0)=0,\"\",VLOOKUP(IF(G75<>0,G75,G74),入力シート!$B$7:$F$206,5,0)))","v":""}]
[null,"住所",{"$f":"IF(ISERROR(VLOOKUP(IF(A76<>0,A76,A75),入力シート!$B$7:$F$206,3,0)),\"\",IF(VLOOKUP(IF(A76<>0,A76,A75),入力シート!$B$7:$F$206,3,0)=0,\"\",VLOOKUP(IF(A76<>0,A76,A75),入力シート!$B$7:$F$206,3,0)))","v":""},null,{"$f":"IF(ISERROR(VLOOKUP(IF(C76<>0,C76,C75),入力シート!$B$7:$F$206,2,0)),\"\",IF(VLOOKUP(IF(C76<>0,C76,C75),入力シート!$B$7:$F$206,2,0)=0,\"\",VLOOKUP(IF(C76<>0,C76,C75),入力シート!$B$7:$F$206,2,0)))","v":""},{"$f":"IF(ISERROR(VLOOKUP(IF(D76<>0,D76,D75),入力シート!$B$7:$F$206,2,0)),\"\",IF(VLOOKUP(IF(D76<>0,D76,D75),入力シート!$B$7:$F$206,2,0)=0,\"\",VLOOKUP(IF(D76<>0,D76,D75),入力シート!$B$7:$F$206,2,0)))","v":""},null,"住所",{"$f":"IF(ISERROR(VLOOKUP(IF(G76<>0,G76,G75),入力シート!$B$7:$F$206,3,0)),\"\",IF(VLOOKUP(IF(G76<>0,G76,G75),入力シート!$B$7:$F$206,3,0)=0,\"\",VLOOKUP(IF(G76<>0,G76,G75),入力シート!$B$7:$F$206,3,0)))","v":""},null,{"$f":"IF(ISERROR(VLOOKUP(IF(I76<>0,I76,I75),入力シート!$B$7:$F$206,2,0)),\"\",IF(VLOOKUP(IF(I76<>0,I76,I75),入力シート!$B$7:$F$206,2,0)=0,\"\",VLOOKUP(IF(I76<>0,I76,I75),入力シート!$B$7:$F$206,2,0)))","v":""},{"$f":"IF(ISERROR(VLOOKUP(IF(J76<>0,J76,J75),入力シート!$B$7:$F$206,2,0)),\"\",IF(VLOOKUP(IF(J76<>0,J76,J75),入力シート!$B$7:$F$206,2,0)=0,\"\",VLOOKUP(IF(J76<>0,J76,J75),入力シート!$B$7:$F$206,2,0)))","v":""}]
[49,"名称",{"$f":"IF(ISERROR(VLOOKUP(IF(A77<>0,A77,A76),入力シート!$B$7:$F$206,2,0)),\"\",IF(VLOOKUP(IF(A77<>0,A77,A76),入力シート!$B$7:$F$206,2,0)=0,\"\",VLOOKUP(IF(A77<>0,A77,A76),入力シート!$B$7:$F$206,2,0)))","v":""},null,{"$f":"IF(ISERROR(VLOOKUP(IF(A77<>0,A77,A76),入力シート!$B$7:$F$206,4,0)),\"\",IF(VLOOKUP(IF(A77<>0,A77,A76),入力シート!$B$7:$F$206,4,0)=0,\"\",VLOOKUP(IF(A77<>0,A77,A76),入力シート!$B$7:$F$206,4,0)))","v":""},{"$f":"IF(ISERROR(VLOOKUP(IF(A77<>0,A77,A76),入力シート!$B$7:$F$206,5,0)),\"\",IF(VLOOKUP(IF(A77<>0,A77,A76),入力シート!$B$7:$F$206,5,0)=0,\"\",VLOOKUP(IF(A77<>0,A77,A76),入力シート!$B$7:$F$206,5,0)))","v":""},59,"名称",{"$f":"IF(ISERROR(VLOOKUP(IF(G77<>0,G77,G76),入力シート!$B$7:$F$206,2,0)),\"\",IF(VLOOKUP(IF(G77<>0,G77,G76),入力シート!$B$7:$F$206,2,0)=0,\"\",VLOOKUP(IF(G77<>0,G77,G76),入力シート!$B$7:$F$206,2,0)))","v":""},null,{"$f":"IF(ISERROR(VLOOKUP(IF(G77<>0,G77,G76),入力シート!$B$7:$F$206,4,0)),\"\",IF(VLOOKUP(IF(G77<>0,G77,G76),入力シート!$B$7:$F$206,4,0)=0,\"\",VLOOKUP(IF(G77<>0,G77,G76),入力シート!$B$7:$F$206,4,0)))","v":""},{"$f":"IF(ISERROR(VLOOKUP(IF(G77<>0,G77,G76),入力シート!$B$7:$F$206,5,0)),\"\",IF(VLOOKUP(IF(G77<>0,G77,G76),入力シート!$B$7:$F$206,5,0)=0,\"\",VLOOKUP(IF(G77<>0,G77,G76),入力シート!$B$7:$F$206,5,0)))","v":""}]
[null,"住所",{"$f":"IF(ISERROR(VLOOKUP(IF(A78<>0,A78,A77),入力シート!$B$7:$F$206,3,0)),\"\",IF(VLOOKUP(IF(A78<>0,A78,A77),入力シート!$B$7:$F$206,3,0)=0,\"\",VLOOKUP(IF(A78<>0,A78,A77),入力シート!$B$7:$F$206,3,0)))","v":""},null,{"$f":"IF(ISERROR(VLOOKUP(IF(C78<>0,C78,C77),入力シート!$B$7:$F$206,2,0)),\"\",IF(VLOOKUP(IF(C78<>0,C78,C77),入力シート!$B$7:$F$206,2,0)=0,\"\",VLOOKUP(IF(C78<>0,C78,C77),入力シート!$B$7:$F$206,2,0)))","v":""},{"$f":"IF(ISERROR(VLOOKUP(IF(D78<>0,D78,D77),入力シート!$B$7:$F$206,2,0)),\"\",IF(VLOOKUP(IF(D78<>0,D78,D77),入力シート!$B$7:$F$206,2,0)=0,\"\",VLOOKUP(IF(D78<>0,D78,D77),入力シート!$B$7:$F$206,2,0)))","v":""},null,"住所",{"$f":"IF(ISERROR(VLOOKUP(IF(G78<>0,G78,G77),入力シート!$B$7:$F$206,3,0)),\"\",IF(VLOOKUP(IF(G78<>0,G78,G77),入力シート!$B$7:$F$206,3,0)=0,\"\",VLOOKUP(IF(G78<>0,G78,G77),入力シート!$B$7:$F$206,3,0)))","v":""},null,{"$f":"IF(ISERROR(VLOOKUP(IF(I78<>0,I78,I77),入力シート!$B$7:$F$206,2,0)),\"\",IF(VLOOKUP(IF(I78<>0,I78,I77),入力シート!$B$7:$F$206,2,0)=0,\"\",VLOOKUP(IF(I78<>0,I78,I77),入力シート!$B$7:$F$206,2,0)))","v":""},{"$f":"IF(ISERROR(VLOOKUP(IF(J78<>0,J78,J77),入力シート!$B$7:$F$206,2,0)),\"\",IF(VLOOKUP(IF(J78<>0,J78,J77),入力シート!$B$7:$F$206,2,0)=0,\"\",VLOOKUP(IF(J78<>0,J78,J77),入力シート!$B$7:$F$206,2,0)))","v":""}]
[50,"名称",{"$f":"IF(ISERROR(VLOOKUP(IF(A79<>0,A79,A78),入力シート!$B$7:$F$206,2,0)),\"\",IF(VLOOKUP(IF(A79<>0,A79,A78),入力シート!$B$7:$F$206,2,0)=0,\"\",VLOOKUP(IF(A79<>0,A79,A78),入力シート!$B$7:$F$206,2,0)))","v":""},null,{"$f":"IF(ISERROR(VLOOKUP(IF(A79<>0,A79,A78),入力シート!$B$7:$F$206,4,0)),\"\",IF(VLOOKUP(IF(A79<>0,A79,A78),入力シート!$B$7:$F$206,4,0)=0,\"\",VLOOKUP(IF(A79<>0,A79,A78),入力シート!$B$7:$F$206,4,0)))","v":""},{"$f":"IF(ISERROR(VLOOKUP(IF(A79<>0,A79,A78),入力シート!$B$7:$F$206,5,0)),\"\",IF(VLOOKUP(IF(A79<>0,A79,A78),入力シート!$B$7:$F$206,5,0)=0,\"\",VLOOKUP(IF(A79<>0,A79,A78),入力シート!$B$7:$F$206,5,0)))","v":""},60,"名称",{"$f":"IF(ISERROR(VLOOKUP(IF(G79<>0,G79,G78),入力シート!$B$7:$F$206,2,0)),\"\",IF(VLOOKUP(IF(G79<>0,G79,G78),入力シート!$B$7:$F$206,2,0)=0,\"\",VLOOKUP(IF(G79<>0,G79,G78),入力シート!$B$7:$F$206,2,0)))","v":""},null,{"$f":"IF(ISERROR(VLOOKUP(IF(G79<>0,G79,G78),入力シート!$B$7:$F$206,4,0)),\"\",IF(VLOOKUP(IF(G79<>0,G79,G78),入力シート!$B$7:$F$206,4,0)=0,\"\",VLOOKUP(IF(G79<>0,G79,G78),入力シート!$B$7:$F$206,4,0)))","v":""},{"$f":"IF(ISERROR(VLOOKUP(IF(G79<>0,G79,G78),入力シート!$B$7:$F$206,5,0)),\"\",IF(VLOOKUP(IF(G79<>0,G79,G78),入力シート!$B$7:$F$206,5,0)=0,\"\",VLOOKUP(IF(G79<>0,G79,G78),入力シート!$B$7:$F$206,5,0)))","v":""}]
[null,"住所",{"$f":"IF(ISERROR(VLOOKUP(IF(A80<>0,A80,A79),入力シート!$B$7:$F$206,3,0)),\"\",IF(VLOOKUP(IF(A80<>0,A80,A79),入力シート!$B$7:$F$206,3,0)=0,\"\",VLOOKUP(IF(A80<>0,A80,A79),入力シート!$B$7:$F$206,3,0)))","v":""},null,{"$f":"IF(ISERROR(VLOOKUP(IF(C80<>0,C80,C79),入力シート!$B$7:$F$206,2,0)),\"\",IF(VLOOKUP(IF(C80<>0,C80,C79),入力シート!$B$7:$F$206,2,0)=0,\"\",VLOOKUP(IF(C80<>0,C80,C79),入力シート!$B$7:$F$206,2,0)))","v":""},{"$f":"IF(ISERROR(VLOOKUP(IF(D80<>0,D80,D79),入力シート!$B$7:$F$206,2,0)),\"\",IF(VLOOKUP(IF(D80<>0,D80,D79),入力シート!$B$7:$F$206,2,0)=0,\"\",VLOOKUP(IF(D80<>0,D80,D79),入力シート!$B$7:$F$206,2,0)))","v":""},null,"住所",{"$f":"IF(ISERROR(VLOOKUP(IF(G80<>0,G80,G79),入力シート!$B$7:$F$206,3,0)),\"\",IF(VLOOKUP(IF(G80<>0,G80,G79),入力シート!$B$7:$F$206,3,0)=0,\"\",VLOOKUP(IF(G80<>0,G80,G79),入力シート!$B$7:$F$206,3,0)))","v":""},null,{"$f":"IF(ISERROR(VLOOKUP(IF(I80<>0,I80,I79),入力シート!$B$7:$F$206,2,0)),\"\",IF(VLOOKUP(IF(I80<>0,I80,I79),入力シート!$B$7:$F$206,2,0)=0,\"\",VLOOKUP(IF(I80<>0,I80,I79),入力シート!$B$7:$F$206,2,0)))","v":""},{"$f":"IF(ISERROR(VLOOKUP(IF(J80<>0,J80,J79),入力シート!$B$7:$F$206,2,0)),\"\",IF(VLOOKUP(IF(J80<>0,J80,J79),入力シート!$B$7:$F$206,2,0)=0,\"\",VLOOKUP(IF(J80<>0,J80,J79),入力シート!$B$7:$F$206,2,0)))","v":""}]
["（注）","1.本名簿には、配送事業者がＬＰガス配送を受託しているＬＰガス販売事業者をすべて記入する。",null,null,null,null,null,"小　　計（このページの合計）",null,null,{"$f":"SUM(E61:E80,K61:K80)","v":0},{"$f":"SUM(F61:F80,L61:L80)","v":0}]
[null,"2.ＬＰガス配送受託販売所の名称欄には企業名、販売所名を明記し、住所欄には当該販売所の住所を記入する。"]
[null,"3.保険契約加入依頼の際、依頼書に本名簿（保険会社用、事業団用、都道府県協会用）を添付して提出する。"]
[null,"4.支部が事業団に加入依頼書を送付する際、２部（保険会社用、事業団用）を添付する。"]
[null,null,null,null,null,null,null,null,null,null,4,{"$f":"COUNTIF($L$26,\">0\")+COUNTIF($L$54,\">0\")+COUNTIF($L$81,\">0\")+COUNTIF($L$108,\">0\")+COUNTIF($L$135,\">0\")+COUNTIF($L$162,\">0\")+COUNTIF($L$189,\">0\")+COUNTIF($L$216,\">0\")+COUNTIF($L$243,\">0\")+COUNTIF($L$270,\">0\")","v":0}]
["LPガス配送",null,null,"名　　　　称","配送契約の内容",null,"LPガス配送",null,null,"名　　　　称","配送契約の内容"]
["受託販売所",null,null,"住　　　　所","配　送　先\n消費者戸数","1か年間の\n配送トン数","受託販売所",null,null,"住　　　　所","配　送　先\n消費者戸数","1か年間の\n配送トン数"]
[61,"名称",{"$f":"IF(ISERROR(VLOOKUP(IF(A88<>0,A88,A87),入力シート!$B$7:$F$206,2,0)),\"\",IF(VLOOKUP(IF(A88<>0,A88,A87),入力シート!$B$7:$F$206,2,0)=0,\"\",VLOOKUP(IF(A88<>0,A88,A87),入力シート!$B$7:$F$206,2,0)))","v":""},null,{"$f":"IF(ISERROR(VLOOKUP(IF(A88<>0,A88,A87),入力シート!$B$7:$F$206,4,0)),\"\",IF(VLOOKUP(IF(A88<>0,A88,A87),入力シート!$B$7:$F$206,4,0)=0,\"\",VLOOKUP(IF(A88<>0,A88,A87),入力シート!$B$7:$F$206,4,0)))","v":""},{"$f":"IF(ISERROR(VLOOKUP(IF(A88<>0,A88,A87),入力シート!$B$7:$F$206,5,0)),\"\",IF(VLOOKUP(IF(A88<>0,A88,A87),入力シート!$B$7:$F$206,5,0)=0,\"\",VLOOKUP(IF(A88<>0,A88,A87),入力シート!$B$7:$F$206,5,0)))","v":""},71,"名称",{"$f":"IF(ISERROR(VLOOKUP(IF(G88<>0,G88,G87),入力シート!$B$7:$F$206,2,0)),\"\",IF(VLOOKUP(IF(G88<>0,G88,G87),入力シート!$B$7:$F$206,2,0)=0,\"\",VLOOKUP(IF(G88<>0,G88,G87),入力シート!$B$7:$F$206,2,0)))","v":""},null,{"$f":"IF(ISERROR(VLOOKUP(IF(G88<>0,G88,G87),入力シート!$B$7:$F$206,4,0)),\"\",IF(VLOOKUP(IF(G88<>0,G88,G87),入力シート!$B$7:$F$206,4,0)=0,\"\",VLOOKUP(IF(G88<>0,G88,G87),入力シート!$B$7:$F$206,4,0)))","v":""},{"$f":"IF(ISERROR(VLOOKUP(IF(G88<>0,G88,G87),入力シート!$B$7:$F$206,5,0)),\"\",IF(VLOOKUP(IF(G88<>0,G88,G87),入力シート!$B$7:$F$206,5,0)=0,\"\",VLOOKUP(IF(G88<>0,G88,G87),入力シート!$B$7:$F$206,5,0)))","v":""}]
[null,"住所",{"$f":"IF(ISERROR(VLOOKUP(IF(A89<>0,A89,A88),入力シート!$B$7:$F$206,3,0)),\"\",IF(VLOOKUP(IF(A89<>0,A89,A88),入力シート!$B$7:$F$206,3,0)=0,\"\",VLOOKUP(IF(A89<>0,A89,A88),入力シート!$B$7:$F$206,3,0)))","v":""},null,{"$f":"IF(ISERROR(VLOOKUP(IF(C89<>0,C89,C88),入力シート!$B$7:$F$206,2,0)),\"\",IF(VLOOKUP(IF(C89<>0,C89,C88),入力シート!$B$7:$F$206,2,0)=0,\"\",VLOOKUP(IF(C89<>0,C89,C88),入力シート!$B$7:$F$206,2,0)))","v":""},{"$f":"IF(ISERROR(VLOOKUP(IF(D89<>0,D89,D88),入力シート!$B$7:$F$206,2,0)),\"\",IF(VLOOKUP(IF(D89<>0,D89,D88),入力シート!$B$7:$F$206,2,0)=0,\"\",VLOOKUP(IF(D89<>0,D89,D88),入力シート!$B$7:$F$206,2,0)))","v":""},null,"住所",{"$f":"IF(ISERROR(VLOOKUP(IF(G89<>0,G89,G88),入力シート!$B$7:$F$206,3,0)),\"\",IF(VLOOKUP(IF(G89<>0,G89,G88),入力シート!$B$7:$F$206,3,0)=0,\"\",VLOOKUP(IF(G89<>0,G89,G88),入力シート!$B$7:$F$206,3,0)))","v":""},null,{"$f":"IF(ISERROR(VLOOKUP(IF(I89<>0,I89,I88),入力シート!$B$7:$F$206,2,0)),\"\",IF(VLOOKUP(IF(I89<>0,I89,I88),入力シート!$B$7:$F$206,2,0)=0,\"\",VLOOKUP(IF(I89<>0,I89,I88),入力シート!$B$7:$F$206,2,0)))","v":""},{"$f":"IF(ISERROR(VLOOKUP(IF(J89<>0,J89,J88),入力シート!$B$7:$F$206,2,0)),\"\",IF(VLOOKUP(IF(J89<>0,J89,J88),入力シート!$B$7:$F$206,2,0)=0,\"\",VLOOKUP(IF(J89<>0,J89,J88),入力シート!$B$7:$F$206,2,0)))","v":""}]
[62,"名称",{"$f":"IF(ISERROR(VLOOKUP(IF(A90<>0,A90,A89),入力シート!$B$7:$F$206,2,0)),\"\",IF(VLOOKUP(IF(A90<>0,A90,A89),入力シート!$B$7:$F$206,2,0)=0,\"\",VLOOKUP(IF(A90<>0,A90,A89),入力シート!$B$7:$F$206,2,0)))","v":""},null,{"$f":"IF(ISERROR(VLOOKUP(IF(A90<>0,A90,A89),入力シート!$B$7:$F$206,4,0)),\"\",IF(VLOOKUP(IF(A90<>0,A90,A89),入力シート!$B$7:$F$206,4,0)=0,\"\",VLOOKUP(IF(A90<>0,A90,A89),入力シート!$B$7:$F$206,4,0)))","v":""},{"$f":"IF(ISERROR(VLOOKUP(IF(A90<>0,A90,A89),入力シート!$B$7:$F$206,5,0)),\"\",IF(VLOOKUP(IF(A90<>0,A90,A89),入力シート!$B$7:$F$206,5,0)=0,\"\",VLOOKUP(IF(A90<>0,A90,A89),入力シート!$B$7:$F$206,5,0)))","v":""},72,"名称",{"$f":"IF(ISERROR(VLOOKUP(IF(G90<>0,G90,G89),入力シート!$B$7:$F$206,2,0)),\"\",IF(VLOOKUP(IF(G90<>0,G90,G89),入力シート!$B$7:$F$206,2,0)=0,\"\",VLOOKUP(IF(G90<>0,G90,G89),入力シート!$B$7:$F$206,2,0)))","v":""},null,{"$f":"IF(ISERROR(VLOOKUP(IF(G90<>0,G90,G89),入力シート!$B$7:$F$206,4,0)),\"\",IF(VLOOKUP(IF(G90<>0,G90,G89),入力シート!$B$7:$F$206,4,0)=0,\"\",VLOOKUP(IF(G90<>0,G90,G89),入力シート!$B$7:$F$206,4,0)))","v":""},{"$f":"IF(ISERROR(VLOOKUP(IF(G90<>0,G90,G89),入力シート!$B$7:$F$206,5,0)),\"\",IF(VLOOKUP(IF(G90<>0,G90,G89),入力シート!$B$7:$F$206,5,0)=0,\"\",VLOOKUP(IF(G90<>0,G90,G89),入力シート!$B$7:$F$206,5,0)))","v":""}]
[null,"住所",{"$f":"IF(ISERROR(VLOOKUP(IF(A91<>0,A91,A90),入力シート!$B$7:$F$206,3,0)),\"\",IF(VLOOKUP(IF(A91<>0,A91,A90),入力シート!$B$7:$F$206,3,0)=0,\"\",VLOOKUP(IF(A91<>0,A91,A90),入力シート!$B$7:$F$206,3,0)))","v":""},null,{"$f":"IF(ISERROR(VLOOKUP(IF(C91<>0,C91,C90),入力シート!$B$7:$F$206,2,0)),\"\",IF(VLOOKUP(IF(C91<>0,C91,C90),入力シート!$B$7:$F$206,2,0)=0,\"\",VLOOKUP(IF(C91<>0,C91,C90),入力シート!$B$7:$F$206,2,0)))","v":""},{"$f":"IF(ISERROR(VLOOKUP(IF(D91<>0,D91,D90),入力シート!$B$7:$F$206,2,0)),\"\",IF(VLOOKUP(IF(D91<>0,D91,D90),入力シート!$B$7:$F$206,2,0)=0,\"\",VLOOKUP(IF(D91<>0,D91,D90),入力シート!$B$7:$F$206,2,0)))","v":""},null,"住所",{"$f":"IF(ISERROR(VLOOKUP(IF(G91<>0,G91,G90),入力シート!$B$7:$F$206,3,0)),\"\",IF(VLOOKUP(IF(G91<>0,G91,G90),入力シート!$B$7:$F$206,3,0)=0,\"\",VLOOKUP(IF(G91<>0,G91,G90),入力シート!$B$7:$F$206,3,0)))","v":""},null,{"$f":"IF(ISERROR(VLOOKUP(IF(I91<>0,I91,I90),入力シート!$B$7:$F$206,2,0)),\"\",IF(VLOOKUP(IF(I91<>0,I91,I90),入力シート!$B$7:$F$206,2,0)=0,\"\",VLOOKUP(IF(I91<>0,I91,I90),入力シート!$B$7:$F$206,2,0)))","v":""},{"$f":"IF(ISERROR(VLOOKUP(IF(J91<>0,J91,J90),入力シート!$B$7:$F$206,2,0)),\"\",IF(VLOOKUP(IF(J91<>0,J91,J90),入力シート!$B$7:$F$206,2,0)=0,\"\",VLOOKUP(IF(J91<>0,J91,J90),入力シート!$B$7:$F$206,2,0)))","v":""}]
[63,"名称",{"$f":"IF(ISERROR(VLOOKUP(IF(A92<>0,A92,A91),入力シート!$B$7:$F$206,2,0)),\"\",IF(VLOOKUP(IF(A92<>0,A92,A91),入力シート!$B$7:$F$206,2,0)=0,\"\",VLOOKUP(IF(A92<>0,A92,A91),入力シート!$B$7:$F$206,2,0)))","v":""},null,{"$f":"IF(ISERROR(VLOOKUP(IF(A92<>0,A92,A91),入力シート!$B$7:$F$206,4,0)),\"\",IF(VLOOKUP(IF(A92<>0,A92,A91),入力シート!$B$7:$F$206,4,0)=0,\"\",VLOOKUP(IF(A92<>0,A92,A91),入力シート!$B$7:$F$206,4,0)))","v":""},{"$f":"IF(ISERROR(VLOOKUP(IF(A92<>0,A92,A91),入力シート!$B$7:$F$206,5,0)),\"\",IF(VLOOKUP(IF(A92<>0,A92,A91),入力シート!$B$7:$F$206,5,0)=0,\"\",VLOOKUP(IF(A92<>0,A92,A91),入力シート!$B$7:$F$206,5,0)))","v":""},73,"名称",{"$f":"IF(ISERROR(VLOOKUP(IF(G92<>0,G92,G91),入力シート!$B$7:$F$206,2,0)),\"\",IF(VLOOKUP(IF(G92<>0,G92,G91),入力シート!$B$7:$F$206,2,0)=0,\"\",VLOOKUP(IF(G92<>0,G92,G91),入力シート!$B$7:$F$206,2,0)))","v":""},null,{"$f":"IF(ISERROR(VLOOKUP(IF(G92<>0,G92,G91),入力シート!$B$7:$F$206,4,0)),\"\",IF(VLOOKUP(IF(G92<>0,G92,G91),入力シート!$B$7:$F$206,4,0)=0,\"\",VLOOKUP(IF(G92<>0,G92,G91),入力シート!$B$7:$F$206,4,0)))","v":""},{"$f":"IF(ISERROR(VLOOKUP(IF(G92<>0,G92,G91),入力シート!$B$7:$F$206,5,0)),\"\",IF(VLOOKUP(IF(G92<>0,G92,G91),入力シート!$B$7:$F$206,5,0)=0,\"\",VLOOKUP(IF(G92<>0,G92,G91),入力シート!$B$7:$F$206,5,0)))","v":""}]
[null,"住所",{"$f":"IF(ISERROR(VLOOKUP(IF(A93<>0,A93,A92),入力シート!$B$7:$F$206,3,0)),\"\",IF(VLOOKUP(IF(A93<>0,A93,A92),入力シート!$B$7:$F$206,3,0)=0,\"\",VLOOKUP(IF(A93<>0,A93,A92),入力シート!$B$7:$F$206,3,0)))","v":""},null,{"$f":"IF(ISERROR(VLOOKUP(IF(C93<>0,C93,C92),入力シート!$B$7:$F$206,2,0)),\"\",IF(VLOOKUP(IF(C93<>0,C93,C92),入力シート!$B$7:$F$206,2,0)=0,\"\",VLOOKUP(IF(C93<>0,C93,C92),入力シート!$B$7:$F$206,2,0)))","v":""},{"$f":"IF(ISERROR(VLOOKUP(IF(D93<>0,D93,D92),入力シート!$B$7:$F$206,2,0)),\"\",IF(VLOOKUP(IF(D93<>0,D93,D92),入力シート!$B$7:$F$206,2,0)=0,\"\",VLOOKUP(IF(D93<>0,D93,D92),入力シート!$B$7:$F$206,2,0)))","v":""},null,"住所",{"$f":"IF(ISERROR(VLOOKUP(IF(G93<>0,G93,G92),入力シート!$B$7:$F$206,3,0)),\"\",IF(VLOOKUP(IF(G93<>0,G93,G92),入力シート!$B$7:$F$206,3,0)=0,\"\",VLOOKUP(IF(G93<>0,G93,G92),入力シート!$B$7:$F$206,3,0)))","v":""},null,{"$f":"IF(ISERROR(VLOOKUP(IF(I93<>0,I93,I92),入力シート!$B$7:$F$206,2,0)),\"\",IF(VLOOKUP(IF(I93<>0,I93,I92),入力シート!$B$7:$F$206,2,0)=0,\"\",VLOOKUP(IF(I93<>0,I93,I92),入力シート!$B$7:$F$206,2,0)))","v":""},{"$f":"IF(ISERROR(VLOOKUP(IF(J93<>0,J93,J92),入力シート!$B$7:$F$206,2,0)),\"\",IF(VLOOKUP(IF(J93<>0,J93,J92),入力シート!$B$7:$F$206,2,0)=0,\"\",VLOOKUP(IF(J93<>0,J93,J92),入力シート!$B$7:$F$206,2,0)))","v":""}]
[64,"名称",{"$f":"IF(ISERROR(VLOOKUP(IF(A94<>0,A94,A93),入力シート!$B$7:$F$206,2,0)),\"\",IF(VLOOKUP(IF(A94<>0,A94,A93),入力シート!$B$7:$F$206,2,0)=0,\"\",VLOOKUP(IF(A94<>0,A94,A93),入力シート!$B$7:$F$206,2,0)))","v":""},null,{"$f":"IF(ISERROR(VLOOKUP(IF(A94<>0,A94,A93),入力シート!$B$7:$F$206,4,0)),\"\",IF(VLOOKUP(IF(A94<>0,A94,A93),入力シート!$B$7:$F$206,4,0)=0,\"\",VLOOKUP(IF(A94<>0,A94,A93),入力シート!$B$7:$F$206,4,0)))","v":""},{"$f":"IF(ISERROR(VLOOKUP(IF(A94<>0,A94,A93),入力シート!$B$7:$F$206,5,0)),\"\",IF(VLOOKUP(IF(A94<>0,A94,A93),入力シート!$B$7:$F$206,5,0)=0,\"\",VLOOKUP(IF(A94<>0,A94,A93),入力シート!$B$7:$F$206,5,0)))","v":""},74,"名称",{"$f":"IF(ISERROR(VLOOKUP(IF(G94<>0,G94,G93),入力シート!$B$7:$F$206,2,0)),\"\",IF(VLOOKUP(IF(G94<>0,G94,G93),入力シート!$B$7:$F$206,2,0)=0,\"\",VLOOKUP(IF(G94<>0,G94,G93),入力シート!$B$7:$F$206,2,0)))","v":""},null,{"$f":"IF(ISERROR(VLOOKUP(IF(G94<>0,G94,G93),入力シート!$B$7:$F$206,4,0)),\"\",IF(VLOOKUP(IF(G94<>0,G94,G93),入力シート!$B$7:$F$206,4,0)=0,\"\",VLOOKUP(IF(G94<>0,G94,G93),入力シート!$B$7:$F$206,4,0)))","v":""},{"$f":"IF(ISERROR(VLOOKUP(IF(G94<>0,G94,G93),入力シート!$B$7:$F$206,5,0)),\"\",IF(VLOOKUP(IF(G94<>0,G94,G93),入力シート!$B$7:$F$206,5,0)=0,\"\",VLOOKUP(IF(G94<>0,G94,G93),入力シート!$B$7:$F$206,5,0)))","v":""}]
[null,"住所",{"$f":"IF(ISERROR(VLOOKUP(IF(A95<>0,A95,A94),入力シート!$B$7:$F$206,3,0)),\"\",IF(VLOOKUP(IF(A95<>0,A95,A94),入力シート!$B$7:$F$206,3,0)=0,\"\",VLOOKUP(IF(A95<>0,A95,A94),入力シート!$B$7:$F$206,3,0)))","v":""},null,{"$f":"IF(ISERROR(VLOOKUP(IF(C95<>0,C95,C94),入力シート!$B$7:$F$206,2,0)),\"\",IF(VLOOKUP(IF(C95<>0,C95,C94),入力シート!$B$7:$F$206,2,0)=0,\"\",VLOOKUP(IF(C95<>0,C95,C94),入力シート!$B$7:$F$206,2,0)))","v":""},{"$f":"IF(ISERROR(VLOOKUP(IF(D95<>0,D95,D94),入力シート!$B$7:$F$206,2,0)),\"\",IF(VLOOKUP(IF(D95<>0,D95,D94),入力シート!$B$7:$F$206,2,0)=0,\"\",VLOOKUP(IF(D95<>0,D95,D94),入力シート!$B$7:$F$206,2,0)))","v":""},null,"住所",{"$f":"IF(ISERROR(VLOOKUP(IF(G95<>0,G95,G94),入力シート!$B$7:$F$206,3,0)),\"\",IF(VLOOKUP(IF(G95<>0,G95,G94),入力シート!$B$7:$F$206,3,0)=0,\"\",VLOOKUP(IF(G95<>0,G95,G94),入力シート!$B$7:$F$206,3,0)))","v":""},null,{"$f":"IF(ISERROR(VLOOKUP(IF(I95<>0,I95,I94),入力シート!$B$7:$F$206,2,0)),\"\",IF(VLOOKUP(IF(I95<>0,I95,I94),入力シート!$B$7:$F$206,2,0)=0,\"\",VLOOKUP(IF(I95<>0,I95,I94),入力シート!$B$7:$F$206,2,0)))","v":""},{"$f":"IF(ISERROR(VLOOKUP(IF(J95<>0,J95,J94),入力シート!$B$7:$F$206,2,0)),\"\",IF(VLOOKUP(IF(J95<>0,J95,J94),入力シート!$B$7:$F$206,2,0)=0,\"\",VLOOKUP(IF(J95<>0,J95,J94),入力シート!$B$7:$F$206,2,0)))","v":""}]
[65,"名称",{"$f":"IF(ISERROR(VLOOKUP(IF(A96<>0,A96,A95),入力シート!$B$7:$F$206,2,0)),\"\",IF(VLOOKUP(IF(A96<>0,A96,A95),入力シート!$B$7:$F$206,2,0)=0,\"\",VLOOKUP(IF(A96<>0,A96,A95),入力シート!$B$7:$F$206,2,0)))","v":""},null,{"$f":"IF(ISERROR(VLOOKUP(IF(A96<>0,A96,A95),入力シート!$B$7:$F$206,4,0)),\"\",IF(VLOOKUP(IF(A96<>0,A96,A95),入力シート!$B$7:$F$206,4,0)=0,\"\",VLOOKUP(IF(A96<>0,A96,A95),入力シート!$B$7:$F$206,4,0)))","v":""},{"$f":"IF(ISERROR(VLOOKUP(IF(A96<>0,A96,A95),入力シート!$B$7:$F$206,5,0)),\"\",IF(VLOOKUP(IF(A96<>0,A96,A95),入力シート!$B$7:$F$206,5,0)=0,\"\",VLOOKUP(IF(A96<>0,A96,A95),入力シート!$B$7:$F$206,5,0)))","v":""},75,"名称",{"$f":"IF(ISERROR(VLOOKUP(IF(G96<>0,G96,G95),入力シート!$B$7:$F$206,2,0)),\"\",IF(VLOOKUP(IF(G96<>0,G96,G95),入力シート!$B$7:$F$206,2,0)=0,\"\",VLOOKUP(IF(G96<>0,G96,G95),入力シート!$B$7:$F$206,2,0)))","v":""},null,{"$f":"IF(ISERROR(VLOOKUP(IF(G96<>0,G96,G95),入力シート!$B$7:$F$206,4,0)),\"\",IF(VLOOKUP(IF(G96<>0,G96,G95),入力シート!$B$7:$F$206,4,0)=0,\"\",VLOOKUP(IF(G96<>0,G96,G95),入力シート!$B$7:$F$206,4,0)))","v":""},{"$f":"IF(ISERROR(VLOOKUP(IF(G96<>0,G96,G95),入力シート!$B$7:$F$206,5,0)),\"\",IF(VLOOKUP(IF(G96<>0,G96,G95),入力シート!$B$7:$F$206,5,0)=0,\"\",VLOOKUP(IF(G96<>0,G96,G95),入力シート!$B$7:$F$206,5,0)))","v":""}]
[null,"住所",{"$f":"IF(ISERROR(VLOOKUP(IF(A97<>0,A97,A96),入力シート!$B$7:$F$206,3,0)),\"\",IF(VLOOKUP(IF(A97<>0,A97,A96),入力シート!$B$7:$F$206,3,0)=0,\"\",VLOOKUP(IF(A97<>0,A97,A96),入力シート!$B$7:$F$206,3,0)))","v":""},null,{"$f":"IF(ISERROR(VLOOKUP(IF(C97<>0,C97,C96),入力シート!$B$7:$F$206,2,0)),\"\",IF(VLOOKUP(IF(C97<>0,C97,C96),入力シート!$B$7:$F$206,2,0)=0,\"\",VLOOKUP(IF(C97<>0,C97,C96),入力シート!$B$7:$F$206,2,0)))","v":""},{"$f":"IF(ISERROR(VLOOKUP(IF(D97<>0,D97,D96),入力シート!$B$7:$F$206,2,0)),\"\",IF(VLOOKUP(IF(D97<>0,D97,D96),入力シート!$B$7:$F$206,2,0)=0,\"\",VLOOKUP(IF(D97<>0,D97,D96),入力シート!$B$7:$F$206,2,0)))","v":""},null,"住所",{"$f":"IF(ISERROR(VLOOKUP(IF(G97<>0,G97,G96),入力シート!$B$7:$F$206,3,0)),\"\",IF(VLOOKUP(IF(G97<>0,G97,G96),入力シート!$B$7:$F$206,3,0)=0,\"\",VLOOKUP(IF(G97<>0,G97,G96),入力シート!$B$7:$F$206,3,0)))","v":""},null,{"$f":"IF(ISERROR(VLOOKUP(IF(I97<>0,I97,I96),入力シート!$B$7:$F$206,2,0)),\"\",IF(VLOOKUP(IF(I97<>0,I97,I96),入力シート!$B$7:$F$206,2,0)=0,\"\",VLOOKUP(IF(I97<>0,I97,I96),入力シート!$B$7:$F$206,2,0)))","v":""},{"$f":"IF(ISERROR(VLOOKUP(IF(J97<>0,J97,J96),入力シート!$B$7:$F$206,2,0)),\"\",IF(VLOOKUP(IF(J97<>0,J97,J96),入力シート!$B$7:$F$206,2,0)=0,\"\",VLOOKUP(IF(J97<>0,J97,J96),入力シート!$B$7:$F$206,2,0)))","v":""}]
[66,"名称",{"$f":"IF(ISERROR(VLOOKUP(IF(A98<>0,A98,A97),入力シート!$B$7:$F$206,2,0)),\"\",IF(VLOOKUP(IF(A98<>0,A98,A97),入力シート!$B$7:$F$206,2,0)=0,\"\",VLOOKUP(IF(A98<>0,A98,A97),入力シート!$B$7:$F$206,2,0)))","v":""},null,{"$f":"IF(ISERROR(VLOOKUP(IF(A98<>0,A98,A97),入力シート!$B$7:$F$206,4,0)),\"\",IF(VLOOKUP(IF(A98<>0,A98,A97),入力シート!$B$7:$F$206,4,0)=0,\"\",VLOOKUP(IF(A98<>0,A98,A97),入力シート!$B$7:$F$206,4,0)))","v":""},{"$f":"IF(ISERROR(VLOOKUP(IF(A98<>0,A98,A97),入力シート!$B$7:$F$206,5,0)),\"\",IF(VLOOKUP(IF(A98<>0,A98,A97),入力シート!$B$7:$F$206,5,0)=0,\"\",VLOOKUP(IF(A98<>0,A98,A97),入力シート!$B$7:$F$206,5,0)))","v":""},76,"名称",{"$f":"IF(ISERROR(VLOOKUP(IF(G98<>0,G98,G97),入力シート!$B$7:$F$206,2,0)),\"\",IF(VLOOKUP(IF(G98<>0,G98,G97),入力シート!$B$7:$F$206,2,0)=0,\"\",VLOOKUP(IF(G98<>0,G98,G97),入力シート!$B$7:$F$206,2,0)))","v":""},null,{"$f":"IF(ISERROR(VLOOKUP(IF(G98<>0,G98,G97),入力シート!$B$7:$F$206,4,0)),\"\",IF(VLOOKUP(IF(G98<>0,G98,G97),入力シート!$B$7:$F$206,4,0)=0,\"\",VLOOKUP(IF(G98<>0,G98,G97),入力シート!$B$7:$F$206,4,0)))","v":""},{"$f":"IF(ISERROR(VLOOKUP(IF(G98<>0,G98,G97),入力シート!$B$7:$F$206,5,0)),\"\",IF(VLOOKUP(IF(G98<>0,G98,G97),入力シート!$B$7:$F$206,5,0)=0,\"\",VLOOKUP(IF(G98<>0,G98,G97),入力シート!$B$7:$F$206,5,0)))","v":""}]
[null,"住所",{"$f":"IF(ISERROR(VLOOKUP(IF(A99<>0,A99,A98),入力シート!$B$7:$F$206,3,0)),\"\",IF(VLOOKUP(IF(A99<>0,A99,A98),入力シート!$B$7:$F$206,3,0)=0,\"\",VLOOKUP(IF(A99<>0,A99,A98),入力シート!$B$7:$F$206,3,0)))","v":""},null,{"$f":"IF(ISERROR(VLOOKUP(IF(C99<>0,C99,C98),入力シート!$B$7:$F$206,2,0)),\"\",IF(VLOOKUP(IF(C99<>0,C99,C98),入力シート!$B$7:$F$206,2,0)=0,\"\",VLOOKUP(IF(C99<>0,C99,C98),入力シート!$B$7:$F$206,2,0)))","v":""},{"$f":"IF(ISERROR(VLOOKUP(IF(D99<>0,D99,D98),入力シート!$B$7:$F$206,2,0)),\"\",IF(VLOOKUP(IF(D99<>0,D99,D98),入力シート!$B$7:$F$206,2,0)=0,\"\",VLOOKUP(IF(D99<>0,D99,D98),入力シート!$B$7:$F$206,2,0)))","v":""},null,"住所",{"$f":"IF(ISERROR(VLOOKUP(IF(G99<>0,G99,G98),入力シート!$B$7:$F$206,3,0)),\"\",IF(VLOOKUP(IF(G99<>0,G99,G98),入力シート!$B$7:$F$206,3,0)=0,\"\",VLOOKUP(IF(G99<>0,G99,G98),入力シート!$B$7:$F$206,3,0)))","v":""},null,{"$f":"IF(ISERROR(VLOOKUP(IF(I99<>0,I99,I98),入力シート!$B$7:$F$206,2,0)),\"\",IF(VLOOKUP(IF(I99<>0,I99,I98),入力シート!$B$7:$F$206,2,0)=0,\"\",VLOOKUP(IF(I99<>0,I99,I98),入力シート!$B$7:$F$206,2,0)))","v":""},{"$f":"IF(ISERROR(VLOOKUP(IF(J99<>0,J99,J98),入力シート!$B$7:$F$206,2,0)),\"\",IF(VLOOKUP(IF(J99<>0,J99,J98),入力シート!$B$7:$F$206,2,0)=0,\"\",VLOOKUP(IF(J99<>0,J99,J98),入力シート!$B$7:$F$206,2,0)))","v":""}]
[67,"名称",{"$f":"IF(ISERROR(VLOOKUP(IF(A100<>0,A100,A99),入力シート!$B$7:$F$206,2,0)),\"\",IF(VLOOKUP(IF(A100<>0,A100,A99),入力シート!$B$7:$F$206,2,0)=0,\"\",VLOOKUP(IF(A100<>0,A100,A99),入力シート!$B$7:$F$206,2,0)))","v":""},null,{"$f":"IF(ISERROR(VLOOKUP(IF(A100<>0,A100,A99),入力シート!$B$7:$F$206,4,0)),\"\",IF(VLOOKUP(IF(A100<>0,A100,A99),入力シート!$B$7:$F$206,4,0)=0,\"\",VLOOKUP(IF(A100<>0,A100,A99),入力シート!$B$7:$F$206,4,0)))","v":""},{"$f":"IF(ISERROR(VLOOKUP(IF(A100<>0,A100,A99),入力シート!$B$7:$F$206,5,0)),\"\",IF(VLOOKUP(IF(A100<>0,A100,A99),入力シート!$B$7:$F$206,5,0)=0,\"\",VLOOKUP(IF(A100<>0,A100,A99),入力シート!$B$7:$F$206,5,0)))","v":""},77,"名称",{"$f":"IF(ISERROR(VLOOKUP(IF(G100<>0,G100,G99),入力シート!$B$7:$F$206,2,0)),\"\",IF(VLOOKUP(IF(G100<>0,G100,G99),入力シート!$B$7:$F$206,2,0)=0,\"\",VLOOKUP(IF(G100<>0,G100,G99),入力シート!$B$7:$F$206,2,0)))","v":""},null,{"$f":"IF(ISERROR(VLOOKUP(IF(G100<>0,G100,G99),入力シート!$B$7:$F$206,4,0)),\"\",IF(VLOOKUP(IF(G100<>0,G100,G99),入力シート!$B$7:$F$206,4,0)=0,\"\",VLOOKUP(IF(G100<>0,G100,G99),入力シート!$B$7:$F$206,4,0)))","v":""},{"$f":"IF(ISERROR(VLOOKUP(IF(G100<>0,G100,G99),入力シート!$B$7:$F$206,5,0)),\"\",IF(VLOOKUP(IF(G100<>0,G100,G99),入力シート!$B$7:$F$206,5,0)=0,\"\",VLOOKUP(IF(G100<>0,G100,G99),入力シート!$B$7:$F$206,5,0)))","v":""}]
[null,"住所",{"$f":"IF(ISERROR(VLOOKUP(IF(A101<>0,A101,A100),入力シート!$B$7:$F$206,3,0)),\"\",IF(VLOOKUP(IF(A101<>0,A101,A100),入力シート!$B$7:$F$206,3,0)=0,\"\",VLOOKUP(IF(A101<>0,A101,A100),入力シート!$B$7:$F$206,3,0)))","v":""},null,{"$f":"IF(ISERROR(VLOOKUP(IF(C101<>0,C101,C100),入力シート!$B$7:$F$206,2,0)),\"\",IF(VLOOKUP(IF(C101<>0,C101,C100),入力シート!$B$7:$F$206,2,0)=0,\"\",VLOOKUP(IF(C101<>0,C101,C100),入力シート!$B$7:$F$206,2,0)))","v":""},{"$f":"IF(ISERROR(VLOOKUP(IF(D101<>0,D101,D100),入力シート!$B$7:$F$206,2,0)),\"\",IF(VLOOKUP(IF(D101<>0,D101,D100),入力シート!$B$7:$F$206,2,0)=0,\"\",VLOOKUP(IF(D101<>0,D101,D100),入力シート!$B$7:$F$206,2,0)))","v":""},null,"住所",{"$f":"IF(ISERROR(VLOOKUP(IF(G101<>0,G101,G100),入力シート!$B$7:$F$206,3,0)),\"\",IF(VLOOKUP(IF(G101<>0,G101,G100),入力シート!$B$7:$F$206,3,0)=0,\"\",VLOOKUP(IF(G101<>0,G101,G100),入力シート!$B$7:$F$206,3,0)))","v":""},null,{"$f":"IF(ISERROR(VLOOKUP(IF(I101<>0,I101,I100),入力シート!$B$7:$F$206,2,0)),\"\",IF(VLOOKUP(IF(I101<>0,I101,I100),入力シート!$B$7:$F$206,2,0)=0,\"\",VLOOKUP(IF(I101<>0,I101,I100),入力シート!$B$7:$F$206,2,0)))","v":""},{"$f":"IF(ISERROR(VLOOKUP(IF(J101<>0,J101,J100),入力シート!$B$7:$F$206,2,0)),\"\",IF(VLOOKUP(IF(J101<>0,J101,J100),入力シート!$B$7:$F$206,2,0)=0,\"\",VLOOKUP(IF(J101<>0,J101,J100),入力シート!$B$7:$F$206,2,0)))","v":""}]
[68,"名称",{"$f":"IF(ISERROR(VLOOKUP(IF(A102<>0,A102,A101),入力シート!$B$7:$F$206,2,0)),\"\",IF(VLOOKUP(IF(A102<>0,A102,A101),入力シート!$B$7:$F$206,2,0)=0,\"\",VLOOKUP(IF(A102<>0,A102,A101),入力シート!$B$7:$F$206,2,0)))","v":""},null,{"$f":"IF(ISERROR(VLOOKUP(IF(A102<>0,A102,A101),入力シート!$B$7:$F$206,4,0)),\"\",IF(VLOOKUP(IF(A102<>0,A102,A101),入力シート!$B$7:$F$206,4,0)=0,\"\",VLOOKUP(IF(A102<>0,A102,A101),入力シート!$B$7:$F$206,4,0)))","v":""},{"$f":"IF(ISERROR(VLOOKUP(IF(A102<>0,A102,A101),入力シート!$B$7:$F$206,5,0)),\"\",IF(VLOOKUP(IF(A102<>0,A102,A101),入力シート!$B$7:$F$206,5,0)=0,\"\",VLOOKUP(IF(A102<>0,A102,A101),入力シート!$B$7:$F$206,5,0)))","v":""},78,"名称",{"$f":"IF(ISERROR(VLOOKUP(IF(G102<>0,G102,G101),入力シート!$B$7:$F$206,2,0)),\"\",IF(VLOOKUP(IF(G102<>0,G102,G101),入力シート!$B$7:$F$206,2,0)=0,\"\",VLOOKUP(IF(G102<>0,G102,G101),入力シート!$B$7:$F$206,2,0)))","v":""},null,{"$f":"IF(ISERROR(VLOOKUP(IF(G102<>0,G102,G101),入力シート!$B$7:$F$206,4,0)),\"\",IF(VLOOKUP(IF(G102<>0,G102,G101),入力シート!$B$7:$F$206,4,0)=0,\"\",VLOOKUP(IF(G102<>0,G102,G101),入力シート!$B$7:$F$206,4,0)))","v":""},{"$f":"IF(ISERROR(VLOOKUP(IF(G102<>0,G102,G101),入力シート!$B$7:$F$206,5,0)),\"\",IF(VLOOKUP(IF(G102<>0,G102,G101),入力シート!$B$7:$F$206,5,0)=0,\"\",VLOOKUP(IF(G102<>0,G102,G101),入力シート!$B$7:$F$206,5,0)))","v":""}]
[null,"住所",{"$f":"IF(ISERROR(VLOOKUP(IF(A103<>0,A103,A102),入力シート!$B$7:$F$206,3,0)),\"\",IF(VLOOKUP(IF(A103<>0,A103,A102),入力シート!$B$7:$F$206,3,0)=0,\"\",VLOOKUP(IF(A103<>0,A103,A102),入力シート!$B$7:$F$206,3,0)))","v":""},null,{"$f":"IF(ISERROR(VLOOKUP(IF(C103<>0,C103,C102),入力シート!$B$7:$F$206,2,0)),\"\",IF(VLOOKUP(IF(C103<>0,C103,C102),入力シート!$B$7:$F$206,2,0)=0,\"\",VLOOKUP(IF(C103<>0,C103,C102),入力シート!$B$7:$F$206,2,0)))","v":""},{"$f":"IF(ISERROR(VLOOKUP(IF(D103<>0,D103,D102),入力シート!$B$7:$F$206,2,0)),\"\",IF(VLOOKUP(IF(D103<>0,D103,D102),入力シート!$B$7:$F$206,2,0)=0,\"\",VLOOKUP(IF(D103<>0,D103,D102),入力シート!$B$7:$F$206,2,0)))","v":""},null,"住所",{"$f":"IF(ISERROR(VLOOKUP(IF(G103<>0,G103,G102),入力シート!$B$7:$F$206,3,0)),\"\",IF(VLOOKUP(IF(G103<>0,G103,G102),入力シート!$B$7:$F$206,3,0)=0,\"\",VLOOKUP(IF(G103<>0,G103,G102),入力シート!$B$7:$F$206,3,0)))","v":""},null,{"$f":"IF(ISERROR(VLOOKUP(IF(I103<>0,I103,I102),入力シート!$B$7:$F$206,2,0)),\"\",IF(VLOOKUP(IF(I103<>0,I103,I102),入力シート!$B$7:$F$206,2,0)=0,\"\",VLOOKUP(IF(I103<>0,I103,I102),入力シート!$B$7:$F$206,2,0)))","v":""},{"$f":"IF(ISERROR(VLOOKUP(IF(J103<>0,J103,J102),入力シート!$B$7:$F$206,2,0)),\"\",IF(VLOOKUP(IF(J103<>0,J103,J102),入力シート!$B$7:$F$206,2,0)=0,\"\",VLOOKUP(IF(J103<>0,J103,J102),入力シート!$B$7:$F$206,2,0)))","v":""}]
[69,"名称",{"$f":"IF(ISERROR(VLOOKUP(IF(A104<>0,A104,A103),入力シート!$B$7:$F$206,2,0)),\"\",IF(VLOOKUP(IF(A104<>0,A104,A103),入力シート!$B$7:$F$206,2,0)=0,\"\",VLOOKUP(IF(A104<>0,A104,A103),入力シート!$B$7:$F$206,2,0)))","v":""},null,{"$f":"IF(ISERROR(VLOOKUP(IF(A104<>0,A104,A103),入力シート!$B$7:$F$206,4,0)),\"\",IF(VLOOKUP(IF(A104<>0,A104,A103),入力シート!$B$7:$F$206,4,0)=0,\"\",VLOOKUP(IF(A104<>0,A104,A103),入力シート!$B$7:$F$206,4,0)))","v":""},{"$f":"IF(ISERROR(VLOOKUP(IF(A104<>0,A104,A103),入力シート!$B$7:$F$206,5,0)),\"\",IF(VLOOKUP(IF(A104<>0,A104,A103),入力シート!$B$7:$F$206,5,0)=0,\"\",VLOOKUP(IF(A104<>0,A104,A103),入力シート!$B$7:$F$206,5,0)))","v":""},79,"名称",{"$f":"IF(ISERROR(VLOOKUP(IF(G104<>0,G104,G103),入力シート!$B$7:$F$206,2,0)),\"\",IF(VLOOKUP(IF(G104<>0,G104,G103),入力シート!$B$7:$F$206,2,0)=0,\"\",VLOOKUP(IF(G104<>0,G104,G103),入力シート!$B$7:$F$206,2,0)))","v":""},null,{"$f":"IF(ISERROR(VLOOKUP(IF(G104<>0,G104,G103),入力シート!$B$7:$F$206,4,0)),\"\",IF(VLOOKUP(IF(G104<>0,G104,G103),入力シート!$B$7:$F$206,4,0)=0,\"\",VLOOKUP(IF(G104<>0,G104,G103),入力シート!$B$7:$F$206,4,0)))","v":""},{"$f":"IF(ISERROR(VLOOKUP(IF(G104<>0,G104,G103),入力シート!$B$7:$F$206,5,0)),\"\",IF(VLOOKUP(IF(G104<>0,G104,G103),入力シート!$B$7:$F$206,5,0)=0,\"\",VLOOKUP(IF(G104<>0,G104,G103),入力シート!$B$7:$F$206,5,0)))","v":""}]
[null,"住所",{"$f":"IF(ISERROR(VLOOKUP(IF(A105<>0,A105,A104),入力シート!$B$7:$F$206,3,0)),\"\",IF(VLOOKUP(IF(A105<>0,A105,A104),入力シート!$B$7:$F$206,3,0)=0,\"\",VLOOKUP(IF(A105<>0,A105,A104),入力シート!$B$7:$F$206,3,0)))","v":""},null,{"$f":"IF(ISERROR(VLOOKUP(IF(C105<>0,C105,C104),入力シート!$B$7:$F$206,2,0)),\"\",IF(VLOOKUP(IF(C105<>0,C105,C104),入力シート!$B$7:$F$206,2,0)=0,\"\",VLOOKUP(IF(C105<>0,C105,C104),入力シート!$B$7:$F$206,2,0)))","v":""},{"$f":"IF(ISERROR(VLOOKUP(IF(D105<>0,D105,D104),入力シート!$B$7:$F$206,2,0)),\"\",IF(VLOOKUP(IF(D105<>0,D105,D104),入力シート!$B$7:$F$206,2,0)=0,\"\",VLOOKUP(IF(D105<>0,D105,D104),入力シート!$B$7:$F$206,2,0)))","v":""},null,"住所",{"$f":"IF(ISERROR(VLOOKUP(IF(G105<>0,G105,G104),入力シート!$B$7:$F$206,3,0)),\"\",IF(VLOOKUP(IF(G105<>0,G105,G104),入力シート!$B$7:$F$206,3,0)=0,\"\",VLOOKUP(IF(G105<>0,G105,G104),入力シート!$B$7:$F$206,3,0)))","v":""},null,{"$f":"IF(ISERROR(VLOOKUP(IF(I105<>0,I105,I104),入力シート!$B$7:$F$206,2,0)),\"\",IF(VLOOKUP(IF(I105<>0,I105,I104),入力シート!$B$7:$F$206,2,0)=0,\"\",VLOOKUP(IF(I105<>0,I105,I104),入力シート!$B$7:$F$206,2,0)))","v":""},{"$f":"IF(ISERROR(VLOOKUP(IF(J105<>0,J105,J104),入力シート!$B$7:$F$206,2,0)),\"\",IF(VLOOKUP(IF(J105<>0,J105,J104),入力シート!$B$7:$F$206,2,0)=0,\"\",VLOOKUP(IF(J105<>0,J105,J104),入力シート!$B$7:$F$206,2,0)))","v":""}]
[70,"名称",{"$f":"IF(ISERROR(VLOOKUP(IF(A106<>0,A106,A105),入力シート!$B$7:$F$206,2,0)),\"\",IF(VLOOKUP(IF(A106<>0,A106,A105),入力シート!$B$7:$F$206,2,0)=0,\"\",VLOOKUP(IF(A106<>0,A106,A105),入力シート!$B$7:$F$206,2,0)))","v":""},null,{"$f":"IF(ISERROR(VLOOKUP(IF(A106<>0,A106,A105),入力シート!$B$7:$F$206,4,0)),\"\",IF(VLOOKUP(IF(A106<>0,A106,A105),入力シート!$B$7:$F$206,4,0)=0,\"\",VLOOKUP(IF(A106<>0,A106,A105),入力シート!$B$7:$F$206,4,0)))","v":""},{"$f":"IF(ISERROR(VLOOKUP(IF(A106<>0,A106,A105),入力シート!$B$7:$F$206,5,0)),\"\",IF(VLOOKUP(IF(A106<>0,A106,A105),入力シート!$B$7:$F$206,5,0)=0,\"\",VLOOKUP(IF(A106<>0,A106,A105),入力シート!$B$7:$F$206,5,0)))","v":""},80,"名称",{"$f":"IF(ISERROR(VLOOKUP(IF(G106<>0,G106,G105),入力シート!$B$7:$F$206,2,0)),\"\",IF(VLOOKUP(IF(G106<>0,G106,G105),入力シート!$B$7:$F$206,2,0)=0,\"\",VLOOKUP(IF(G106<>0,G106,G105),入力シート!$B$7:$F$206,2,0)))","v":""},null,{"$f":"IF(ISERROR(VLOOKUP(IF(G106<>0,G106,G105),入力シート!$B$7:$F$206,4,0)),\"\",IF(VLOOKUP(IF(G106<>0,G106,G105),入力シート!$B$7:$F$206,4,0)=0,\"\",VLOOKUP(IF(G106<>0,G106,G105),入力シート!$B$7:$F$206,4,0)))","v":""},{"$f":"IF(ISERROR(VLOOKUP(IF(G106<>0,G106,G105),入力シート!$B$7:$F$206,5,0)),\"\",IF(VLOOKUP(IF(G106<>0,G106,G105),入力シート!$B$7:$F$206,5,0)=0,\"\",VLOOKUP(IF(G106<>0,G106,G105),入力シート!$B$7:$F$206,5,0)))","v":""}]
[null,"住所",{"$f":"IF(ISERROR(VLOOKUP(IF(A107<>0,A107,A106),入力シート!$B$7:$F$206,3,0)),\"\",IF(VLOOKUP(IF(A107<>0,A107,A106),入力シート!$B$7:$F$206,3,0)=0,\"\",VLOOKUP(IF(A107<>0,A107,A106),入力シート!$B$7:$F$206,3,0)))","v":""},null,{"$f":"IF(ISERROR(VLOOKUP(IF(C107<>0,C107,C106),入力シート!$B$7:$F$206,2,0)),\"\",IF(VLOOKUP(IF(C107<>0,C107,C106),入力シート!$B$7:$F$206,2,0)=0,\"\",VLOOKUP(IF(C107<>0,C107,C106),入力シート!$B$7:$F$206,2,0)))","v":""},{"$f":"IF(ISERROR(VLOOKUP(IF(D107<>0,D107,D106),入力シート!$B$7:$F$206,2,0)),\"\",IF(VLOOKUP(IF(D107<>0,D107,D106),入力シート!$B$7:$F$206,2,0)=0,\"\",VLOOKUP(IF(D107<>0,D107,D106),入力シート!$B$7:$F$206,2,0)))","v":""},null,"住所",{"$f":"IF(ISERROR(VLOOKUP(IF(G107<>0,G107,G106),入力シート!$B$7:$F$206,3,0)),\"\",IF(VLOOKUP(IF(G107<>0,G107,G106),入力シート!$B$7:$F$206,3,0)=0,\"\",VLOOKUP(IF(G107<>0,G107,G106),入力シート!$B$7:$F$206,3,0)))","v":""},null,{"$f":"IF(ISERROR(VLOOKUP(IF(I107<>0,I107,I106),入力シート!$B$7:$F$206,2,0)),\"\",IF(VLOOKUP(IF(I107<>0,I107,I106),入力シート!$B$7:$F$206,2,0)=0,\"\",VLOOKUP(IF(I107<>0,I107,I106),入力シート!$B$7:$F$206,2,0)))","v":""},{"$f":"IF(ISERROR(VLOOKUP(IF(J107<>0,J107,J106),入力シート!$B$7:$F$206,2,0)),\"\",IF(VLOOKUP(IF(J107<>0,J107,J106),入力シート!$B$7:$F$206,2,0)=0,\"\",VLOOKUP(IF(J107<>0,J107,J106),入力シート!$B$7:$F$206,2,0)))","v":""}]
["（注）","1.本名簿には、配送事業者がＬＰガス配送を受託しているＬＰガス販売事業者をすべて記入する。",null,null,null,null,null,"小　　計（このページの合計）",null,null,{"$f":"SUM(E88:E107,K88:K107)","v":0},{"$f":"SUM(F88:F107,L88:L107)","v":0}]
[null,"2.ＬＰガス配送受託販売所の名称欄には企業名、販売所名を明記し、住所欄には当該販売所の住所を記入する。"]
[null,"3.保険契約加入依頼の際、依頼書に本名簿（保険会社用、事業団用、都道府県協会用）を添付して提出する。"]
[null,"4.支部が事業団に加入依頼書を送付する際、２部（保険会社用、事業団用）を添付する。"]
[null,null,null,null,null,null,null,null,null,null,5,{"$f":"COUNTIF($L$26,\">0\")+COUNTIF($L$54,\">0\")+COUNTIF($L$81,\">0\")+COUNTIF($L$108,\">0\")+COUNTIF($L$135,\">0\")+COUNTIF($L$162,\">0\")+COUNTIF($L$189,\">0\")+COUNTIF($L$216,\">0\")+COUNTIF($L$243,\">0\")+COUNTIF($L$270,\">0\")","v":0}]
["LPガス配送",null,null,"名　　　　称","配送契約の内容",null,"LPガス配送",null,null,"名　　　　称","配送契約の内容"]
["受託販売所",null,null,"住　　　　所","配　送　先\n消費者戸数","1か年間の\n配送トン数","受託販売所",null,null,"住　　　　所","配　送　先\n消費者戸数","1か年間の\n配送トン数"]
[81,"名称",{"$f":"IF(ISERROR(VLOOKUP(IF(A115<>0,A115,A114),入力シート!$B$7:$F$206,2,0)),\"\",IF(VLOOKUP(IF(A115<>0,A115,A114),入力シート!$B$7:$F$206,2,0)=0,\"\",VLOOKUP(IF(A115<>0,A115,A114),入力シート!$B$7:$F$206,2,0)))","v":""},null,{"$f":"IF(ISERROR(VLOOKUP(IF(A115<>0,A115,A114),入力シート!$B$7:$F$206,4,0)),\"\",IF(VLOOKUP(IF(A115<>0,A115,A114),入力シート!$B$7:$F$206,4,0)=0,\"\",VLOOKUP(IF(A115<>0,A115,A114),入力シート!$B$7:$F$206,4,0)))","v":""},{"$f":"IF(ISERROR(VLOOKUP(IF(A115<>0,A115,A114),入力シート!$B$7:$F$206,5,0)),\"\",IF(VLOOKUP(IF(A115<>0,A115,A114),入力シート!$B$7:$F$206,5,0)=0,\"\",VLOOKUP(IF(A115<>0,A115,A114),入力シート!$B$7:$F$206,5,0)))","v":""},91,"名称",{"$f":"IF(ISERROR(VLOOKUP(IF(G115<>0,G115,G114),入力シート!$B$7:$F$206,2,0)),\"\",IF(VLOOKUP(IF(G115<>0,G115,G114),入力シート!$B$7:$F$206,2,0)=0,\"\",VLOOKUP(IF(G115<>0,G115,G114),入力シート!$B$7:$F$206,2,0)))","v":""},null,{"$f":"IF(ISERROR(VLOOKUP(IF(G115<>0,G115,G114),入力シート!$B$7:$F$206,4,0)),\"\",IF(VLOOKUP(IF(G115<>0,G115,G114),入力シート!$B$7:$F$206,4,0)=0,\"\",VLOOKUP(IF(G115<>0,G115,G114),入力シート!$B$7:$F$206,4,0)))","v":""},{"$f":"IF(ISERROR(VLOOKUP(IF(G115<>0,G115,G114),入力シート!$B$7:$F$206,5,0)),\"\",IF(VLOOKUP(IF(G115<>0,G115,G114),入力シート!$B$7:$F$206,5,0)=0,\"\",VLOOKUP(IF(G115<>0,G115,G114),入力シート!$B$7:$F$206,5,0)))","v":""}]
[null,"住所",{"$f":"IF(ISERROR(VLOOKUP(IF(A116<>0,A116,A115),入力シート!$B$7:$F$206,3,0)),\"\",IF(VLOOKUP(IF(A116<>0,A116,A115),入力シート!$B$7:$F$206,3,0)=0,\"\",VLOOKUP(IF(A116<>0,A116,A115),入力シート!$B$7:$F$206,3,0)))","v":""},null,{"$f":"IF(ISERROR(VLOOKUP(IF(C116<>0,C116,C115),入力シート!$B$7:$F$206,2,0)),\"\",IF(VLOOKUP(IF(C116<>0,C116,C115),入力シート!$B$7:$F$206,2,0)=0,\"\",VLOOKUP(IF(C116<>0,C116,C115),入力シート!$B$7:$F$206,2,0)))","v":""},{"$f":"IF(ISERROR(VLOOKUP(IF(D116<>0,D116,D115),入力シート!$B$7:$F$206,2,0)),\"\",IF(VLOOKUP(IF(D116<>0,D116,D115),入力シート!$B$7:$F$206,2,0)=0,\"\",VLOOKUP(IF(D116<>0,D116,D115),入力シート!$B$7:$F$206,2,0)))","v":""},null,"住所",{"$f":"IF(ISERROR(VLOOKUP(IF(G116<>0,G116,G115),入力シート!$B$7:$F$206,3,0)),\"\",IF(VLOOKUP(IF(G116<>0,G116,G115),入力シート!$B$7:$F$206,3,0)=0,\"\",VLOOKUP(IF(G116<>0,G116,G115),入力シート!$B$7:$F$206,3,0)))","v":""},null,{"$f":"IF(ISERROR(VLOOKUP(IF(I116<>0,I116,I115),入力シート!$B$7:$F$206,2,0)),\"\",IF(VLOOKUP(IF(I116<>0,I116,I115),入力シート!$B$7:$F$206,2,0)=0,\"\",VLOOKUP(IF(I116<>0,I116,I115),入力シート!$B$7:$F$206,2,0)))","v":""},{"$f":"IF(ISERROR(VLOOKUP(IF(J116<>0,J116,J115),入力シート!$B$7:$F$206,2,0)),\"\",IF(VLOOKUP(IF(J116<>0,J116,J115),入力シート!$B$7:$F$206,2,0)=0,\"\",VLOOKUP(IF(J116<>0,J116,J115),入力シート!$B$7:$F$206,2,0)))","v":""}]
[82,"名称",{"$f":"IF(ISERROR(VLOOKUP(IF(A117<>0,A117,A116),入力シート!$B$7:$F$206,2,0)),\"\",IF(VLOOKUP(IF(A117<>0,A117,A116),入力シート!$B$7:$F$206,2,0)=0,\"\",VLOOKUP(IF(A117<>0,A117,A116),入力シート!$B$7:$F$206,2,0)))","v":""},null,{"$f":"IF(ISERROR(VLOOKUP(IF(A117<>0,A117,A116),入力シート!$B$7:$F$206,4,0)),\"\",IF(VLOOKUP(IF(A117<>0,A117,A116),入力シート!$B$7:$F$206,4,0)=0,\"\",VLOOKUP(IF(A117<>0,A117,A116),入力シート!$B$7:$F$206,4,0)))","v":""},{"$f":"IF(ISERROR(VLOOKUP(IF(A117<>0,A117,A116),入力シート!$B$7:$F$206,5,0)),\"\",IF(VLOOKUP(IF(A117<>0,A117,A116),入力シート!$B$7:$F$206,5,0)=0,\"\",VLOOKUP(IF(A117<>0,A117,A116),入力シート!$B$7:$F$206,5,0)))","v":""},92,"名称",{"$f":"IF(ISERROR(VLOOKUP(IF(G117<>0,G117,G116),入力シート!$B$7:$F$206,2,0)),\"\",IF(VLOOKUP(IF(G117<>0,G117,G116),入力シート!$B$7:$F$206,2,0)=0,\"\",VLOOKUP(IF(G117<>0,G117,G116),入力シート!$B$7:$F$206,2,0)))","v":""},null,{"$f":"IF(ISERROR(VLOOKUP(IF(G117<>0,G117,G116),入力シート!$B$7:$F$206,4,0)),\"\",IF(VLOOKUP(IF(G117<>0,G117,G116),入力シート!$B$7:$F$206,4,0)=0,\"\",VLOOKUP(IF(G117<>0,G117,G116),入力シート!$B$7:$F$206,4,0)))","v":""},{"$f":"IF(ISERROR(VLOOKUP(IF(G117<>0,G117,G116),入力シート!$B$7:$F$206,5,0)),\"\",IF(VLOOKUP(IF(G117<>0,G117,G116),入力シート!$B$7:$F$206,5,0)=0,\"\",VLOOKUP(IF(G117<>0,G117,G116),入力シート!$B$7:$F$206,5,0)))","v":""}]
[null,"住所",{"$f":"IF(ISERROR(VLOOKUP(IF(A118<>0,A118,A117),入力シート!$B$7:$F$206,3,0)),\"\",IF(VLOOKUP(IF(A118<>0,A118,A117),入力シート!$B$7:$F$206,3,0)=0,\"\",VLOOKUP(IF(A118<>0,A118,A117),入力シート!$B$7:$F$206,3,0)))","v":""},null,{"$f":"IF(ISERROR(VLOOKUP(IF(C118<>0,C118,C117),入力シート!$B$7:$F$206,2,0)),\"\",IF(VLOOKUP(IF(C118<>0,C118,C117),入力シート!$B$7:$F$206,2,0)=0,\"\",VLOOKUP(IF(C118<>0,C118,C117),入力シート!$B$7:$F$206,2,0)))","v":""},{"$f":"IF(ISERROR(VLOOKUP(IF(D118<>0,D118,D117),入力シート!$B$7:$F$206,2,0)),\"\",IF(VLOOKUP(IF(D118<>0,D118,D117),入力シート!$B$7:$F$206,2,0)=0,\"\",VLOOKUP(IF(D118<>0,D118,D117),入力シート!$B$7:$F$206,2,0)))","v":""},null,"住所",{"$f":"IF(ISERROR(VLOOKUP(IF(G118<>0,G118,G117),入力シート!$B$7:$F$206,3,0)),\"\",IF(VLOOKUP(IF(G118<>0,G118,G117),入力シート!$B$7:$F$206,3,0)=0,\"\",VLOOKUP(IF(G118<>0,G118,G117),入力シート!$B$7:$F$206,3,0)))","v":""},null,{"$f":"IF(ISERROR(VLOOKUP(IF(I118<>0,I118,I117),入力シート!$B$7:$F$206,2,0)),\"\",IF(VLOOKUP(IF(I118<>0,I118,I117),入力シート!$B$7:$F$206,2,0)=0,\"\",VLOOKUP(IF(I118<>0,I118,I117),入力シート!$B$7:$F$206,2,0)))","v":""},{"$f":"IF(ISERROR(VLOOKUP(IF(J118<>0,J118,J117),入力シート!$B$7:$F$206,2,0)),\"\",IF(VLOOKUP(IF(J118<>0,J118,J117),入力シート!$B$7:$F$206,2,0)=0,\"\",VLOOKUP(IF(J118<>0,J118,J117),入力シート!$B$7:$F$206,2,0)))","v":""}]
[83,"名称",{"$f":"IF(ISERROR(VLOOKUP(IF(A119<>0,A119,A118),入力シート!$B$7:$F$206,2,0)),\"\",IF(VLOOKUP(IF(A119<>0,A119,A118),入力シート!$B$7:$F$206,2,0)=0,\"\",VLOOKUP(IF(A119<>0,A119,A118),入力シート!$B$7:$F$206,2,0)))","v":""},null,{"$f":"IF(ISERROR(VLOOKUP(IF(A119<>0,A119,A118),入力シート!$B$7:$F$206,4,0)),\"\",IF(VLOOKUP(IF(A119<>0,A119,A118),入力シート!$B$7:$F$206,4,0)=0,\"\",VLOOKUP(IF(A119<>0,A119,A118),入力シート!$B$7:$F$206,4,0)))","v":""},{"$f":"IF(ISERROR(VLOOKUP(IF(A119<>0,A119,A118),入力シート!$B$7:$F$206,5,0)),\"\",IF(VLOOKUP(IF(A119<>0,A119,A118),入力シート!$B$7:$F$206,5,0)=0,\"\",VLOOKUP(IF(A119<>0,A119,A118),入力シート!$B$7:$F$206,5,0)))","v":""},93,"名称",{"$f":"IF(ISERROR(VLOOKUP(IF(G119<>0,G119,G118),入力シート!$B$7:$F$206,2,0)),\"\",IF(VLOOKUP(IF(G119<>0,G119,G118),入力シート!$B$7:$F$206,2,0)=0,\"\",VLOOKUP(IF(G119<>0,G119,G118),入力シート!$B$7:$F$206,2,0)))","v":""},null,{"$f":"IF(ISERROR(VLOOKUP(IF(G119<>0,G119,G118),入力シート!$B$7:$F$206,4,0)),\"\",IF(VLOOKUP(IF(G119<>0,G119,G118),入力シート!$B$7:$F$206,4,0)=0,\"\",VLOOKUP(IF(G119<>0,G119,G118),入力シート!$B$7:$F$206,4,0)))","v":""},{"$f":"IF(ISERROR(VLOOKUP(IF(G119<>0,G119,G118),入力シート!$B$7:$F$206,5,0)),\"\",IF(VLOOKUP(IF(G119<>0,G119,G118),入力シート!$B$7:$F$206,5,0)=0,\"\",VLOOKUP(IF(G119<>0,G119,G118),入力シート!$B$7:$F$206,5,0)))","v":""}]
[null,"住所",{"$f":"IF(ISERROR(VLOOKUP(IF(A120<>0,A120,A119),入力シート!$B$7:$F$206,3,0)),\"\",IF(VLOOKUP(IF(A120<>0,A120,A119),入力シート!$B$7:$F$206,3,0)=0,\"\",VLOOKUP(IF(A120<>0,A120,A119),入力シート!$B$7:$F$206,3,0)))","v":""},null,{"$f":"IF(ISERROR(VLOOKUP(IF(C120<>0,C120,C119),入力シート!$B$7:$F$206,2,0)),\"\",IF(VLOOKUP(IF(C120<>0,C120,C119),入力シート!$B$7:$F$206,2,0)=0,\"\",VLOOKUP(IF(C120<>0,C120,C119),入力シート!$B$7:$F$206,2,0)))","v":""},{"$f":"IF(ISERROR(VLOOKUP(IF(D120<>0,D120,D119),入力シート!$B$7:$F$206,2,0)),\"\",IF(VLOOKUP(IF(D120<>0,D120,D119),入力シート!$B$7:$F$206,2,0)=0,\"\",VLOOKUP(IF(D120<>0,D120,D119),入力シート!$B$7:$F$206,2,0)))","v":""},null,"住所",{"$f":"IF(ISERROR(VLOOKUP(IF(G120<>0,G120,G119),入力シート!$B$7:$F$206,3,0)),\"\",IF(VLOOKUP(IF(G120<>0,G120,G119),入力シート!$B$7:$F$206,3,0)=0,\"\",VLOOKUP(IF(G120<>0,G120,G119),入力シート!$B$7:$F$206,3,0)))","v":""},null,{"$f":"IF(ISERROR(VLOOKUP(IF(I120<>0,I120,I119),入力シート!$B$7:$F$206,2,0)),\"\",IF(VLOOKUP(IF(I120<>0,I120,I119),入力シート!$B$7:$F$206,2,0)=0,\"\",VLOOKUP(IF(I120<>0,I120,I119),入力シート!$B$7:$F$206,2,0)))","v":""},{"$f":"IF(ISERROR(VLOOKUP(IF(J120<>0,J120,J119),入力シート!$B$7:$F$206,2,0)),\"\",IF(VLOOKUP(IF(J120<>0,J120,J119),入力シート!$B$7:$F$206,2,0)=0,\"\",VLOOKUP(IF(J120<>0,J120,J119),入力シート!$B$7:$F$206,2,0)))","v":""}]
[84,"名称",{"$f":"IF(ISERROR(VLOOKUP(IF(A121<>0,A121,A120),入力シート!$B$7:$F$206,2,0)),\"\",IF(VLOOKUP(IF(A121<>0,A121,A120),入力シート!$B$7:$F$206,2,0)=0,\"\",VLOOKUP(IF(A121<>0,A121,A120),入力シート!$B$7:$F$206,2,0)))","v":""},null,{"$f":"IF(ISERROR(VLOOKUP(IF(A121<>0,A121,A120),入力シート!$B$7:$F$206,4,0)),\"\",IF(VLOOKUP(IF(A121<>0,A121,A120),入力シート!$B$7:$F$206,4,0)=0,\"\",VLOOKUP(IF(A121<>0,A121,A120),入力シート!$B$7:$F$206,4,0)))","v":""},{"$f":"IF(ISERROR(VLOOKUP(IF(A121<>0,A121,A120),入力シート!$B$7:$F$206,5,0)),\"\",IF(VLOOKUP(IF(A121<>0,A121,A120),入力シート!$B$7:$F$206,5,0)=0,\"\",VLOOKUP(IF(A121<>0,A121,A120),入力シート!$B$7:$F$206,5,0)))","v":""},94,"名称",{"$f":"IF(ISERROR(VLOOKUP(IF(G121<>0,G121,G120),入力シート!$B$7:$F$206,2,0)),\"\",IF(VLOOKUP(IF(G121<>0,G121,G120),入力シート!$B$7:$F$206,2,0)=0,\"\",VLOOKUP(IF(G121<>0,G121,G120),入力シート!$B$7:$F$206,2,0)))","v":""},null,{"$f":"IF(ISERROR(VLOOKUP(IF(G121<>0,G121,G120),入力シート!$B$7:$F$206,4,0)),\"\",IF(VLOOKUP(IF(G121<>0,G121,G120),入力シート!$B$7:$F$206,4,0)=0,\"\",VLOOKUP(IF(G121<>0,G121,G120),入力シート!$B$7:$F$206,4,0)))","v":""},{"$f":"IF(ISERROR(VLOOKUP(IF(G121<>0,G121,G120),入力シート!$B$7:$F$206,5,0)),\"\",IF(VLOOKUP(IF(G121<>0,G121,G120),入力シート!$B$7:$F$206,5,0)=0,\"\",VLOOKUP(IF(G121<>0,G121,G120),入力シート!$B$7:$F$206,5,0)))","v":""}]
[null,"住所",{"$f":"IF(ISERROR(VLOOKUP(IF(A122<>0,A122,A121),入力シート!$B$7:$F$206,3,0)),\"\",IF(VLOOKUP(IF(A122<>0,A122,A121),入力シート!$B$7:$F$206,3,0)=0,\"\",VLOOKUP(IF(A122<>0,A122,A121),入力シート!$B$7:$F$206,3,0)))","v":""},null,{"$f":"IF(ISERROR(VLOOKUP(IF(C122<>0,C122,C121),入力シート!$B$7:$F$206,2,0)),\"\",IF(VLOOKUP(IF(C122<>0,C122,C121),入力シート!$B$7:$F$206,2,0)=0,\"\",VLOOKUP(IF(C122<>0,C122,C121),入力シート!$B$7:$F$206,2,0)))","v":""},{"$f":"IF(ISERROR(VLOOKUP(IF(D122<>0,D122,D121),入力シート!$B$7:$F$206,2,0)),\"\",IF(VLOOKUP(IF(D122<>0,D122,D121),入力シート!$B$7:$F$206,2,0)=0,\"\",VLOOKUP(IF(D122<>0,D122,D121),入力シート!$B$7:$F$206,2,0)))","v":""},null,"住所",{"$f":"IF(ISERROR(VLOOKUP(IF(G122<>0,G122,G121),入力シート!$B$7:$F$206,3,0)),\"\",IF(VLOOKUP(IF(G122<>0,G122,G121),入力シート!$B$7:$F$206,3,0)=0,\"\",VLOOKUP(IF(G122<>0,G122,G121),入力シート!$B$7:$F$206,3,0)))","v":""},null,{"$f":"IF(ISERROR(VLOOKUP(IF(I122<>0,I122,I121),入力シート!$B$7:$F$206,2,0)),\"\",IF(VLOOKUP(IF(I122<>0,I122,I121),入力シート!$B$7:$F$206,2,0)=0,\"\",VLOOKUP(IF(I122<>0,I122,I121),入力シート!$B$7:$F$206,2,0)))","v":""},{"$f":"IF(ISERROR(VLOOKUP(IF(J122<>0,J122,J121),入力シート!$B$7:$F$206,2,0)),\"\",IF(VLOOKUP(IF(J122<>0,J122,J121),入力シート!$B$7:$F$206,2,0)=0,\"\",VLOOKUP(IF(J122<>0,J122,J121),入力シート!$B$7:$F$206,2,0)))","v":""}]
[85,"名称",{"$f":"IF(ISERROR(VLOOKUP(IF(A123<>0,A123,A122),入力シート!$B$7:$F$206,2,0)),\"\",IF(VLOOKUP(IF(A123<>0,A123,A122),入力シート!$B$7:$F$206,2,0)=0,\"\",VLOOKUP(IF(A123<>0,A123,A122),入力シート!$B$7:$F$206,2,0)))","v":""},null,{"$f":"IF(ISERROR(VLOOKUP(IF(A123<>0,A123,A122),入力シート!$B$7:$F$206,4,0)),\"\",IF(VLOOKUP(IF(A123<>0,A123,A122),入力シート!$B$7:$F$206,4,0)=0,\"\",VLOOKUP(IF(A123<>0,A123,A122),入力シート!$B$7:$F$206,4,0)))","v":""},{"$f":"IF(ISERROR(VLOOKUP(IF(A123<>0,A123,A122),入力シート!$B$7:$F$206,5,0)),\"\",IF(VLOOKUP(IF(A123<>0,A123,A122),入力シート!$B$7:$F$206,5,0)=0,\"\",VLOOKUP(IF(A123<>0,A123,A122),入力シート!$B$7:$F$206,5,0)))","v":""},95,"名称",{"$f":"IF(ISERROR(VLOOKUP(IF(G123<>0,G123,G122),入力シート!$B$7:$F$206,2,0)),\"\",IF(VLOOKUP(IF(G123<>0,G123,G122),入力シート!$B$7:$F$206,2,0)=0,\"\",VLOOKUP(IF(G123<>0,G123,G122),入力シート!$B$7:$F$206,2,0)))","v":""},null,{"$f":"IF(ISERROR(VLOOKUP(IF(G123<>0,G123,G122),入力シート!$B$7:$F$206,4,0)),\"\",IF(VLOOKUP(IF(G123<>0,G123,G122),入力シート!$B$7:$F$206,4,0)=0,\"\",VLOOKUP(IF(G123<>0,G123,G122),入力シート!$B$7:$F$206,4,0)))","v":""},{"$f":"IF(ISERROR(VLOOKUP(IF(G123<>0,G123,G122),入力シート!$B$7:$F$206,5,0)),\"\",IF(VLOOKUP(IF(G123<>0,G123,G122),入力シート!$B$7:$F$206,5,0)=0,\"\",VLOOKUP(IF(G123<>0,G123,G122),入力シート!$B$7:$F$206,5,0)))","v":""}]
[null,"住所",{"$f":"IF(ISERROR(VLOOKUP(IF(A124<>0,A124,A123),入力シート!$B$7:$F$206,3,0)),\"\",IF(VLOOKUP(IF(A124<>0,A124,A123),入力シート!$B$7:$F$206,3,0)=0,\"\",VLOOKUP(IF(A124<>0,A124,A123),入力シート!$B$7:$F$206,3,0)))","v":""},null,{"$f":"IF(ISERROR(VLOOKUP(IF(C124<>0,C124,C123),入力シート!$B$7:$F$206,2,0)),\"\",IF(VLOOKUP(IF(C124<>0,C124,C123),入力シート!$B$7:$F$206,2,0)=0,\"\",VLOOKUP(IF(C124<>0,C124,C123),入力シート!$B$7:$F$206,2,0)))","v":""},{"$f":"IF(ISERROR(VLOOKUP(IF(D124<>0,D124,D123),入力シート!$B$7:$F$206,2,0)),\"\",IF(VLOOKUP(IF(D124<>0,D124,D123),入力シート!$B$7:$F$206,2,0)=0,\"\",VLOOKUP(IF(D124<>0,D124,D123),入力シート!$B$7:$F$206,2,0)))","v":""},null,"住所",{"$f":"IF(ISERROR(VLOOKUP(IF(G124<>0,G124,G123),入力シート!$B$7:$F$206,3,0)),\"\",IF(VLOOKUP(IF(G124<>0,G124,G123),入力シート!$B$7:$F$206,3,0)=0,\"\",VLOOKUP(IF(G124<>0,G124,G123),入力シート!$B$7:$F$206,3,0)))","v":""},null,{"$f":"IF(ISERROR(VLOOKUP(IF(I124<>0,I124,I123),入力シート!$B$7:$F$206,2,0)),\"\",IF(VLOOKUP(IF(I124<>0,I124,I123),入力シート!$B$7:$F$206,2,0)=0,\"\",VLOOKUP(IF(I124<>0,I124,I123),入力シート!$B$7:$F$206,2,0)))","v":""},{"$f":"IF(ISERROR(VLOOKUP(IF(J124<>0,J124,J123),入力シート!$B$7:$F$206,2,0)),\"\",IF(VLOOKUP(IF(J124<>0,J124,J123),入力シート!$B$7:$F$206,2,0)=0,\"\",VLOOKUP(IF(J124<>0,J124,J123),入力シート!$B$7:$F$206,2,0)))","v":""}]
[86,"名称",{"$f":"IF(ISERROR(VLOOKUP(IF(A125<>0,A125,A124),入力シート!$B$7:$F$206,2,0)),\"\",IF(VLOOKUP(IF(A125<>0,A125,A124),入力シート!$B$7:$F$206,2,0)=0,\"\",VLOOKUP(IF(A125<>0,A125,A124),入力シート!$B$7:$F$206,2,0)))","v":""},null,{"$f":"IF(ISERROR(VLOOKUP(IF(A125<>0,A125,A124),入力シート!$B$7:$F$206,4,0)),\"\",IF(VLOOKUP(IF(A125<>0,A125,A124),入力シート!$B$7:$F$206,4,0)=0,\"\",VLOOKUP(IF(A125<>0,A125,A124),入力シート!$B$7:$F$206,4,0)))","v":""},{"$f":"IF(ISERROR(VLOOKUP(IF(A125<>0,A125,A124),入力シート!$B$7:$F$206,5,0)),\"\",IF(VLOOKUP(IF(A125<>0,A125,A124),入力シート!$B$7:$F$206,5,0)=0,\"\",VLOOKUP(IF(A125<>0,A125,A124),入力シート!$B$7:$F$206,5,0)))","v":""},96,"名称",{"$f":"IF(ISERROR(VLOOKUP(IF(G125<>0,G125,G124),入力シート!$B$7:$F$206,2,0)),\"\",IF(VLOOKUP(IF(G125<>0,G125,G124),入力シート!$B$7:$F$206,2,0)=0,\"\",VLOOKUP(IF(G125<>0,G125,G124),入力シート!$B$7:$F$206,2,0)))","v":""},null,{"$f":"IF(ISERROR(VLOOKUP(IF(G125<>0,G125,G124),入力シート!$B$7:$F$206,4,0)),\"\",IF(VLOOKUP(IF(G125<>0,G125,G124),入力シート!$B$7:$F$206,4,0)=0,\"\",VLOOKUP(IF(G125<>0,G125,G124),入力シート!$B$7:$F$206,4,0)))","v":""},{"$f":"IF(ISERROR(VLOOKUP(IF(G125<>0,G125,G124),入力シート!$B$7:$F$206,5,0)),\"\",IF(VLOOKUP(IF(G125<>0,G125,G124),入力シート!$B$7:$F$206,5,0)=0,\"\",VLOOKUP(IF(G125<>0,G125,G124),入力シート!$B$7:$F$206,5,0)))","v":""}]
[null,"住所",{"$f":"IF(ISERROR(VLOOKUP(IF(A126<>0,A126,A125),入力シート!$B$7:$F$206,3,0)),\"\",IF(VLOOKUP(IF(A126<>0,A126,A125),入力シート!$B$7:$F$206,3,0)=0,\"\",VLOOKUP(IF(A126<>0,A126,A125),入力シート!$B$7:$F$206,3,0)))","v":""},null,{"$f":"IF(ISERROR(VLOOKUP(IF(C126<>0,C126,C125),入力シート!$B$7:$F$206,2,0)),\"\",IF(VLOOKUP(IF(C126<>0,C126,C125),入力シート!$B$7:$F$206,2,0)=0,\"\",VLOOKUP(IF(C126<>0,C126,C125),入力シート!$B$7:$F$206,2,0)))","v":""},{"$f":"IF(ISERROR(VLOOKUP(IF(D126<>0,D126,D125),入力シート!$B$7:$F$206,2,0)),\"\",IF(VLOOKUP(IF(D126<>0,D126,D125),入力シート!$B$7:$F$206,2,0)=0,\"\",VLOOKUP(IF(D126<>0,D126,D125),入力シート!$B$7:$F$206,2,0)))","v":""},null,"住所",{"$f":"IF(ISERROR(VLOOKUP(IF(G126<>0,G126,G125),入力シート!$B$7:$F$206,3,0)),\"\",IF(VLOOKUP(IF(G126<>0,G126,G125),入力シート!$B$7:$F$206,3,0)=0,\"\",VLOOKUP(IF(G126<>0,G126,G125),入力シート!$B$7:$F$206,3,0)))","v":""},null,{"$f":"IF(ISERROR(VLOOKUP(IF(I126<>0,I126,I125),入力シート!$B$7:$F$206,2,0)),\"\",IF(VLOOKUP(IF(I126<>0,I126,I125),入力シート!$B$7:$F$206,2,0)=0,\"\",VLOOKUP(IF(I126<>0,I126,I125),入力シート!$B$7:$F$206,2,0)))","v":""},{"$f":"IF(ISERROR(VLOOKUP(IF(J126<>0,J126,J125),入力シート!$B$7:$F$206,2,0)),\"\",IF(VLOOKUP(IF(J126<>0,J126,J125),入力シート!$B$7:$F$206,2,0)=0,\"\",VLOOKUP(IF(J126<>0,J126,J125),入力シート!$B$7:$F$206,2,0)))","v":""}]
[87,"名称",{"$f":"IF(ISERROR(VLOOKUP(IF(A127<>0,A127,A126),入力シート!$B$7:$F$206,2,0)),\"\",IF(VLOOKUP(IF(A127<>0,A127,A126),入力シート!$B$7:$F$206,2,0)=0,\"\",VLOOKUP(IF(A127<>0,A127,A126),入力シート!$B$7:$F$206,2,0)))","v":""},null,{"$f":"IF(ISERROR(VLOOKUP(IF(A127<>0,A127,A126),入力シート!$B$7:$F$206,4,0)),\"\",IF(VLOOKUP(IF(A127<>0,A127,A126),入力シート!$B$7:$F$206,4,0)=0,\"\",VLOOKUP(IF(A127<>0,A127,A126),入力シート!$B$7:$F$206,4,0)))","v":""},{"$f":"IF(ISERROR(VLOOKUP(IF(A127<>0,A127,A126),入力シート!$B$7:$F$206,5,0)),\"\",IF(VLOOKUP(IF(A127<>0,A127,A126),入力シート!$B$7:$F$206,5,0)=0,\"\",VLOOKUP(IF(A127<>0,A127,A126),入力シート!$B$7:$F$206,5,0)))","v":""},97,"名称",{"$f":"IF(ISERROR(VLOOKUP(IF(G127<>0,G127,G126),入力シート!$B$7:$F$206,2,0)),\"\",IF(VLOOKUP(IF(G127<>0,G127,G126),入力シート!$B$7:$F$206,2,0)=0,\"\",VLOOKUP(IF(G127<>0,G127,G126),入力シート!$B$7:$F$206,2,0)))","v":""},null,{"$f":"IF(ISERROR(VLOOKUP(IF(G127<>0,G127,G126),入力シート!$B$7:$F$206,4,0)),\"\",IF(VLOOKUP(IF(G127<>0,G127,G126),入力シート!$B$7:$F$206,4,0)=0,\"\",VLOOKUP(IF(G127<>0,G127,G126),入力シート!$B$7:$F$206,4,0)))","v":""},{"$f":"IF(ISERROR(VLOOKUP(IF(G127<>0,G127,G126),入力シート!$B$7:$F$206,5,0)),\"\",IF(VLOOKUP(IF(G127<>0,G127,G126),入力シート!$B$7:$F$206,5,0)=0,\"\",VLOOKUP(IF(G127<>0,G127,G126),入力シート!$B$7:$F$206,5,0)))","v":""}]
[null,"住所",{"$f":"IF(ISERROR(VLOOKUP(IF(A128<>0,A128,A127),入力シート!$B$7:$F$206,3,0)),\"\",IF(VLOOKUP(IF(A128<>0,A128,A127),入力シート!$B$7:$F$206,3,0)=0,\"\",VLOOKUP(IF(A128<>0,A128,A127),入力シート!$B$7:$F$206,3,0)))","v":""},null,{"$f":"IF(ISERROR(VLOOKUP(IF(C128<>0,C128,C127),入力シート!$B$7:$F$206,2,0)),\"\",IF(VLOOKUP(IF(C128<>0,C128,C127),入力シート!$B$7:$F$206,2,0)=0,\"\",VLOOKUP(IF(C128<>0,C128,C127),入力シート!$B$7:$F$206,2,0)))","v":""},{"$f":"IF(ISERROR(VLOOKUP(IF(D128<>0,D128,D127),入力シート!$B$7:$F$206,2,0)),\"\",IF(VLOOKUP(IF(D128<>0,D128,D127),入力シート!$B$7:$F$206,2,0)=0,\"\",VLOOKUP(IF(D128<>0,D128,D127),入力シート!$B$7:$F$206,2,0)))","v":""},null,"住所",{"$f":"IF(ISERROR(VLOOKUP(IF(G128<>0,G128,G127),入力シート!$B$7:$F$206,3,0)),\"\",IF(VLOOKUP(IF(G128<>0,G128,G127),入力シート!$B$7:$F$206,3,0)=0,\"\",VLOOKUP(IF(G128<>0,G128,G127),入力シート!$B$7:$F$206,3,0)))","v":""},null,{"$f":"IF(ISERROR(VLOOKUP(IF(I128<>0,I128,I127),入力シート!$B$7:$F$206,2,0)),\"\",IF(VLOOKUP(IF(I128<>0,I128,I127),入力シート!$B$7:$F$206,2,0)=0,\"\",VLOOKUP(IF(I128<>0,I128,I127),入力シート!$B$7:$F$206,2,0)))","v":""},{"$f":"IF(ISERROR(VLOOKUP(IF(J128<>0,J128,J127),入力シート!$B$7:$F$206,2,0)),\"\",IF(VLOOKUP(IF(J128<>0,J128,J127),入力シート!$B$7:$F$206,2,0)=0,\"\",VLOOKUP(IF(J128<>0,J128,J127),入力シート!$B$7:$F$206,2,0)))","v":""}]
[88,"名称",{"$f":"IF(ISERROR(VLOOKUP(IF(A129<>0,A129,A128),入力シート!$B$7:$F$206,2,0)),\"\",IF(VLOOKUP(IF(A129<>0,A129,A128),入力シート!$B$7:$F$206,2,0)=0,\"\",VLOOKUP(IF(A129<>0,A129,A128),入力シート!$B$7:$F$206,2,0)))","v":""},null,{"$f":"IF(ISERROR(VLOOKUP(IF(A129<>0,A129,A128),入力シート!$B$7:$F$206,4,0)),\"\",IF(VLOOKUP(IF(A129<>0,A129,A128),入力シート!$B$7:$F$206,4,0)=0,\"\",VLOOKUP(IF(A129<>0,A129,A128),入力シート!$B$7:$F$206,4,0)))","v":""},{"$f":"IF(ISERROR(VLOOKUP(IF(A129<>0,A129,A128),入力シート!$B$7:$F$206,5,0)),\"\",IF(VLOOKUP(IF(A129<>0,A129,A128),入力シート!$B$7:$F$206,5,0)=0,\"\",VLOOKUP(IF(A129<>0,A129,A128),入力シート!$B$7:$F$206,5,0)))","v":""},98,"名称",{"$f":"IF(ISERROR(VLOOKUP(IF(G129<>0,G129,G128),入力シート!$B$7:$F$206,2,0)),\"\",IF(VLOOKUP(IF(G129<>0,G129,G128),入力シート!$B$7:$F$206,2,0)=0,\"\",VLOOKUP(IF(G129<>0,G129,G128),入力シート!$B$7:$F$206,2,0)))","v":""},null,{"$f":"IF(ISERROR(VLOOKUP(IF(G129<>0,G129,G128),入力シート!$B$7:$F$206,4,0)),\"\",IF(VLOOKUP(IF(G129<>0,G129,G128),入力シート!$B$7:$F$206,4,0)=0,\"\",VLOOKUP(IF(G129<>0,G129,G128),入力シート!$B$7:$F$206,4,0)))","v":""},{"$f":"IF(ISERROR(VLOOKUP(IF(G129<>0,G129,G128),入力シート!$B$7:$F$206,5,0)),\"\",IF(VLOOKUP(IF(G129<>0,G129,G128),入力シート!$B$7:$F$206,5,0)=0,\"\",VLOOKUP(IF(G129<>0,G129,G128),入力シート!$B$7:$F$206,5,0)))","v":""}]
[null,"住所",{"$f":"IF(ISERROR(VLOOKUP(IF(A130<>0,A130,A129),入力シート!$B$7:$F$206,3,0)),\"\",IF(VLOOKUP(IF(A130<>0,A130,A129),入力シート!$B$7:$F$206,3,0)=0,\"\",VLOOKUP(IF(A130<>0,A130,A129),入力シート!$B$7:$F$206,3,0)))","v":""},null,{"$f":"IF(ISERROR(VLOOKUP(IF(C130<>0,C130,C129),入力シート!$B$7:$F$206,2,0)),\"\",IF(VLOOKUP(IF(C130<>0,C130,C129),入力シート!$B$7:$F$206,2,0)=0,\"\",VLOOKUP(IF(C130<>0,C130,C129),入力シート!$B$7:$F$206,2,0)))","v":""},{"$f":"IF(ISERROR(VLOOKUP(IF(D130<>0,D130,D129),入力シート!$B$7:$F$206,2,0)),\"\",IF(VLOOKUP(IF(D130<>0,D130,D129),入力シート!$B$7:$F$206,2,0)=0,\"\",VLOOKUP(IF(D130<>0,D130,D129),入力シート!$B$7:$F$206,2,0)))","v":""},null,"住所",{"$f":"IF(ISERROR(VLOOKUP(IF(G130<>0,G130,G129),入力シート!$B$7:$F$206,3,0)),\"\",IF(VLOOKUP(IF(G130<>0,G130,G129),入力シート!$B$7:$F$206,3,0)=0,\"\",VLOOKUP(IF(G130<>0,G130,G129),入力シート!$B$7:$F$206,3,0)))","v":""},null,{"$f":"IF(ISERROR(VLOOKUP(IF(I130<>0,I130,I129),入力シート!$B$7:$F$206,2,0)),\"\",IF(VLOOKUP(IF(I130<>0,I130,I129),入力シート!$B$7:$F$206,2,0)=0,\"\",VLOOKUP(IF(I130<>0,I130,I129),入力シート!$B$7:$F$206,2,0)))","v":""},{"$f":"IF(ISERROR(VLOOKUP(IF(J130<>0,J130,J129),入力シート!$B$7:$F$206,2,0)),\"\",IF(VLOOKUP(IF(J130<>0,J130,J129),入力シート!$B$7:$F$206,2,0)=0,\"\",VLOOKUP(IF(J130<>0,J130,J129),入力シート!$B$7:$F$206,2,0)))","v":""}]
[89,"名称",{"$f":"IF(ISERROR(VLOOKUP(IF(A131<>0,A131,A130),入力シート!$B$7:$F$206,2,0)),\"\",IF(VLOOKUP(IF(A131<>0,A131,A130),入力シート!$B$7:$F$206,2,0)=0,\"\",VLOOKUP(IF(A131<>0,A131,A130),入力シート!$B$7:$F$206,2,0)))","v":""},null,{"$f":"IF(ISERROR(VLOOKUP(IF(A131<>0,A131,A130),入力シート!$B$7:$F$206,4,0)),\"\",IF(VLOOKUP(IF(A131<>0,A131,A130),入力シート!$B$7:$F$206,4,0)=0,\"\",VLOOKUP(IF(A131<>0,A131,A130),入力シート!$B$7:$F$206,4,0)))","v":""},{"$f":"IF(ISERROR(VLOOKUP(IF(A131<>0,A131,A130),入力シート!$B$7:$F$206,5,0)),\"\",IF(VLOOKUP(IF(A131<>0,A131,A130),入力シート!$B$7:$F$206,5,0)=0,\"\",VLOOKUP(IF(A131<>0,A131,A130),入力シート!$B$7:$F$206,5,0)))","v":""},99,"名称",{"$f":"IF(ISERROR(VLOOKUP(IF(G131<>0,G131,G130),入力シート!$B$7:$F$206,2,0)),\"\",IF(VLOOKUP(IF(G131<>0,G131,G130),入力シート!$B$7:$F$206,2,0)=0,\"\",VLOOKUP(IF(G131<>0,G131,G130),入力シート!$B$7:$F$206,2,0)))","v":""},null,{"$f":"IF(ISERROR(VLOOKUP(IF(G131<>0,G131,G130),入力シート!$B$7:$F$206,4,0)),\"\",IF(VLOOKUP(IF(G131<>0,G131,G130),入力シート!$B$7:$F$206,4,0)=0,\"\",VLOOKUP(IF(G131<>0,G131,G130),入力シート!$B$7:$F$206,4,0)))","v":""},{"$f":"IF(ISERROR(VLOOKUP(IF(G131<>0,G131,G130),入力シート!$B$7:$F$206,5,0)),\"\",IF(VLOOKUP(IF(G131<>0,G131,G130),入力シート!$B$7:$F$206,5,0)=0,\"\",VLOOKUP(IF(G131<>0,G131,G130),入力シート!$B$7:$F$206,5,0)))","v":""}]
[null,"住所",{"$f":"IF(ISERROR(VLOOKUP(IF(A132<>0,A132,A131),入力シート!$B$7:$F$206,3,0)),\"\",IF(VLOOKUP(IF(A132<>0,A132,A131),入力シート!$B$7:$F$206,3,0)=0,\"\",VLOOKUP(IF(A132<>0,A132,A131),入力シート!$B$7:$F$206,3,0)))","v":""},null,{"$f":"IF(ISERROR(VLOOKUP(IF(C132<>0,C132,C131),入力シート!$B$7:$F$206,2,0)),\"\",IF(VLOOKUP(IF(C132<>0,C132,C131),入力シート!$B$7:$F$206,2,0)=0,\"\",VLOOKUP(IF(C132<>0,C132,C131),入力シート!$B$7:$F$206,2,0)))","v":""},{"$f":"IF(ISERROR(VLOOKUP(IF(D132<>0,D132,D131),入力シート!$B$7:$F$206,2,0)),\"\",IF(VLOOKUP(IF(D132<>0,D132,D131),入力シート!$B$7:$F$206,2,0)=0,\"\",VLOOKUP(IF(D132<>0,D132,D131),入力シート!$B$7:$F$206,2,0)))","v":""},null,"住所",{"$f":"IF(ISERROR(VLOOKUP(IF(G132<>0,G132,G131),入力シート!$B$7:$F$206,3,0)),\"\",IF(VLOOKUP(IF(G132<>0,G132,G131),入力シート!$B$7:$F$206,3,0)=0,\"\",VLOOKUP(IF(G132<>0,G132,G131),入力シート!$B$7:$F$206,3,0)))","v":""},null,{"$f":"IF(ISERROR(VLOOKUP(IF(I132<>0,I132,I131),入力シート!$B$7:$F$206,2,0)),\"\",IF(VLOOKUP(IF(I132<>0,I132,I131),入力シート!$B$7:$F$206,2,0)=0,\"\",VLOOKUP(IF(I132<>0,I132,I131),入力シート!$B$7:$F$206,2,0)))","v":""},{"$f":"IF(ISERROR(VLOOKUP(IF(J132<>0,J132,J131),入力シート!$B$7:$F$206,2,0)),\"\",IF(VLOOKUP(IF(J132<>0,J132,J131),入力シート!$B$7:$F$206,2,0)=0,\"\",VLOOKUP(IF(J132<>0,J132,J131),入力シート!$B$7:$F$206,2,0)))","v":""}]
[90,"名称",{"$f":"IF(ISERROR(VLOOKUP(IF(A133<>0,A133,A132),入力シート!$B$7:$F$206,2,0)),\"\",IF(VLOOKUP(IF(A133<>0,A133,A132),入力シート!$B$7:$F$206,2,0)=0,\"\",VLOOKUP(IF(A133<>0,A133,A132),入力シート!$B$7:$F$206,2,0)))","v":""},null,{"$f":"IF(ISERROR(VLOOKUP(IF(A133<>0,A133,A132),入力シート!$B$7:$F$206,4,0)),\"\",IF(VLOOKUP(IF(A133<>0,A133,A132),入力シート!$B$7:$F$206,4,0)=0,\"\",VLOOKUP(IF(A133<>0,A133,A132),入力シート!$B$7:$F$206,4,0)))","v":""},{"$f":"IF(ISERROR(VLOOKUP(IF(A133<>0,A133,A132),入力シート!$B$7:$F$206,5,0)),\"\",IF(VLOOKUP(IF(A133<>0,A133,A132),入力シート!$B$7:$F$206,5,0)=0,\"\",VLOOKUP(IF(A133<>0,A133,A132),入力シート!$B$7:$F$206,5,0)))","v":""},100,"名称",{"$f":"IF(ISERROR(VLOOKUP(IF(G133<>0,G133,G132),入力シート!$B$7:$F$206,2,0)),\"\",IF(VLOOKUP(IF(G133<>0,G133,G132),入力シート!$B$7:$F$206,2,0)=0,\"\",VLOOKUP(IF(G133<>0,G133,G132),入力シート!$B$7:$F$206,2,0)))","v":""},null,{"$f":"IF(ISERROR(VLOOKUP(IF(G133<>0,G133,G132),入力シート!$B$7:$F$206,4,0)),\"\",IF(VLOOKUP(IF(G133<>0,G133,G132),入力シート!$B$7:$F$206,4,0)=0,\"\",VLOOKUP(IF(G133<>0,G133,G132),入力シート!$B$7:$F$206,4,0)))","v":""},{"$f":"IF(ISERROR(VLOOKUP(IF(G133<>0,G133,G132),入力シート!$B$7:$F$206,5,0)),\"\",IF(VLOOKUP(IF(G133<>0,G133,G132),入力シート!$B$7:$F$206,5,0)=0,\"\",VLOOKUP(IF(G133<>0,G133,G132),入力シート!$B$7:$F$206,5,0)))","v":""}]
[null,"住所",{"$f":"IF(ISERROR(VLOOKUP(IF(A134<>0,A134,A133),入力シート!$B$7:$F$206,3,0)),\"\",IF(VLOOKUP(IF(A134<>0,A134,A133),入力シート!$B$7:$F$206,3,0)=0,\"\",VLOOKUP(IF(A134<>0,A134,A133),入力シート!$B$7:$F$206,3,0)))","v":""},null,{"$f":"IF(ISERROR(VLOOKUP(IF(C134<>0,C134,C133),入力シート!$B$7:$F$206,2,0)),\"\",IF(VLOOKUP(IF(C134<>0,C134,C133),入力シート!$B$7:$F$206,2,0)=0,\"\",VLOOKUP(IF(C134<>0,C134,C133),入力シート!$B$7:$F$206,2,0)))","v":""},{"$f":"IF(ISERROR(VLOOKUP(IF(D134<>0,D134,D133),入力シート!$B$7:$F$206,2,0)),\"\",IF(VLOOKUP(IF(D134<>0,D134,D133),入力シート!$B$7:$F$206,2,0)=0,\"\",VLOOKUP(IF(D134<>0,D134,D133),入力シート!$B$7:$F$206,2,0)))","v":""},null,"住所",{"$f":"IF(ISERROR(VLOOKUP(IF(G134<>0,G134,G133),入力シート!$B$7:$F$206,3,0)),\"\",IF(VLOOKUP(IF(G134<>0,G134,G133),入力シート!$B$7:$F$206,3,0)=0,\"\",VLOOKUP(IF(G134<>0,G134,G133),入力シート!$B$7:$F$206,3,0)))","v":""},null,{"$f":"IF(ISERROR(VLOOKUP(IF(I134<>0,I134,I133),入力シート!$B$7:$F$206,2,0)),\"\",IF(VLOOKUP(IF(I134<>0,I134,I133),入力シート!$B$7:$F$206,2,0)=0,\"\",VLOOKUP(IF(I134<>0,I134,I133),入力シート!$B$7:$F$206,2,0)))","v":""},{"$f":"IF(ISERROR(VLOOKUP(IF(J134<>0,J134,J133),入力シート!$B$7:$F$206,2,0)),\"\",IF(VLOOKUP(IF(J134<>0,J134,J133),入力シート!$B$7:$F$206,2,0)=0,\"\",VLOOKUP(IF(J134<>0,J134,J133),入力シート!$B$7:$F$206,2,0)))","v":""}]
["（注）","1.本名簿には、配送事業者がＬＰガス配送を受託しているＬＰガス販売事業者をすべて記入する。",null,null,null,null,null,"小　　計（このページの合計）",null,null,{"$f":"SUM(E115:E134,K115:K134)","v":0},{"$f":"SUM(F115:F134,L115:L134)","v":0}]
[null,"2.ＬＰガス配送受託販売所の名称欄には企業名、販売所名を明記し、住所欄には当該販売所の住所を記入する。"]
[null,"3.保険契約加入依頼の際、依頼書に本名簿（保険会社用、事業団用、都道府県協会用）を添付して提出する。"]
[null,"4.支部が事業団に加入依頼書を送付する際、２部（保険会社用、事業団用）を添付する。"]
[null,null,null,null,null,null,null,null,null,null,6,{"$f":"COUNTIF($L$26,\">0\")+COUNTIF($L$54,\">0\")+COUNTIF($L$81,\">0\")+COUNTIF($L$108,\">0\")+COUNTIF($L$135,\">0\")+COUNTIF($L$162,\">0\")+COUNTIF($L$189,\">0\")+COUNTIF($L$216,\">0\")+COUNTIF($L$243,\">0\")+COUNTIF($L$270,\">0\")","v":0}]
["LPガス配送",null,null,"名　　　　称","配送契約の内容",null,"LPガス配送",null,null,"名　　　　称","配送契約の内容"]
["受託販売所",null,null,"住　　　　所","配　送　先\n消費者戸数","1か年間の\n配送トン数","受託販売所",null,null,"住　　　　所","配　送　先\n消費者戸数","1か年間の\n配送トン数"]
[101,"名称",{"$f":"IF(ISERROR(VLOOKUP(IF(A142<>0,A142,A141),入力シート!$B$7:$F$206,2,0)),\"\",IF(VLOOKUP(IF(A142<>0,A142,A141),入力シート!$B$7:$F$206,2,0)=0,\"\",VLOOKUP(IF(A142<>0,A142,A141),入力シート!$B$7:$F$206,2,0)))","v":""},null,{"$f":"IF(ISERROR(VLOOKUP(IF(A142<>0,A142,A141),入力シート!$B$7:$F$206,4,0)),\"\",IF(VLOOKUP(IF(A142<>0,A142,A141),入力シート!$B$7:$F$206,4,0)=0,\"\",VLOOKUP(IF(A142<>0,A142,A141),入力シート!$B$7:$F$206,4,0)))","v":""},{"$f":"IF(ISERROR(VLOOKUP(IF(A142<>0,A142,A141),入力シート!$B$7:$F$206,5,0)),\"\",IF(VLOOKUP(IF(A142<>0,A142,A141),入力シート!$B$7:$F$206,5,0)=0,\"\",VLOOKUP(IF(A142<>0,A142,A141),入力シート!$B$7:$F$206,5,0)))","v":""},111,"名称",{"$f":"IF(ISERROR(VLOOKUP(IF(G142<>0,G142,G141),入力シート!$B$7:$F$206,2,0)),\"\",IF(VLOOKUP(IF(G142<>0,G142,G141),入力シート!$B$7:$F$206,2,0)=0,\"\",VLOOKUP(IF(G142<>0,G142,G141),入力シート!$B$7:$F$206,2,0)))","v":""},null,{"$f":"IF(ISERROR(VLOOKUP(IF(G142<>0,G142,G141),入力シート!$B$7:$F$206,4,0)),\"\",IF(VLOOKUP(IF(G142<>0,G142,G141),入力シート!$B$7:$F$206,4,0)=0,\"\",VLOOKUP(IF(G142<>0,G142,G141),入力シート!$B$7:$F$206,4,0)))","v":""},{"$f":"IF(ISERROR(VLOOKUP(IF(G142<>0,G142,G141),入力シート!$B$7:$F$206,5,0)),\"\",IF(VLOOKUP(IF(G142<>0,G142,G141),入力シート!$B$7:$F$206,5,0)=0,\"\",VLOOKUP(IF(G142<>0,G142,G141),入力シート!$B$7:$F$206,5,0)))","v":""}]
[null,"住所",{"$f":"IF(ISERROR(VLOOKUP(IF(A143<>0,A143,A142),入力シート!$B$7:$F$206,3,0)),\"\",IF(VLOOKUP(IF(A143<>0,A143,A142),入力シート!$B$7:$F$206,3,0)=0,\"\",VLOOKUP(IF(A143<>0,A143,A142),入力シート!$B$7:$F$206,3,0)))","v":""},null,{"$f":"IF(ISERROR(VLOOKUP(IF(C143<>0,C143,C142),入力シート!$B$7:$F$206,2,0)),\"\",IF(VLOOKUP(IF(C143<>0,C143,C142),入力シート!$B$7:$F$206,2,0)=0,\"\",VLOOKUP(IF(C143<>0,C143,C142),入力シート!$B$7:$F$206,2,0)))","v":""},{"$f":"IF(ISERROR(VLOOKUP(IF(D143<>0,D143,D142),入力シート!$B$7:$F$206,2,0)),\"\",IF(VLOOKUP(IF(D143<>0,D143,D142),入力シート!$B$7:$F$206,2,0)=0,\"\",VLOOKUP(IF(D143<>0,D143,D142),入力シート!$B$7:$F$206,2,0)))","v":""},null,"住所",{"$f":"IF(ISERROR(VLOOKUP(IF(G143<>0,G143,G142),入力シート!$B$7:$F$206,3,0)),\"\",IF(VLOOKUP(IF(G143<>0,G143,G142),入力シート!$B$7:$F$206,3,0)=0,\"\",VLOOKUP(IF(G143<>0,G143,G142),入力シート!$B$7:$F$206,3,0)))","v":""},null,{"$f":"IF(ISERROR(VLOOKUP(IF(I143<>0,I143,I142),入力シート!$B$7:$F$206,2,0)),\"\",IF(VLOOKUP(IF(I143<>0,I143,I142),入力シート!$B$7:$F$206,2,0)=0,\"\",VLOOKUP(IF(I143<>0,I143,I142),入力シート!$B$7:$F$206,2,0)))","v":""},{"$f":"IF(ISERROR(VLOOKUP(IF(J143<>0,J143,J142),入力シート!$B$7:$F$206,2,0)),\"\",IF(VLOOKUP(IF(J143<>0,J143,J142),入力シート!$B$7:$F$206,2,0)=0,\"\",VLOOKUP(IF(J143<>0,J143,J142),入力シート!$B$7:$F$206,2,0)))","v":""}]
[102,"名称",{"$f":"IF(ISERROR(VLOOKUP(IF(A144<>0,A144,A143),入力シート!$B$7:$F$206,2,0)),\"\",IF(VLOOKUP(IF(A144<>0,A144,A143),入力シート!$B$7:$F$206,2,0)=0,\"\",VLOOKUP(IF(A144<>0,A144,A143),入力シート!$B$7:$F$206,2,0)))","v":""},null,{"$f":"IF(ISERROR(VLOOKUP(IF(A144<>0,A144,A143),入力シート!$B$7:$F$206,4,0)),\"\",IF(VLOOKUP(IF(A144<>0,A144,A143),入力シート!$B$7:$F$206,4,0)=0,\"\",VLOOKUP(IF(A144<>0,A144,A143),入力シート!$B$7:$F$206,4,0)))","v":""},{"$f":"IF(ISERROR(VLOOKUP(IF(A144<>0,A144,A143),入力シート!$B$7:$F$206,5,0)),\"\",IF(VLOOKUP(IF(A144<>0,A144,A143),入力シート!$B$7:$F$206,5,0)=0,\"\",VLOOKUP(IF(A144<>0,A144,A143),入力シート!$B$7:$F$206,5,0)))","v":""},112,"名称",{"$f":"IF(ISERROR(VLOOKUP(IF(G144<>0,G144,G143),入力シート!$B$7:$F$206,2,0)),\"\",IF(VLOOKUP(IF(G144<>0,G144,G143),入力シート!$B$7:$F$206,2,0)=0,\"\",VLOOKUP(IF(G144<>0,G144,G143),入力シート!$B$7:$F$206,2,0)))","v":""},null,{"$f":"IF(ISERROR(VLOOKUP(IF(G144<>0,G144,G143),入力シート!$B$7:$F$206,4,0)),\"\",IF(VLOOKUP(IF(G144<>0,G144,G143),入力シート!$B$7:$F$206,4,0)=0,\"\",VLOOKUP(IF(G144<>0,G144,G143),入力シート!$B$7:$F$206,4,0)))","v":""},{"$f":"IF(ISERROR(VLOOKUP(IF(G144<>0,G144,G143),入力シート!$B$7:$F$206,5,0)),\"\",IF(VLOOKUP(IF(G144<>0,G144,G143),入力シート!$B$7:$F$206,5,0)=0,\"\",VLOOKUP(IF(G144<>0,G144,G143),入力シート!$B$7:$F$206,5,0)))","v":""}]
[null,"住所",{"$f":"IF(ISERROR(VLOOKUP(IF(A145<>0,A145,A144),入力シート!$B$7:$F$206,3,0)),\"\",IF(VLOOKUP(IF(A145<>0,A145,A144),入力シート!$B$7:$F$206,3,0)=0,\"\",VLOOKUP(IF(A145<>0,A145,A144),入力シート!$B$7:$F$206,3,0)))","v":""},null,{"$f":"IF(ISERROR(VLOOKUP(IF(C145<>0,C145,C144),入力シート!$B$7:$F$206,2,0)),\"\",IF(VLOOKUP(IF(C145<>0,C145,C144),入力シート!$B$7:$F$206,2,0)=0,\"\",VLOOKUP(IF(C145<>0,C145,C144),入力シート!$B$7:$F$206,2,0)))","v":""},{"$f":"IF(ISERROR(VLOOKUP(IF(D145<>0,D145,D144),入力シート!$B$7:$F$206,2,0)),\"\",IF(VLOOKUP(IF(D145<>0,D145,D144),入力シート!$B$7:$F$206,2,0)=0,\"\",VLOOKUP(IF(D145<>0,D145,D144),入力シート!$B$7:$F$206,2,0)))","v":""},null,"住所",{"$f":"IF(ISERROR(VLOOKUP(IF(G145<>0,G145,G144),入力シート!$B$7:$F$206,3,0)),\"\",IF(VLOOKUP(IF(G145<>0,G145,G144),入力シート!$B$7:$F$206,3,0)=0,\"\",VLOOKUP(IF(G145<>0,G145,G144),入力シート!$B$7:$F$206,3,0)))","v":""},null,{"$f":"IF(ISERROR(VLOOKUP(IF(I145<>0,I145,I144),入力シート!$B$7:$F$206,2,0)),\"\",IF(VLOOKUP(IF(I145<>0,I145,I144),入力シート!$B$7:$F$206,2,0)=0,\"\",VLOOKUP(IF(I145<>0,I145,I144),入力シート!$B$7:$F$206,2,0)))","v":""},{"$f":"IF(ISERROR(VLOOKUP(IF(J145<>0,J145,J144),入力シート!$B$7:$F$206,2,0)),\"\",IF(VLOOKUP(IF(J145<>0,J145,J144),入力シート!$B$7:$F$206,2,0)=0,\"\",VLOOKUP(IF(J145<>0,J145,J144),入力シート!$B$7:$F$206,2,0)))","v":""}]
[103,"名称",{"$f":"IF(ISERROR(VLOOKUP(IF(A146<>0,A146,A145),入力シート!$B$7:$F$206,2,0)),\"\",IF(VLOOKUP(IF(A146<>0,A146,A145),入力シート!$B$7:$F$206,2,0)=0,\"\",VLOOKUP(IF(A146<>0,A146,A145),入力シート!$B$7:$F$206,2,0)))","v":""},null,{"$f":"IF(ISERROR(VLOOKUP(IF(A146<>0,A146,A145),入力シート!$B$7:$F$206,4,0)),\"\",IF(VLOOKUP(IF(A146<>0,A146,A145),入力シート!$B$7:$F$206,4,0)=0,\"\",VLOOKUP(IF(A146<>0,A146,A145),入力シート!$B$7:$F$206,4,0)))","v":""},{"$f":"IF(ISERROR(VLOOKUP(IF(A146<>0,A146,A145),入力シート!$B$7:$F$206,5,0)),\"\",IF(VLOOKUP(IF(A146<>0,A146,A145),入力シート!$B$7:$F$206,5,0)=0,\"\",VLOOKUP(IF(A146<>0,A146,A145),入力シート!$B$7:$F$206,5,0)))","v":""},113,"名称",{"$f":"IF(ISERROR(VLOOKUP(IF(G146<>0,G146,G145),入力シート!$B$7:$F$206,2,0)),\"\",IF(VLOOKUP(IF(G146<>0,G146,G145),入力シート!$B$7:$F$206,2,0)=0,\"\",VLOOKUP(IF(G146<>0,G146,G145),入力シート!$B$7:$F$206,2,0)))","v":""},null,{"$f":"IF(ISERROR(VLOOKUP(IF(G146<>0,G146,G145),入力シート!$B$7:$F$206,4,0)),\"\",IF(VLOOKUP(IF(G146<>0,G146,G145),入力シート!$B$7:$F$206,4,0)=0,\"\",VLOOKUP(IF(G146<>0,G146,G145),入力シート!$B$7:$F$206,4,0)))","v":""},{"$f":"IF(ISERROR(VLOOKUP(IF(G146<>0,G146,G145),入力シート!$B$7:$F$206,5,0)),\"\",IF(VLOOKUP(IF(G146<>0,G146,G145),入力シート!$B$7:$F$206,5,0)=0,\"\",VLOOKUP(IF(G146<>0,G146,G145),入力シート!$B$7:$F$206,5,0)))","v":""}]
[null,"住所",{"$f":"IF(ISERROR(VLOOKUP(IF(A147<>0,A147,A146),入力シート!$B$7:$F$206,3,0)),\"\",IF(VLOOKUP(IF(A147<>0,A147,A146),入力シート!$B$7:$F$206,3,0)=0,\"\",VLOOKUP(IF(A147<>0,A147,A146),入力シート!$B$7:$F$206,3,0)))","v":""},null,{"$f":"IF(ISERROR(VLOOKUP(IF(C147<>0,C147,C146),入力シート!$B$7:$F$206,2,0)),\"\",IF(VLOOKUP(IF(C147<>0,C147,C146),入力シート!$B$7:$F$206,2,0)=0,\"\",VLOOKUP(IF(C147<>0,C147,C146),入力シート!$B$7:$F$206,2,0)))","v":""},{"$f":"IF(ISERROR(VLOOKUP(IF(D147<>0,D147,D146),入力シート!$B$7:$F$206,2,0)),\"\",IF(VLOOKUP(IF(D147<>0,D147,D146),入力シート!$B$7:$F$206,2,0)=0,\"\",VLOOKUP(IF(D147<>0,D147,D146),入力シート!$B$7:$F$206,2,0)))","v":""},null,"住所",{"$f":"IF(ISERROR(VLOOKUP(IF(G147<>0,G147,G146),入力シート!$B$7:$F$206,3,0)),\"\",IF(VLOOKUP(IF(G147<>0,G147,G146),入力シート!$B$7:$F$206,3,0)=0,\"\",VLOOKUP(IF(G147<>0,G147,G146),入力シート!$B$7:$F$206,3,0)))","v":""},null,{"$f":"IF(ISERROR(VLOOKUP(IF(I147<>0,I147,I146),入力シート!$B$7:$F$206,2,0)),\"\",IF(VLOOKUP(IF(I147<>0,I147,I146),入力シート!$B$7:$F$206,2,0)=0,\"\",VLOOKUP(IF(I147<>0,I147,I146),入力シート!$B$7:$F$206,2,0)))","v":""},{"$f":"IF(ISERROR(VLOOKUP(IF(J147<>0,J147,J146),入力シート!$B$7:$F$206,2,0)),\"\",IF(VLOOKUP(IF(J147<>0,J147,J146),入力シート!$B$7:$F$206,2,0)=0,\"\",VLOOKUP(IF(J147<>0,J147,J146),入力シート!$B$7:$F$206,2,0)))","v":""}]
[104,"名称",{"$f":"IF(ISERROR(VLOOKUP(IF(A148<>0,A148,A147),入力シート!$B$7:$F$206,2,0)),\"\",IF(VLOOKUP(IF(A148<>0,A148,A147),入力シート!$B$7:$F$206,2,0)=0,\"\",VLOOKUP(IF(A148<>0,A148,A147),入力シート!$B$7:$F$206,2,0)))","v":""},null,{"$f":"IF(ISERROR(VLOOKUP(IF(A148<>0,A148,A147),入力シート!$B$7:$F$206,4,0)),\"\",IF(VLOOKUP(IF(A148<>0,A148,A147),入力シート!$B$7:$F$206,4,0)=0,\"\",VLOOKUP(IF(A148<>0,A148,A147),入力シート!$B$7:$F$206,4,0)))","v":""},{"$f":"IF(ISERROR(VLOOKUP(IF(A148<>0,A148,A147),入力シート!$B$7:$F$206,5,0)),\"\",IF(VLOOKUP(IF(A148<>0,A148,A147),入力シート!$B$7:$F$206,5,0)=0,\"\",VLOOKUP(IF(A148<>0,A148,A147),入力シート!$B$7:$F$206,5,0)))","v":""},114,"名称",{"$f":"IF(ISERROR(VLOOKUP(IF(G148<>0,G148,G147),入力シート!$B$7:$F$206,2,0)),\"\",IF(VLOOKUP(IF(G148<>0,G148,G147),入力シート!$B$7:$F$206,2,0)=0,\"\",VLOOKUP(IF(G148<>0,G148,G147),入力シート!$B$7:$F$206,2,0)))","v":""},null,{"$f":"IF(ISERROR(VLOOKUP(IF(G148<>0,G148,G147),入力シート!$B$7:$F$206,4,0)),\"\",IF(VLOOKUP(IF(G148<>0,G148,G147),入力シート!$B$7:$F$206,4,0)=0,\"\",VLOOKUP(IF(G148<>0,G148,G147),入力シート!$B$7:$F$206,4,0)))","v":""},{"$f":"IF(ISERROR(VLOOKUP(IF(G148<>0,G148,G147),入力シート!$B$7:$F$206,5,0)),\"\",IF(VLOOKUP(IF(G148<>0,G148,G147),入力シート!$B$7:$F$206,5,0)=0,\"\",VLOOKUP(IF(G148<>0,G148,G147),入力シート!$B$7:$F$206,5,0)))","v":""}]
[null,"住所",{"$f":"IF(ISERROR(VLOOKUP(IF(A149<>0,A149,A148),入力シート!$B$7:$F$206,3,0)),\"\",IF(VLOOKUP(IF(A149<>0,A149,A148),入力シート!$B$7:$F$206,3,0)=0,\"\",VLOOKUP(IF(A149<>0,A149,A148),入力シート!$B$7:$F$206,3,0)))","v":""},null,{"$f":"IF(ISERROR(VLOOKUP(IF(C149<>0,C149,C148),入力シート!$B$7:$F$206,2,0)),\"\",IF(VLOOKUP(IF(C149<>0,C149,C148),入力シート!$B$7:$F$206,2,0)=0,\"\",VLOOKUP(IF(C149<>0,C149,C148),入力シート!$B$7:$F$206,2,0)))","v":""},{"$f":"IF(ISERROR(VLOOKUP(IF(D149<>0,D149,D148),入力シート!$B$7:$F$206,2,0)),\"\",IF(VLOOKUP(IF(D149<>0,D149,D148),入力シート!$B$7:$F$206,2,0)=0,\"\",VLOOKUP(IF(D149<>0,D149,D148),入力シート!$B$7:$F$206,2,0)))","v":""},null,"住所",{"$f":"IF(ISERROR(VLOOKUP(IF(G149<>0,G149,G148),入力シート!$B$7:$F$206,3,0)),\"\",IF(VLOOKUP(IF(G149<>0,G149,G148),入力シート!$B$7:$F$206,3,0)=0,\"\",VLOOKUP(IF(G149<>0,G149,G148),入力シート!$B$7:$F$206,3,0)))","v":""},null,{"$f":"IF(ISERROR(VLOOKUP(IF(I149<>0,I149,I148),入力シート!$B$7:$F$206,2,0)),\"\",IF(VLOOKUP(IF(I149<>0,I149,I148),入力シート!$B$7:$F$206,2,0)=0,\"\",VLOOKUP(IF(I149<>0,I149,I148),入力シート!$B$7:$F$206,2,0)))","v":""},{"$f":"IF(ISERROR(VLOOKUP(IF(J149<>0,J149,J148),入力シート!$B$7:$F$206,2,0)),\"\",IF(VLOOKUP(IF(J149<>0,J149,J148),入力シート!$B$7:$F$206,2,0)=0,\"\",VLOOKUP(IF(J149<>0,J149,J148),入力シート!$B$7:$F$206,2,0)))","v":""}]
[105,"名称",{"$f":"IF(ISERROR(VLOOKUP(IF(A150<>0,A150,A149),入力シート!$B$7:$F$206,2,0)),\"\",IF(VLOOKUP(IF(A150<>0,A150,A149),入力シート!$B$7:$F$206,2,0)=0,\"\",VLOOKUP(IF(A150<>0,A150,A149),入力シート!$B$7:$F$206,2,0)))","v":""},null,{"$f":"IF(ISERROR(VLOOKUP(IF(A150<>0,A150,A149),入力シート!$B$7:$F$206,4,0)),\"\",IF(VLOOKUP(IF(A150<>0,A150,A149),入力シート!$B$7:$F$206,4,0)=0,\"\",VLOOKUP(IF(A150<>0,A150,A149),入力シート!$B$7:$F$206,4,0)))","v":""},{"$f":"IF(ISERROR(VLOOKUP(IF(A150<>0,A150,A149),入力シート!$B$7:$F$206,5,0)),\"\",IF(VLOOKUP(IF(A150<>0,A150,A149),入力シート!$B$7:$F$206,5,0)=0,\"\",VLOOKUP(IF(A150<>0,A150,A149),入力シート!$B$7:$F$206,5,0)))","v":""},115,"名称",{"$f":"IF(ISERROR(VLOOKUP(IF(G150<>0,G150,G149),入力シート!$B$7:$F$206,2,0)),\"\",IF(VLOOKUP(IF(G150<>0,G150,G149),入力シート!$B$7:$F$206,2,0)=0,\"\",VLOOKUP(IF(G150<>0,G150,G149),入力シート!$B$7:$F$206,2,0)))","v":""},null,{"$f":"IF(ISERROR(VLOOKUP(IF(G150<>0,G150,G149),入力シート!$B$7:$F$206,4,0)),\"\",IF(VLOOKUP(IF(G150<>0,G150,G149),入力シート!$B$7:$F$206,4,0)=0,\"\",VLOOKUP(IF(G150<>0,G150,G149),入力シート!$B$7:$F$206,4,0)))","v":""},{"$f":"IF(ISERROR(VLOOKUP(IF(G150<>0,G150,G149),入力シート!$B$7:$F$206,5,0)),\"\",IF(VLOOKUP(IF(G150<>0,G150,G149),入力シート!$B$7:$F$206,5,0)=0,\"\",VLOOKUP(IF(G150<>0,G150,G149),入力シート!$B$7:$F$206,5,0)))","v":""}]
[null,"住所",{"$f":"IF(ISERROR(VLOOKUP(IF(A151<>0,A151,A150),入力シート!$B$7:$F$206,3,0)),\"\",IF(VLOOKUP(IF(A151<>0,A151,A150),入力シート!$B$7:$F$206,3,0)=0,\"\",VLOOKUP(IF(A151<>0,A151,A150),入力シート!$B$7:$F$206,3,0)))","v":""},null,{"$f":"IF(ISERROR(VLOOKUP(IF(C151<>0,C151,C150),入力シート!$B$7:$F$206,2,0)),\"\",IF(VLOOKUP(IF(C151<>0,C151,C150),入力シート!$B$7:$F$206,2,0)=0,\"\",VLOOKUP(IF(C151<>0,C151,C150),入力シート!$B$7:$F$206,2,0)))","v":""},{"$f":"IF(ISERROR(VLOOKUP(IF(D151<>0,D151,D150),入力シート!$B$7:$F$206,2,0)),\"\",IF(VLOOKUP(IF(D151<>0,D151,D150),入力シート!$B$7:$F$206,2,0)=0,\"\",VLOOKUP(IF(D151<>0,D151,D150),入力シート!$B$7:$F$206,2,0)))","v":""},null,"住所",{"$f":"IF(ISERROR(VLOOKUP(IF(G151<>0,G151,G150),入力シート!$B$7:$F$206,3,0)),\"\",IF(VLOOKUP(IF(G151<>0,G151,G150),入力シート!$B$7:$F$206,3,0)=0,\"\",VLOOKUP(IF(G151<>0,G151,G150),入力シート!$B$7:$F$206,3,0)))","v":""},null,{"$f":"IF(ISERROR(VLOOKUP(IF(I151<>0,I151,I150),入力シート!$B$7:$F$206,2,0)),\"\",IF(VLOOKUP(IF(I151<>0,I151,I150),入力シート!$B$7:$F$206,2,0)=0,\"\",VLOOKUP(IF(I151<>0,I151,I150),入力シート!$B$7:$F$206,2,0)))","v":""},{"$f":"IF(ISERROR(VLOOKUP(IF(J151<>0,J151,J150),入力シート!$B$7:$F$206,2,0)),\"\",IF(VLOOKUP(IF(J151<>0,J151,J150),入力シート!$B$7:$F$206,2,0)=0,\"\",VLOOKUP(IF(J151<>0,J151,J150),入力シート!$B$7:$F$206,2,0)))","v":""}]
[106,"名称",{"$f":"IF(ISERROR(VLOOKUP(IF(A152<>0,A152,A151),入力シート!$B$7:$F$206,2,0)),\"\",IF(VLOOKUP(IF(A152<>0,A152,A151),入力シート!$B$7:$F$206,2,0)=0,\"\",VLOOKUP(IF(A152<>0,A152,A151),入力シート!$B$7:$F$206,2,0)))","v":""},null,{"$f":"IF(ISERROR(VLOOKUP(IF(A152<>0,A152,A151),入力シート!$B$7:$F$206,4,0)),\"\",IF(VLOOKUP(IF(A152<>0,A152,A151),入力シート!$B$7:$F$206,4,0)=0,\"\",VLOOKUP(IF(A152<>0,A152,A151),入力シート!$B$7:$F$206,4,0)))","v":""},{"$f":"IF(ISERROR(VLOOKUP(IF(A152<>0,A152,A151),入力シート!$B$7:$F$206,5,0)),\"\",IF(VLOOKUP(IF(A152<>0,A152,A151),入力シート!$B$7:$F$206,5,0)=0,\"\",VLOOKUP(IF(A152<>0,A152,A151),入力シート!$B$7:$F$206,5,0)))","v":""},116,"名称",{"$f":"IF(ISERROR(VLOOKUP(IF(G152<>0,G152,G151),入力シート!$B$7:$F$206,2,0)),\"\",IF(VLOOKUP(IF(G152<>0,G152,G151),入力シート!$B$7:$F$206,2,0)=0,\"\",VLOOKUP(IF(G152<>0,G152,G151),入力シート!$B$7:$F$206,2,0)))","v":""},null,{"$f":"IF(ISERROR(VLOOKUP(IF(G152<>0,G152,G151),入力シート!$B$7:$F$206,4,0)),\"\",IF(VLOOKUP(IF(G152<>0,G152,G151),入力シート!$B$7:$F$206,4,0)=0,\"\",VLOOKUP(IF(G152<>0,G152,G151),入力シート!$B$7:$F$206,4,0)))","v":""},{"$f":"IF(ISERROR(VLOOKUP(IF(G152<>0,G152,G151),入力シート!$B$7:$F$206,5,0)),\"\",IF(VLOOKUP(IF(G152<>0,G152,G151),入力シート!$B$7:$F$206,5,0)=0,\"\",VLOOKUP(IF(G152<>0,G152,G151),入力シート!$B$7:$F$206,5,0)))","v":""}]
[null,"住所",{"$f":"IF(ISERROR(VLOOKUP(IF(A153<>0,A153,A152),入力シート!$B$7:$F$206,3,0)),\"\",IF(VLOOKUP(IF(A153<>0,A153,A152),入力シート!$B$7:$F$206,3,0)=0,\"\",VLOOKUP(IF(A153<>0,A153,A152),入力シート!$B$7:$F$206,3,0)))","v":""},null,{"$f":"IF(ISERROR(VLOOKUP(IF(C153<>0,C153,C152),入力シート!$B$7:$F$206,2,0)),\"\",IF(VLOOKUP(IF(C153<>0,C153,C152),入力シート!$B$7:$F$206,2,0)=0,\"\",VLOOKUP(IF(C153<>0,C153,C152),入力シート!$B$7:$F$206,2,0)))","v":""},{"$f":"IF(ISERROR(VLOOKUP(IF(D153<>0,D153,D152),入力シート!$B$7:$F$206,2,0)),\"\",IF(VLOOKUP(IF(D153<>0,D153,D152),入力シート!$B$7:$F$206,2,0)=0,\"\",VLOOKUP(IF(D153<>0,D153,D152),入力シート!$B$7:$F$206,2,0)))","v":""},null,"住所",{"$f":"IF(ISERROR(VLOOKUP(IF(G153<>0,G153,G152),入力シート!$B$7:$F$206,3,0)),\"\",IF(VLOOKUP(IF(G153<>0,G153,G152),入力シート!$B$7:$F$206,3,0)=0,\"\",VLOOKUP(IF(G153<>0,G153,G152),入力シート!$B$7:$F$206,3,0)))","v":""},null,{"$f":"IF(ISERROR(VLOOKUP(IF(I153<>0,I153,I152),入力シート!$B$7:$F$206,2,0)),\"\",IF(VLOOKUP(IF(I153<>0,I153,I152),入力シート!$B$7:$F$206,2,0)=0,\"\",VLOOKUP(IF(I153<>0,I153,I152),入力シート!$B$7:$F$206,2,0)))","v":""},{"$f":"IF(ISERROR(VLOOKUP(IF(J153<>0,J153,J152),入力シート!$B$7:$F$206,2,0)),\"\",IF(VLOOKUP(IF(J153<>0,J153,J152),入力シート!$B$7:$F$206,2,0)=0,\"\",VLOOKUP(IF(J153<>0,J153,J152),入力シート!$B$7:$F$206,2,0)))","v":""}]
[107,"名称",{"$f":"IF(ISERROR(VLOOKUP(IF(A154<>0,A154,A153),入力シート!$B$7:$F$206,2,0)),\"\",IF(VLOOKUP(IF(A154<>0,A154,A153),入力シート!$B$7:$F$206,2,0)=0,\"\",VLOOKUP(IF(A154<>0,A154,A153),入力シート!$B$7:$F$206,2,0)))","v":""},null,{"$f":"IF(ISERROR(VLOOKUP(IF(A154<>0,A154,A153),入力シート!$B$7:$F$206,4,0)),\"\",IF(VLOOKUP(IF(A154<>0,A154,A153),入力シート!$B$7:$F$206,4,0)=0,\"\",VLOOKUP(IF(A154<>0,A154,A153),入力シート!$B$7:$F$206,4,0)))","v":""},{"$f":"IF(ISERROR(VLOOKUP(IF(A154<>0,A154,A153),入力シート!$B$7:$F$206,5,0)),\"\",IF(VLOOKUP(IF(A154<>0,A154,A153),入力シート!$B$7:$F$206,5,0)=0,\"\",VLOOKUP(IF(A154<>0,A154,A153),入力シート!$B$7:$F$206,5,0)))","v":""},117,"名称",{"$f":"IF(ISERROR(VLOOKUP(IF(G154<>0,G154,G153),入力シート!$B$7:$F$206,2,0)),\"\",IF(VLOOKUP(IF(G154<>0,G154,G153),入力シート!$B$7:$F$206,2,0)=0,\"\",VLOOKUP(IF(G154<>0,G154,G153),入力シート!$B$7:$F$206,2,0)))","v":""},null,{"$f":"IF(ISERROR(VLOOKUP(IF(G154<>0,G154,G153),入力シート!$B$7:$F$206,4,0)),\"\",IF(VLOOKUP(IF(G154<>0,G154,G153),入力シート!$B$7:$F$206,4,0)=0,\"\",VLOOKUP(IF(G154<>0,G154,G153),入力シート!$B$7:$F$206,4,0)))","v":""},{"$f":"IF(ISERROR(VLOOKUP(IF(G154<>0,G154,G153),入力シート!$B$7:$F$206,5,0)),\"\",IF(VLOOKUP(IF(G154<>0,G154,G153),入力シート!$B$7:$F$206,5,0)=0,\"\",VLOOKUP(IF(G154<>0,G154,G153),入力シート!$B$7:$F$206,5,0)))","v":""}]
[null,"住所",{"$f":"IF(ISERROR(VLOOKUP(IF(A155<>0,A155,A154),入力シート!$B$7:$F$206,3,0)),\"\",IF(VLOOKUP(IF(A155<>0,A155,A154),入力シート!$B$7:$F$206,3,0)=0,\"\",VLOOKUP(IF(A155<>0,A155,A154),入力シート!$B$7:$F$206,3,0)))","v":""},null,{"$f":"IF(ISERROR(VLOOKUP(IF(C155<>0,C155,C154),入力シート!$B$7:$F$206,2,0)),\"\",IF(VLOOKUP(IF(C155<>0,C155,C154),入力シート!$B$7:$F$206,2,0)=0,\"\",VLOOKUP(IF(C155<>0,C155,C154),入力シート!$B$7:$F$206,2,0)))","v":""},{"$f":"IF(ISERROR(VLOOKUP(IF(D155<>0,D155,D154),入力シート!$B$7:$F$206,2,0)),\"\",IF(VLOOKUP(IF(D155<>0,D155,D154),入力シート!$B$7:$F$206,2,0)=0,\"\",VLOOKUP(IF(D155<>0,D155,D154),入力シート!$B$7:$F$206,2,0)))","v":""},null,"住所",{"$f":"IF(ISERROR(VLOOKUP(IF(G155<>0,G155,G154),入力シート!$B$7:$F$206,3,0)),\"\",IF(VLOOKUP(IF(G155<>0,G155,G154),入力シート!$B$7:$F$206,3,0)=0,\"\",VLOOKUP(IF(G155<>0,G155,G154),入力シート!$B$7:$F$206,3,0)))","v":""},null,{"$f":"IF(ISERROR(VLOOKUP(IF(I155<>0,I155,I154),入力シート!$B$7:$F$206,2,0)),\"\",IF(VLOOKUP(IF(I155<>0,I155,I154),入力シート!$B$7:$F$206,2,0)=0,\"\",VLOOKUP(IF(I155<>0,I155,I154),入力シート!$B$7:$F$206,2,0)))","v":""},{"$f":"IF(ISERROR(VLOOKUP(IF(J155<>0,J155,J154),入力シート!$B$7:$F$206,2,0)),\"\",IF(VLOOKUP(IF(J155<>0,J155,J154),入力シート!$B$7:$F$206,2,0)=0,\"\",VLOOKUP(IF(J155<>0,J155,J154),入力シート!$B$7:$F$206,2,0)))","v":""}]
[108,"名称",{"$f":"IF(ISERROR(VLOOKUP(IF(A156<>0,A156,A155),入力シート!$B$7:$F$206,2,0)),\"\",IF(VLOOKUP(IF(A156<>0,A156,A155),入力シート!$B$7:$F$206,2,0)=0,\"\",VLOOKUP(IF(A156<>0,A156,A155),入力シート!$B$7:$F$206,2,0)))","v":""},null,{"$f":"IF(ISERROR(VLOOKUP(IF(A156<>0,A156,A155),入力シート!$B$7:$F$206,4,0)),\"\",IF(VLOOKUP(IF(A156<>0,A156,A155),入力シート!$B$7:$F$206,4,0)=0,\"\",VLOOKUP(IF(A156<>0,A156,A155),入力シート!$B$7:$F$206,4,0)))","v":""},{"$f":"IF(ISERROR(VLOOKUP(IF(A156<>0,A156,A155),入力シート!$B$7:$F$206,5,0)),\"\",IF(VLOOKUP(IF(A156<>0,A156,A155),入力シート!$B$7:$F$206,5,0)=0,\"\",VLOOKUP(IF(A156<>0,A156,A155),入力シート!$B$7:$F$206,5,0)))","v":""},118,"名称",{"$f":"IF(ISERROR(VLOOKUP(IF(G156<>0,G156,G155),入力シート!$B$7:$F$206,2,0)),\"\",IF(VLOOKUP(IF(G156<>0,G156,G155),入力シート!$B$7:$F$206,2,0)=0,\"\",VLOOKUP(IF(G156<>0,G156,G155),入力シート!$B$7:$F$206,2,0)))","v":""},null,{"$f":"IF(ISERROR(VLOOKUP(IF(G156<>0,G156,G155),入力シート!$B$7:$F$206,4,0)),\"\",IF(VLOOKUP(IF(G156<>0,G156,G155),入力シート!$B$7:$F$206,4,0)=0,\"\",VLOOKUP(IF(G156<>0,G156,G155),入力シート!$B$7:$F$206,4,0)))","v":""},{"$f":"IF(ISERROR(VLOOKUP(IF(G156<>0,G156,G155),入力シート!$B$7:$F$206,5,0)),\"\",IF(VLOOKUP(IF(G156<>0,G156,G155),入力シート!$B$7:$F$206,5,0)=0,\"\",VLOOKUP(IF(G156<>0,G156,G155),入力シート!$B$7:$F$206,5,0)))","v":""}]
[null,"住所",{"$f":"IF(ISERROR(VLOOKUP(IF(A157<>0,A157,A156),入力シート!$B$7:$F$206,3,0)),\"\",IF(VLOOKUP(IF(A157<>0,A157,A156),入力シート!$B$7:$F$206,3,0)=0,\"\",VLOOKUP(IF(A157<>0,A157,A156),入力シート!$B$7:$F$206,3,0)))","v":""},null,{"$f":"IF(ISERROR(VLOOKUP(IF(C157<>0,C157,C156),入力シート!$B$7:$F$206,2,0)),\"\",IF(VLOOKUP(IF(C157<>0,C157,C156),入力シート!$B$7:$F$206,2,0)=0,\"\",VLOOKUP(IF(C157<>0,C157,C156),入力シート!$B$7:$F$206,2,0)))","v":""},{"$f":"IF(ISERROR(VLOOKUP(IF(D157<>0,D157,D156),入力シート!$B$7:$F$206,2,0)),\"\",IF(VLOOKUP(IF(D157<>0,D157,D156),入力シート!$B$7:$F$206,2,0)=0,\"\",VLOOKUP(IF(D157<>0,D157,D156),入力シート!$B$7:$F$206,2,0)))","v":""},null,"住所",{"$f":"IF(ISERROR(VLOOKUP(IF(G157<>0,G157,G156),入力シート!$B$7:$F$206,3,0)),\"\",IF(VLOOKUP(IF(G157<>0,G157,G156),入力シート!$B$7:$F$206,3,0)=0,\"\",VLOOKUP(IF(G157<>0,G157,G156),入力シート!$B$7:$F$206,3,0)))","v":""},null,{"$f":"IF(ISERROR(VLOOKUP(IF(I157<>0,I157,I156),入力シート!$B$7:$F$206,2,0)),\"\",IF(VLOOKUP(IF(I157<>0,I157,I156),入力シート!$B$7:$F$206,2,0)=0,\"\",VLOOKUP(IF(I157<>0,I157,I156),入力シート!$B$7:$F$206,2,0)))","v":""},{"$f":"IF(ISERROR(VLOOKUP(IF(J157<>0,J157,J156),入力シート!$B$7:$F$206,2,0)),\"\",IF(VLOOKUP(IF(J157<>0,J157,J156),入力シート!$B$7:$F$206,2,0)=0,\"\",VLOOKUP(IF(J157<>0,J157,J156),入力シート!$B$7:$F$206,2,0)))","v":""}]
[109,"名称",{"$f":"IF(ISERROR(VLOOKUP(IF(A158<>0,A158,A157),入力シート!$B$7:$F$206,2,0)),\"\",IF(VLOOKUP(IF(A158<>0,A158,A157),入力シート!$B$7:$F$206,2,0)=0,\"\",VLOOKUP(IF(A158<>0,A158,A157),入力シート!$B$7:$F$206,2,0)))","v":""},null,{"$f":"IF(ISERROR(VLOOKUP(IF(A158<>0,A158,A157),入力シート!$B$7:$F$206,4,0)),\"\",IF(VLOOKUP(IF(A158<>0,A158,A157),入力シート!$B$7:$F$206,4,0)=0,\"\",VLOOKUP(IF(A158<>0,A158,A157),入力シート!$B$7:$F$206,4,0)))","v":""},{"$f":"IF(ISERROR(VLOOKUP(IF(A158<>0,A158,A157),入力シート!$B$7:$F$206,5,0)),\"\",IF(VLOOKUP(IF(A158<>0,A158,A157),入力シート!$B$7:$F$206,5,0)=0,\"\",VLOOKUP(IF(A158<>0,A158,A157),入力シート!$B$7:$F$206,5,0)))","v":""},119,"名称",{"$f":"IF(ISERROR(VLOOKUP(IF(G158<>0,G158,G157),入力シート!$B$7:$F$206,2,0)),\"\",IF(VLOOKUP(IF(G158<>0,G158,G157),入力シート!$B$7:$F$206,2,0)=0,\"\",VLOOKUP(IF(G158<>0,G158,G157),入力シート!$B$7:$F$206,2,0)))","v":""},null,{"$f":"IF(ISERROR(VLOOKUP(IF(G158<>0,G158,G157),入力シート!$B$7:$F$206,4,0)),\"\",IF(VLOOKUP(IF(G158<>0,G158,G157),入力シート!$B$7:$F$206,4,0)=0,\"\",VLOOKUP(IF(G158<>0,G158,G157),入力シート!$B$7:$F$206,4,0)))","v":""},{"$f":"IF(ISERROR(VLOOKUP(IF(G158<>0,G158,G157),入力シート!$B$7:$F$206,5,0)),\"\",IF(VLOOKUP(IF(G158<>0,G158,G157),入力シート!$B$7:$F$206,5,0)=0,\"\",VLOOKUP(IF(G158<>0,G158,G157),入力シート!$B$7:$F$206,5,0)))","v":""}]
[null,"住所",{"$f":"IF(ISERROR(VLOOKUP(IF(A159<>0,A159,A158),入力シート!$B$7:$F$206,3,0)),\"\",IF(VLOOKUP(IF(A159<>0,A159,A158),入力シート!$B$7:$F$206,3,0)=0,\"\",VLOOKUP(IF(A159<>0,A159,A158),入力シート!$B$7:$F$206,3,0)))","v":""},null,{"$f":"IF(ISERROR(VLOOKUP(IF(C159<>0,C159,C158),入力シート!$B$7:$F$206,2,0)),\"\",IF(VLOOKUP(IF(C159<>0,C159,C158),入力シート!$B$7:$F$206,2,0)=0,\"\",VLOOKUP(IF(C159<>0,C159,C158),入力シート!$B$7:$F$206,2,0)))","v":""},{"$f":"IF(ISERROR(VLOOKUP(IF(D159<>0,D159,D158),入力シート!$B$7:$F$206,2,0)),\"\",IF(VLOOKUP(IF(D159<>0,D159,D158),入力シート!$B$7:$F$206,2,0)=0,\"\",VLOOKUP(IF(D159<>0,D159,D158),入力シート!$B$7:$F$206,2,0)))","v":""},null,"住所",{"$f":"IF(ISERROR(VLOOKUP(IF(G159<>0,G159,G158),入力シート!$B$7:$F$206,3,0)),\"\",IF(VLOOKUP(IF(G159<>0,G159,G158),入力シート!$B$7:$F$206,3,0)=0,\"\",VLOOKUP(IF(G159<>0,G159,G158),入力シート!$B$7:$F$206,3,0)))","v":""},null,{"$f":"IF(ISERROR(VLOOKUP(IF(I159<>0,I159,I158),入力シート!$B$7:$F$206,2,0)),\"\",IF(VLOOKUP(IF(I159<>0,I159,I158),入力シート!$B$7:$F$206,2,0)=0,\"\",VLOOKUP(IF(I159<>0,I159,I158),入力シート!$B$7:$F$206,2,0)))","v":""},{"$f":"IF(ISERROR(VLOOKUP(IF(J159<>0,J159,J158),入力シート!$B$7:$F$206,2,0)),\"\",IF(VLOOKUP(IF(J159<>0,J159,J158),入力シート!$B$7:$F$206,2,0)=0,\"\",VLOOKUP(IF(J159<>0,J159,J158),入力シート!$B$7:$F$206,2,0)))","v":""}]
[110,"名称",{"$f":"IF(ISERROR(VLOOKUP(IF(A160<>0,A160,A159),入力シート!$B$7:$F$206,2,0)),\"\",IF(VLOOKUP(IF(A160<>0,A160,A159),入力シート!$B$7:$F$206,2,0)=0,\"\",VLOOKUP(IF(A160<>0,A160,A159),入力シート!$B$7:$F$206,2,0)))","v":""},null,{"$f":"IF(ISERROR(VLOOKUP(IF(A160<>0,A160,A159),入力シート!$B$7:$F$206,4,0)),\"\",IF(VLOOKUP(IF(A160<>0,A160,A159),入力シート!$B$7:$F$206,4,0)=0,\"\",VLOOKUP(IF(A160<>0,A160,A159),入力シート!$B$7:$F$206,4,0)))","v":""},{"$f":"IF(ISERROR(VLOOKUP(IF(A160<>0,A160,A159),入力シート!$B$7:$F$206,5,0)),\"\",IF(VLOOKUP(IF(A160<>0,A160,A159),入力シート!$B$7:$F$206,5,0)=0,\"\",VLOOKUP(IF(A160<>0,A160,A159),入力シート!$B$7:$F$206,5,0)))","v":""},120,"名称",{"$f":"IF(ISERROR(VLOOKUP(IF(G160<>0,G160,G159),入力シート!$B$7:$F$206,2,0)),\"\",IF(VLOOKUP(IF(G160<>0,G160,G159),入力シート!$B$7:$F$206,2,0)=0,\"\",VLOOKUP(IF(G160<>0,G160,G159),入力シート!$B$7:$F$206,2,0)))","v":""},null,{"$f":"IF(ISERROR(VLOOKUP(IF(G160<>0,G160,G159),入力シート!$B$7:$F$206,4,0)),\"\",IF(VLOOKUP(IF(G160<>0,G160,G159),入力シート!$B$7:$F$206,4,0)=0,\"\",VLOOKUP(IF(G160<>0,G160,G159),入力シート!$B$7:$F$206,4,0)))","v":""},{"$f":"IF(ISERROR(VLOOKUP(IF(G160<>0,G160,G159),入力シート!$B$7:$F$206,5,0)),\"\",IF(VLOOKUP(IF(G160<>0,G160,G159),入力シート!$B$7:$F$206,5,0)=0,\"\",VLOOKUP(IF(G160<>0,G160,G159),入力シート!$B$7:$F$206,5,0)))","v":""}]
[null,"住所",{"$f":"IF(ISERROR(VLOOKUP(IF(A161<>0,A161,A160),入力シート!$B$7:$F$206,3,0)),\"\",IF(VLOOKUP(IF(A161<>0,A161,A160),入力シート!$B$7:$F$206,3,0)=0,\"\",VLOOKUP(IF(A161<>0,A161,A160),入力シート!$B$7:$F$206,3,0)))","v":""},null,{"$f":"IF(ISERROR(VLOOKUP(IF(C161<>0,C161,C160),入力シート!$B$7:$F$206,2,0)),\"\",IF(VLOOKUP(IF(C161<>0,C161,C160),入力シート!$B$7:$F$206,2,0)=0,\"\",VLOOKUP(IF(C161<>0,C161,C160),入力シート!$B$7:$F$206,2,0)))","v":""},{"$f":"IF(ISERROR(VLOOKUP(IF(D161<>0,D161,D160),入力シート!$B$7:$F$206,2,0)),\"\",IF(VLOOKUP(IF(D161<>0,D161,D160),入力シート!$B$7:$F$206,2,0)=0,\"\",VLOOKUP(IF(D161<>0,D161,D160),入力シート!$B$7:$F$206,2,0)))","v":""},null,"住所",{"$f":"IF(ISERROR(VLOOKUP(IF(G161<>0,G161,G160),入力シート!$B$7:$F$206,3,0)),\"\",IF(VLOOKUP(IF(G161<>0,G161,G160),入力シート!$B$7:$F$206,3,0)=0,\"\",VLOOKUP(IF(G161<>0,G161,G160),入力シート!$B$7:$F$206,3,0)))","v":""},null,{"$f":"IF(ISERROR(VLOOKUP(IF(I161<>0,I161,I160),入力シート!$B$7:$F$206,2,0)),\"\",IF(VLOOKUP(IF(I161<>0,I161,I160),入力シート!$B$7:$F$206,2,0)=0,\"\",VLOOKUP(IF(I161<>0,I161,I160),入力シート!$B$7:$F$206,2,0)))","v":""},{"$f":"IF(ISERROR(VLOOKUP(IF(J161<>0,J161,J160),入力シート!$B$7:$F$206,2,0)),\"\",IF(VLOOKUP(IF(J161<>0,J161,J160),入力シート!$B$7:$F$206,2,0)=0,\"\",VLOOKUP(IF(J161<>0,J161,J160),入力シート!$B$7:$F$206,2,0)))","v":""}]
["（注）","1.本名簿には、配送事業者がＬＰガス配送を受託しているＬＰガス販売事業者をすべて記入する。",null,null,null,null,null,"小　　計（このページの合計）",null,null,{"$f":"SUM(E142:E161,K142:K161)","v":0},{"$f":"SUM(F142:F161,L142:L161)","v":0}]
[null,"2.ＬＰガス配送受託販売所の名称欄には企業名、販売所名を明記し、住所欄には当該販売所の住所を記入する。"]
[null,"3.保険契約加入依頼の際、依頼書に本名簿（保険会社用、事業団用、都道府県協会用）を添付して提出する。"]
[null,"4.支部が事業団に加入依頼書を送付する際、２部（保険会社用、事業団用）を添付する。"]
[null,null,null,null,null,null,null,null,null,null,7,{"$f":"COUNTIF($L$26,\">0\")+COUNTIF($L$54,\">0\")+COUNTIF($L$81,\">0\")+COUNTIF($L$108,\">0\")+COUNTIF($L$135,\">0\")+COUNTIF($L$162,\">0\")+COUNTIF($L$189,\">0\")+COUNTIF($L$216,\">0\")+COUNTIF($L$243,\">0\")+COUNTIF($L$270,\">0\")","v":0}]
["LPガス配送",null,null,"名　　　　称","配送契約の内容",null,"LPガス配送",null,null,"名　　　　称","配送契約の内容"]
["受託販売所",null,null,"住　　　　所","配　送　先\n消費者戸数","1か年間の\n配送トン数","受託販売所",null,null,"住　　　　所","配　送　先\n消費者戸数","1か年間の\n配送トン数"]
[121,"名称",{"$f":"IF(ISERROR(VLOOKUP(IF(A169<>0,A169,A168),入力シート!$B$7:$F$206,2,0)),\"\",IF(VLOOKUP(IF(A169<>0,A169,A168),入力シート!$B$7:$F$206,2,0)=0,\"\",VLOOKUP(IF(A169<>0,A169,A168),入力シート!$B$7:$F$206,2,0)))","v":""},null,{"$f":"IF(ISERROR(VLOOKUP(IF(A169<>0,A169,A168),入力シート!$B$7:$F$206,4,0)),\"\",IF(VLOOKUP(IF(A169<>0,A169,A168),入力シート!$B$7:$F$206,4,0)=0,\"\",VLOOKUP(IF(A169<>0,A169,A168),入力シート!$B$7:$F$206,4,0)))","v":""},{"$f":"IF(ISERROR(VLOOKUP(IF(A169<>0,A169,A168),入力シート!$B$7:$F$206,5,0)),\"\",IF(VLOOKUP(IF(A169<>0,A169,A168),入力シート!$B$7:$F$206,5,0)=0,\"\",VLOOKUP(IF(A169<>0,A169,A168),入力シート!$B$7:$F$206,5,0)))","v":""},131,"名称",{"$f":"IF(ISERROR(VLOOKUP(IF(G169<>0,G169,G168),入力シート!$B$7:$F$206,2,0)),\"\",IF(VLOOKUP(IF(G169<>0,G169,G168),入力シート!$B$7:$F$206,2,0)=0,\"\",VLOOKUP(IF(G169<>0,G169,G168),入力シート!$B$7:$F$206,2,0)))","v":""},null,{"$f":"IF(ISERROR(VLOOKUP(IF(G169<>0,G169,G168),入力シート!$B$7:$F$206,4,0)),\"\",IF(VLOOKUP(IF(G169<>0,G169,G168),入力シート!$B$7:$F$206,4,0)=0,\"\",VLOOKUP(IF(G169<>0,G169,G168),入力シート!$B$7:$F$206,4,0)))","v":""},{"$f":"IF(ISERROR(VLOOKUP(IF(G169<>0,G169,G168),入力シート!$B$7:$F$206,5,0)),\"\",IF(VLOOKUP(IF(G169<>0,G169,G168),入力シート!$B$7:$F$206,5,0)=0,\"\",VLOOKUP(IF(G169<>0,G169,G168),入力シート!$B$7:$F$206,5,0)))","v":""}]
[null,"住所",{"$f":"IF(ISERROR(VLOOKUP(IF(A170<>0,A170,A169),入力シート!$B$7:$F$206,3,0)),\"\",IF(VLOOKUP(IF(A170<>0,A170,A169),入力シート!$B$7:$F$206,3,0)=0,\"\",VLOOKUP(IF(A170<>0,A170,A169),入力シート!$B$7:$F$206,3,0)))","v":""},null,{"$f":"IF(ISERROR(VLOOKUP(IF(C170<>0,C170,C169),入力シート!$B$7:$F$206,2,0)),\"\",IF(VLOOKUP(IF(C170<>0,C170,C169),入力シート!$B$7:$F$206,2,0)=0,\"\",VLOOKUP(IF(C170<>0,C170,C169),入力シート!$B$7:$F$206,2,0)))","v":""},{"$f":"IF(ISERROR(VLOOKUP(IF(D170<>0,D170,D169),入力シート!$B$7:$F$206,2,0)),\"\",IF(VLOOKUP(IF(D170<>0,D170,D169),入力シート!$B$7:$F$206,2,0)=0,\"\",VLOOKUP(IF(D170<>0,D170,D169),入力シート!$B$7:$F$206,2,0)))","v":""},null,"住所",{"$f":"IF(ISERROR(VLOOKUP(IF(G170<>0,G170,G169),入力シート!$B$7:$F$206,3,0)),\"\",IF(VLOOKUP(IF(G170<>0,G170,G169),入力シート!$B$7:$F$206,3,0)=0,\"\",VLOOKUP(IF(G170<>0,G170,G169),入力シート!$B$7:$F$206,3,0)))","v":""},null,{"$f":"IF(ISERROR(VLOOKUP(IF(I170<>0,I170,I169),入力シート!$B$7:$F$206,2,0)),\"\",IF(VLOOKUP(IF(I170<>0,I170,I169),入力シート!$B$7:$F$206,2,0)=0,\"\",VLOOKUP(IF(I170<>0,I170,I169),入力シート!$B$7:$F$206,2,0)))","v":""},{"$f":"IF(ISERROR(VLOOKUP(IF(J170<>0,J170,J169),入力シート!$B$7:$F$206,2,0)),\"\",IF(VLOOKUP(IF(J170<>0,J170,J169),入力シート!$B$7:$F$206,2,0)=0,\"\",VLOOKUP(IF(J170<>0,J170,J169),入力シート!$B$7:$F$206,2,0)))","v":""}]
[122,"名称",{"$f":"IF(ISERROR(VLOOKUP(IF(A171<>0,A171,A170),入力シート!$B$7:$F$206,2,0)),\"\",IF(VLOOKUP(IF(A171<>0,A171,A170),入力シート!$B$7:$F$206,2,0)=0,\"\",VLOOKUP(IF(A171<>0,A171,A170),入力シート!$B$7:$F$206,2,0)))","v":""},null,{"$f":"IF(ISERROR(VLOOKUP(IF(A171<>0,A171,A170),入力シート!$B$7:$F$206,4,0)),\"\",IF(VLOOKUP(IF(A171<>0,A171,A170),入力シート!$B$7:$F$206,4,0)=0,\"\",VLOOKUP(IF(A171<>0,A171,A170),入力シート!$B$7:$F$206,4,0)))","v":""},{"$f":"IF(ISERROR(VLOOKUP(IF(A171<>0,A171,A170),入力シート!$B$7:$F$206,5,0)),\"\",IF(VLOOKUP(IF(A171<>0,A171,A170),入力シート!$B$7:$F$206,5,0)=0,\"\",VLOOKUP(IF(A171<>0,A171,A170),入力シート!$B$7:$F$206,5,0)))","v":""},132,"名称",{"$f":"IF(ISERROR(VLOOKUP(IF(G171<>0,G171,G170),入力シート!$B$7:$F$206,2,0)),\"\",IF(VLOOKUP(IF(G171<>0,G171,G170),入力シート!$B$7:$F$206,2,0)=0,\"\",VLOOKUP(IF(G171<>0,G171,G170),入力シート!$B$7:$F$206,2,0)))","v":""},null,{"$f":"IF(ISERROR(VLOOKUP(IF(G171<>0,G171,G170),入力シート!$B$7:$F$206,4,0)),\"\",IF(VLOOKUP(IF(G171<>0,G171,G170),入力シート!$B$7:$F$206,4,0)=0,\"\",VLOOKUP(IF(G171<>0,G171,G170),入力シート!$B$7:$F$206,4,0)))","v":""},{"$f":"IF(ISERROR(VLOOKUP(IF(G171<>0,G171,G170),入力シート!$B$7:$F$206,5,0)),\"\",IF(VLOOKUP(IF(G171<>0,G171,G170),入力シート!$B$7:$F$206,5,0)=0,\"\",VLOOKUP(IF(G171<>0,G171,G170),入力シート!$B$7:$F$206,5,0)))","v":""}]
[null,"住所",{"$f":"IF(ISERROR(VLOOKUP(IF(A172<>0,A172,A171),入力シート!$B$7:$F$206,3,0)),\"\",IF(VLOOKUP(IF(A172<>0,A172,A171),入力シート!$B$7:$F$206,3,0)=0,\"\",VLOOKUP(IF(A172<>0,A172,A171),入力シート!$B$7:$F$206,3,0)))","v":""},null,{"$f":"IF(ISERROR(VLOOKUP(IF(C172<>0,C172,C171),入力シート!$B$7:$F$206,2,0)),\"\",IF(VLOOKUP(IF(C172<>0,C172,C171),入力シート!$B$7:$F$206,2,0)=0,\"\",VLOOKUP(IF(C172<>0,C172,C171),入力シート!$B$7:$F$206,2,0)))","v":""},{"$f":"IF(ISERROR(VLOOKUP(IF(D172<>0,D172,D171),入力シート!$B$7:$F$206,2,0)),\"\",IF(VLOOKUP(IF(D172<>0,D172,D171),入力シート!$B$7:$F$206,2,0)=0,\"\",VLOOKUP(IF(D172<>0,D172,D171),入力シート!$B$7:$F$206,2,0)))","v":""},null,"住所",{"$f":"IF(ISERROR(VLOOKUP(IF(G172<>0,G172,G171),入力シート!$B$7:$F$206,3,0)),\"\",IF(VLOOKUP(IF(G172<>0,G172,G171),入力シート!$B$7:$F$206,3,0)=0,\"\",VLOOKUP(IF(G172<>0,G172,G171),入力シート!$B$7:$F$206,3,0)))","v":""},null,{"$f":"IF(ISERROR(VLOOKUP(IF(I172<>0,I172,I171),入力シート!$B$7:$F$206,2,0)),\"\",IF(VLOOKUP(IF(I172<>0,I172,I171),入力シート!$B$7:$F$206,2,0)=0,\"\",VLOOKUP(IF(I172<>0,I172,I171),入力シート!$B$7:$F$206,2,0)))","v":""},{"$f":"IF(ISERROR(VLOOKUP(IF(J172<>0,J172,J171),入力シート!$B$7:$F$206,2,0)),\"\",IF(VLOOKUP(IF(J172<>0,J172,J171),入力シート!$B$7:$F$206,2,0)=0,\"\",VLOOKUP(IF(J172<>0,J172,J171),入力シート!$B$7:$F$206,2,0)))","v":""}]
[123,"名称",{"$f":"IF(ISERROR(VLOOKUP(IF(A173<>0,A173,A172),入力シート!$B$7:$F$206,2,0)),\"\",IF(VLOOKUP(IF(A173<>0,A173,A172),入力シート!$B$7:$F$206,2,0)=0,\"\",VLOOKUP(IF(A173<>0,A173,A172),入力シート!$B$7:$F$206,2,0)))","v":""},null,{"$f":"IF(ISERROR(VLOOKUP(IF(A173<>0,A173,A172),入力シート!$B$7:$F$206,4,0)),\"\",IF(VLOOKUP(IF(A173<>0,A173,A172),入力シート!$B$7:$F$206,4,0)=0,\"\",VLOOKUP(IF(A173<>0,A173,A172),入力シート!$B$7:$F$206,4,0)))","v":""},{"$f":"IF(ISERROR(VLOOKUP(IF(A173<>0,A173,A172),入力シート!$B$7:$F$206,5,0)),\"\",IF(VLOOKUP(IF(A173<>0,A173,A172),入力シート!$B$7:$F$206,5,0)=0,\"\",VLOOKUP(IF(A173<>0,A173,A172),入力シート!$B$7:$F$206,5,0)))","v":""},133,"名称",{"$f":"IF(ISERROR(VLOOKUP(IF(G173<>0,G173,G172),入力シート!$B$7:$F$206,2,0)),\"\",IF(VLOOKUP(IF(G173<>0,G173,G172),入力シート!$B$7:$F$206,2,0)=0,\"\",VLOOKUP(IF(G173<>0,G173,G172),入力シート!$B$7:$F$206,2,0)))","v":""},null,{"$f":"IF(ISERROR(VLOOKUP(IF(G173<>0,G173,G172),入力シート!$B$7:$F$206,4,0)),\"\",IF(VLOOKUP(IF(G173<>0,G173,G172),入力シート!$B$7:$F$206,4,0)=0,\"\",VLOOKUP(IF(G173<>0,G173,G172),入力シート!$B$7:$F$206,4,0)))","v":""},{"$f":"IF(ISERROR(VLOOKUP(IF(G173<>0,G173,G172),入力シート!$B$7:$F$206,5,0)),\"\",IF(VLOOKUP(IF(G173<>0,G173,G172),入力シート!$B$7:$F$206,5,0)=0,\"\",VLOOKUP(IF(G173<>0,G173,G172),入力シート!$B$7:$F$206,5,0)))","v":""}]
[null,"住所",{"$f":"IF(ISERROR(VLOOKUP(IF(A174<>0,A174,A173),入力シート!$B$7:$F$206,3,0)),\"\",IF(VLOOKUP(IF(A174<>0,A174,A173),入力シート!$B$7:$F$206,3,0)=0,\"\",VLOOKUP(IF(A174<>0,A174,A173),入力シート!$B$7:$F$206,3,0)))","v":""},null,{"$f":"IF(ISERROR(VLOOKUP(IF(C174<>0,C174,C173),入力シート!$B$7:$F$206,2,0)),\"\",IF(VLOOKUP(IF(C174<>0,C174,C173),入力シート!$B$7:$F$206,2,0)=0,\"\",VLOOKUP(IF(C174<>0,C174,C173),入力シート!$B$7:$F$206,2,0)))","v":""},{"$f":"IF(ISERROR(VLOOKUP(IF(D174<>0,D174,D173),入力シート!$B$7:$F$206,2,0)),\"\",IF(VLOOKUP(IF(D174<>0,D174,D173),入力シート!$B$7:$F$206,2,0)=0,\"\",VLOOKUP(IF(D174<>0,D174,D173),入力シート!$B$7:$F$206,2,0)))","v":""},null,"住所",{"$f":"IF(ISERROR(VLOOKUP(IF(G174<>0,G174,G173),入力シート!$B$7:$F$206,3,0)),\"\",IF(VLOOKUP(IF(G174<>0,G174,G173),入力シート!$B$7:$F$206,3,0)=0,\"\",VLOOKUP(IF(G174<>0,G174,G173),入力シート!$B$7:$F$206,3,0)))","v":""},null,{"$f":"IF(ISERROR(VLOOKUP(IF(I174<>0,I174,I173),入力シート!$B$7:$F$206,2,0)),\"\",IF(VLOOKUP(IF(I174<>0,I174,I173),入力シート!$B$7:$F$206,2,0)=0,\"\",VLOOKUP(IF(I174<>0,I174,I173),入力シート!$B$7:$F$206,2,0)))","v":""},{"$f":"IF(ISERROR(VLOOKUP(IF(J174<>0,J174,J173),入力シート!$B$7:$F$206,2,0)),\"\",IF(VLOOKUP(IF(J174<>0,J174,J173),入力シート!$B$7:$F$206,2,0)=0,\"\",VLOOKUP(IF(J174<>0,J174,J173),入力シート!$B$7:$F$206,2,0)))","v":""}]
[124,"名称",{"$f":"IF(ISERROR(VLOOKUP(IF(A175<>0,A175,A174),入力シート!$B$7:$F$206,2,0)),\"\",IF(VLOOKUP(IF(A175<>0,A175,A174),入力シート!$B$7:$F$206,2,0)=0,\"\",VLOOKUP(IF(A175<>0,A175,A174),入力シート!$B$7:$F$206,2,0)))","v":""},null,{"$f":"IF(ISERROR(VLOOKUP(IF(A175<>0,A175,A174),入力シート!$B$7:$F$206,4,0)),\"\",IF(VLOOKUP(IF(A175<>0,A175,A174),入力シート!$B$7:$F$206,4,0)=0,\"\",VLOOKUP(IF(A175<>0,A175,A174),入力シート!$B$7:$F$206,4,0)))","v":""},{"$f":"IF(ISERROR(VLOOKUP(IF(A175<>0,A175,A174),入力シート!$B$7:$F$206,5,0)),\"\",IF(VLOOKUP(IF(A175<>0,A175,A174),入力シート!$B$7:$F$206,5,0)=0,\"\",VLOOKUP(IF(A175<>0,A175,A174),入力シート!$B$7:$F$206,5,0)))","v":""},134,"名称",{"$f":"IF(ISERROR(VLOOKUP(IF(G175<>0,G175,G174),入力シート!$B$7:$F$206,2,0)),\"\",IF(VLOOKUP(IF(G175<>0,G175,G174),入力シート!$B$7:$F$206,2,0)=0,\"\",VLOOKUP(IF(G175<>0,G175,G174),入力シート!$B$7:$F$206,2,0)))","v":""},null,{"$f":"IF(ISERROR(VLOOKUP(IF(G175<>0,G175,G174),入力シート!$B$7:$F$206,4,0)),\"\",IF(VLOOKUP(IF(G175<>0,G175,G174),入力シート!$B$7:$F$206,4,0)=0,\"\",VLOOKUP(IF(G175<>0,G175,G174),入力シート!$B$7:$F$206,4,0)))","v":""},{"$f":"IF(ISERROR(VLOOKUP(IF(G175<>0,G175,G174),入力シート!$B$7:$F$206,5,0)),\"\",IF(VLOOKUP(IF(G175<>0,G175,G174),入力シート!$B$7:$F$206,5,0)=0,\"\",VLOOKUP(IF(G175<>0,G175,G174),入力シート!$B$7:$F$206,5,0)))","v":""}]
[null,"住所",{"$f":"IF(ISERROR(VLOOKUP(IF(A176<>0,A176,A175),入力シート!$B$7:$F$206,3,0)),\"\",IF(VLOOKUP(IF(A176<>0,A176,A175),入力シート!$B$7:$F$206,3,0)=0,\"\",VLOOKUP(IF(A176<>0,A176,A175),入力シート!$B$7:$F$206,3,0)))","v":""},null,{"$f":"IF(ISERROR(VLOOKUP(IF(C176<>0,C176,C175),入力シート!$B$7:$F$206,2,0)),\"\",IF(VLOOKUP(IF(C176<>0,C176,C175),入力シート!$B$7:$F$206,2,0)=0,\"\",VLOOKUP(IF(C176<>0,C176,C175),入力シート!$B$7:$F$206,2,0)))","v":""},{"$f":"IF(ISERROR(VLOOKUP(IF(D176<>0,D176,D175),入力シート!$B$7:$F$206,2,0)),\"\",IF(VLOOKUP(IF(D176<>0,D176,D175),入力シート!$B$7:$F$206,2,0)=0,\"\",VLOOKUP(IF(D176<>0,D176,D175),入力シート!$B$7:$F$206,2,0)))","v":""},null,"住所",{"$f":"IF(ISERROR(VLOOKUP(IF(G176<>0,G176,G175),入力シート!$B$7:$F$206,3,0)),\"\",IF(VLOOKUP(IF(G176<>0,G176,G175),入力シート!$B$7:$F$206,3,0)=0,\"\",VLOOKUP(IF(G176<>0,G176,G175),入力シート!$B$7:$F$206,3,0)))","v":""},null,{"$f":"IF(ISERROR(VLOOKUP(IF(I176<>0,I176,I175),入力シート!$B$7:$F$206,2,0)),\"\",IF(VLOOKUP(IF(I176<>0,I176,I175),入力シート!$B$7:$F$206,2,0)=0,\"\",VLOOKUP(IF(I176<>0,I176,I175),入力シート!$B$7:$F$206,2,0)))","v":""},{"$f":"IF(ISERROR(VLOOKUP(IF(J176<>0,J176,J175),入力シート!$B$7:$F$206,2,0)),\"\",IF(VLOOKUP(IF(J176<>0,J176,J175),入力シート!$B$7:$F$206,2,0)=0,\"\",VLOOKUP(IF(J176<>0,J176,J175),入力シート!$B$7:$F$206,2,0)))","v":""}]
[125,"名称",{"$f":"IF(ISERROR(VLOOKUP(IF(A177<>0,A177,A176),入力シート!$B$7:$F$206,2,0)),\"\",IF(VLOOKUP(IF(A177<>0,A177,A176),入力シート!$B$7:$F$206,2,0)=0,\"\",VLOOKUP(IF(A177<>0,A177,A176),入力シート!$B$7:$F$206,2,0)))","v":""},null,{"$f":"IF(ISERROR(VLOOKUP(IF(A177<>0,A177,A176),入力シート!$B$7:$F$206,4,0)),\"\",IF(VLOOKUP(IF(A177<>0,A177,A176),入力シート!$B$7:$F$206,4,0)=0,\"\",VLOOKUP(IF(A177<>0,A177,A176),入力シート!$B$7:$F$206,4,0)))","v":""},{"$f":"IF(ISERROR(VLOOKUP(IF(A177<>0,A177,A176),入力シート!$B$7:$F$206,5,0)),\"\",IF(VLOOKUP(IF(A177<>0,A177,A176),入力シート!$B$7:$F$206,5,0)=0,\"\",VLOOKUP(IF(A177<>0,A177,A176),入力シート!$B$7:$F$206,5,0)))","v":""},135,"名称",{"$f":"IF(ISERROR(VLOOKUP(IF(G177<>0,G177,G176),入力シート!$B$7:$F$206,2,0)),\"\",IF(VLOOKUP(IF(G177<>0,G177,G176),入力シート!$B$7:$F$206,2,0)=0,\"\",VLOOKUP(IF(G177<>0,G177,G176),入力シート!$B$7:$F$206,2,0)))","v":""},null,{"$f":"IF(ISERROR(VLOOKUP(IF(G177<>0,G177,G176),入力シート!$B$7:$F$206,4,0)),\"\",IF(VLOOKUP(IF(G177<>0,G177,G176),入力シート!$B$7:$F$206,4,0)=0,\"\",VLOOKUP(IF(G177<>0,G177,G176),入力シート!$B$7:$F$206,4,0)))","v":""},{"$f":"IF(ISERROR(VLOOKUP(IF(G177<>0,G177,G176),入力シート!$B$7:$F$206,5,0)),\"\",IF(VLOOKUP(IF(G177<>0,G177,G176),入力シート!$B$7:$F$206,5,0)=0,\"\",VLOOKUP(IF(G177<>0,G177,G176),入力シート!$B$7:$F$206,5,0)))","v":""}]
[null,"住所",{"$f":"IF(ISERROR(VLOOKUP(IF(A178<>0,A178,A177),入力シート!$B$7:$F$206,3,0)),\"\",IF(VLOOKUP(IF(A178<>0,A178,A177),入力シート!$B$7:$F$206,3,0)=0,\"\",VLOOKUP(IF(A178<>0,A178,A177),入力シート!$B$7:$F$206,3,0)))","v":""},null,{"$f":"IF(ISERROR(VLOOKUP(IF(C178<>0,C178,C177),入力シート!$B$7:$F$206,2,0)),\"\",IF(VLOOKUP(IF(C178<>0,C178,C177),入力シート!$B$7:$F$206,2,0)=0,\"\",VLOOKUP(IF(C178<>0,C178,C177),入力シート!$B$7:$F$206,2,0)))","v":""},{"$f":"IF(ISERROR(VLOOKUP(IF(D178<>0,D178,D177),入力シート!$B$7:$F$206,2,0)),\"\",IF(VLOOKUP(IF(D178<>0,D178,D177),入力シート!$B$7:$F$206,2,0)=0,\"\",VLOOKUP(IF(D178<>0,D178,D177),入力シート!$B$7:$F$206,2,0)))","v":""},null,"住所",{"$f":"IF(ISERROR(VLOOKUP(IF(G178<>0,G178,G177),入力シート!$B$7:$F$206,3,0)),\"\",IF(VLOOKUP(IF(G178<>0,G178,G177),入力シート!$B$7:$F$206,3,0)=0,\"\",VLOOKUP(IF(G178<>0,G178,G177),入力シート!$B$7:$F$206,3,0)))","v":""},null,{"$f":"IF(ISERROR(VLOOKUP(IF(I178<>0,I178,I177),入力シート!$B$7:$F$206,2,0)),\"\",IF(VLOOKUP(IF(I178<>0,I178,I177),入力シート!$B$7:$F$206,2,0)=0,\"\",VLOOKUP(IF(I178<>0,I178,I177),入力シート!$B$7:$F$206,2,0)))","v":""},{"$f":"IF(ISERROR(VLOOKUP(IF(J178<>0,J178,J177),入力シート!$B$7:$F$206,2,0)),\"\",IF(VLOOKUP(IF(J178<>0,J178,J177),入力シート!$B$7:$F$206,2,0)=0,\"\",VLOOKUP(IF(J178<>0,J178,J177),入力シート!$B$7:$F$206,2,0)))","v":""}]
[126,"名称",{"$f":"IF(ISERROR(VLOOKUP(IF(A179<>0,A179,A178),入力シート!$B$7:$F$206,2,0)),\"\",IF(VLOOKUP(IF(A179<>0,A179,A178),入力シート!$B$7:$F$206,2,0)=0,\"\",VLOOKUP(IF(A179<>0,A179,A178),入力シート!$B$7:$F$206,2,0)))","v":""},null,{"$f":"IF(ISERROR(VLOOKUP(IF(A179<>0,A179,A178),入力シート!$B$7:$F$206,4,0)),\"\",IF(VLOOKUP(IF(A179<>0,A179,A178),入力シート!$B$7:$F$206,4,0)=0,\"\",VLOOKUP(IF(A179<>0,A179,A178),入力シート!$B$7:$F$206,4,0)))","v":""},{"$f":"IF(ISERROR(VLOOKUP(IF(A179<>0,A179,A178),入力シート!$B$7:$F$206,5,0)),\"\",IF(VLOOKUP(IF(A179<>0,A179,A178),入力シート!$B$7:$F$206,5,0)=0,\"\",VLOOKUP(IF(A179<>0,A179,A178),入力シート!$B$7:$F$206,5,0)))","v":""},136,"名称",{"$f":"IF(ISERROR(VLOOKUP(IF(G179<>0,G179,G178),入力シート!$B$7:$F$206,2,0)),\"\",IF(VLOOKUP(IF(G179<>0,G179,G178),入力シート!$B$7:$F$206,2,0)=0,\"\",VLOOKUP(IF(G179<>0,G179,G178),入力シート!$B$7:$F$206,2,0)))","v":""},null,{"$f":"IF(ISERROR(VLOOKUP(IF(G179<>0,G179,G178),入力シート!$B$7:$F$206,4,0)),\"\",IF(VLOOKUP(IF(G179<>0,G179,G178),入力シート!$B$7:$F$206,4,0)=0,\"\",VLOOKUP(IF(G179<>0,G179,G178),入力シート!$B$7:$F$206,4,0)))","v":""},{"$f":"IF(ISERROR(VLOOKUP(IF(G179<>0,G179,G178),入力シート!$B$7:$F$206,5,0)),\"\",IF(VLOOKUP(IF(G179<>0,G179,G178),入力シート!$B$7:$F$206,5,0)=0,\"\",VLOOKUP(IF(G179<>0,G179,G178),入力シート!$B$7:$F$206,5,0)))","v":""}]
[null,"住所",{"$f":"IF(ISERROR(VLOOKUP(IF(A180<>0,A180,A179),入力シート!$B$7:$F$206,3,0)),\"\",IF(VLOOKUP(IF(A180<>0,A180,A179),入力シート!$B$7:$F$206,3,0)=0,\"\",VLOOKUP(IF(A180<>0,A180,A179),入力シート!$B$7:$F$206,3,0)))","v":""},null,{"$f":"IF(ISERROR(VLOOKUP(IF(C180<>0,C180,C179),入力シート!$B$7:$F$206,2,0)),\"\",IF(VLOOKUP(IF(C180<>0,C180,C179),入力シート!$B$7:$F$206,2,0)=0,\"\",VLOOKUP(IF(C180<>0,C180,C179),入力シート!$B$7:$F$206,2,0)))","v":""},{"$f":"IF(ISERROR(VLOOKUP(IF(D180<>0,D180,D179),入力シート!$B$7:$F$206,2,0)),\"\",IF(VLOOKUP(IF(D180<>0,D180,D179),入力シート!$B$7:$F$206,2,0)=0,\"\",VLOOKUP(IF(D180<>0,D180,D179),入力シート!$B$7:$F$206,2,0)))","v":""},null,"住所",{"$f":"IF(ISERROR(VLOOKUP(IF(G180<>0,G180,G179),入力シート!$B$7:$F$206,3,0)),\"\",IF(VLOOKUP(IF(G180<>0,G180,G179),入力シート!$B$7:$F$206,3,0)=0,\"\",VLOOKUP(IF(G180<>0,G180,G179),入力シート!$B$7:$F$206,3,0)))","v":""},null,{"$f":"IF(ISERROR(VLOOKUP(IF(I180<>0,I180,I179),入力シート!$B$7:$F$206,2,0)),\"\",IF(VLOOKUP(IF(I180<>0,I180,I179),入力シート!$B$7:$F$206,2,0)=0,\"\",VLOOKUP(IF(I180<>0,I180,I179),入力シート!$B$7:$F$206,2,0)))","v":""},{"$f":"IF(ISERROR(VLOOKUP(IF(J180<>0,J180,J179),入力シート!$B$7:$F$206,2,0)),\"\",IF(VLOOKUP(IF(J180<>0,J180,J179),入力シート!$B$7:$F$206,2,0)=0,\"\",VLOOKUP(IF(J180<>0,J180,J179),入力シート!$B$7:$F$206,2,0)))","v":""}]
[127,"名称",{"$f":"IF(ISERROR(VLOOKUP(IF(A181<>0,A181,A180),入力シート!$B$7:$F$206,2,0)),\"\",IF(VLOOKUP(IF(A181<>0,A181,A180),入力シート!$B$7:$F$206,2,0)=0,\"\",VLOOKUP(IF(A181<>0,A181,A180),入力シート!$B$7:$F$206,2,0)))","v":""},null,{"$f":"IF(ISERROR(VLOOKUP(IF(A181<>0,A181,A180),入力シート!$B$7:$F$206,4,0)),\"\",IF(VLOOKUP(IF(A181<>0,A181,A180),入力シート!$B$7:$F$206,4,0)=0,\"\",VLOOKUP(IF(A181<>0,A181,A180),入力シート!$B$7:$F$206,4,0)))","v":""},{"$f":"IF(ISERROR(VLOOKUP(IF(A181<>0,A181,A180),入力シート!$B$7:$F$206,5,0)),\"\",IF(VLOOKUP(IF(A181<>0,A181,A180),入力シート!$B$7:$F$206,5,0)=0,\"\",VLOOKUP(IF(A181<>0,A181,A180),入力シート!$B$7:$F$206,5,0)))","v":""},137,"名称",{"$f":"IF(ISERROR(VLOOKUP(IF(G181<>0,G181,G180),入力シート!$B$7:$F$206,2,0)),\"\",IF(VLOOKUP(IF(G181<>0,G181,G180),入力シート!$B$7:$F$206,2,0)=0,\"\",VLOOKUP(IF(G181<>0,G181,G180),入力シート!$B$7:$F$206,2,0)))","v":""},null,{"$f":"IF(ISERROR(VLOOKUP(IF(G181<>0,G181,G180),入力シート!$B$7:$F$206,4,0)),\"\",IF(VLOOKUP(IF(G181<>0,G181,G180),入力シート!$B$7:$F$206,4,0)=0,\"\",VLOOKUP(IF(G181<>0,G181,G180),入力シート!$B$7:$F$206,4,0)))","v":""},{"$f":"IF(ISERROR(VLOOKUP(IF(G181<>0,G181,G180),入力シート!$B$7:$F$206,5,0)),\"\",IF(VLOOKUP(IF(G181<>0,G181,G180),入力シート!$B$7:$F$206,5,0)=0,\"\",VLOOKUP(IF(G181<>0,G181,G180),入力シート!$B$7:$F$206,5,0)))","v":""}]
[null,"住所",{"$f":"IF(ISERROR(VLOOKUP(IF(A182<>0,A182,A181),入力シート!$B$7:$F$206,3,0)),\"\",IF(VLOOKUP(IF(A182<>0,A182,A181),入力シート!$B$7:$F$206,3,0)=0,\"\",VLOOKUP(IF(A182<>0,A182,A181),入力シート!$B$7:$F$206,3,0)))","v":""},null,{"$f":"IF(ISERROR(VLOOKUP(IF(C182<>0,C182,C181),入力シート!$B$7:$F$206,2,0)),\"\",IF(VLOOKUP(IF(C182<>0,C182,C181),入力シート!$B$7:$F$206,2,0)=0,\"\",VLOOKUP(IF(C182<>0,C182,C181),入力シート!$B$7:$F$206,2,0)))","v":""},{"$f":"IF(ISERROR(VLOOKUP(IF(D182<>0,D182,D181),入力シート!$B$7:$F$206,2,0)),\"\",IF(VLOOKUP(IF(D182<>0,D182,D181),入力シート!$B$7:$F$206,2,0)=0,\"\",VLOOKUP(IF(D182<>0,D182,D181),入力シート!$B$7:$F$206,2,0)))","v":""},null,"住所",{"$f":"IF(ISERROR(VLOOKUP(IF(G182<>0,G182,G181),入力シート!$B$7:$F$206,3,0)),\"\",IF(VLOOKUP(IF(G182<>0,G182,G181),入力シート!$B$7:$F$206,3,0)=0,\"\",VLOOKUP(IF(G182<>0,G182,G181),入力シート!$B$7:$F$206,3,0)))","v":""},null,{"$f":"IF(ISERROR(VLOOKUP(IF(I182<>0,I182,I181),入力シート!$B$7:$F$206,2,0)),\"\",IF(VLOOKUP(IF(I182<>0,I182,I181),入力シート!$B$7:$F$206,2,0)=0,\"\",VLOOKUP(IF(I182<>0,I182,I181),入力シート!$B$7:$F$206,2,0)))","v":""},{"$f":"IF(ISERROR(VLOOKUP(IF(J182<>0,J182,J181),入力シート!$B$7:$F$206,2,0)),\"\",IF(VLOOKUP(IF(J182<>0,J182,J181),入力シート!$B$7:$F$206,2,0)=0,\"\",VLOOKUP(IF(J182<>0,J182,J181),入力シート!$B$7:$F$206,2,0)))","v":""}]
[128,"名称",{"$f":"IF(ISERROR(VLOOKUP(IF(A183<>0,A183,A182),入力シート!$B$7:$F$206,2,0)),\"\",IF(VLOOKUP(IF(A183<>0,A183,A182),入力シート!$B$7:$F$206,2,0)=0,\"\",VLOOKUP(IF(A183<>0,A183,A182),入力シート!$B$7:$F$206,2,0)))","v":""},null,{"$f":"IF(ISERROR(VLOOKUP(IF(A183<>0,A183,A182),入力シート!$B$7:$F$206,4,0)),\"\",IF(VLOOKUP(IF(A183<>0,A183,A182),入力シート!$B$7:$F$206,4,0)=0,\"\",VLOOKUP(IF(A183<>0,A183,A182),入力シート!$B$7:$F$206,4,0)))","v":""},{"$f":"IF(ISERROR(VLOOKUP(IF(A183<>0,A183,A182),入力シート!$B$7:$F$206,5,0)),\"\",IF(VLOOKUP(IF(A183<>0,A183,A182),入力シート!$B$7:$F$206,5,0)=0,\"\",VLOOKUP(IF(A183<>0,A183,A182),入力シート!$B$7:$F$206,5,0)))","v":""},138,"名称",{"$f":"IF(ISERROR(VLOOKUP(IF(G183<>0,G183,G182),入力シート!$B$7:$F$206,2,0)),\"\",IF(VLOOKUP(IF(G183<>0,G183,G182),入力シート!$B$7:$F$206,2,0)=0,\"\",VLOOKUP(IF(G183<>0,G183,G182),入力シート!$B$7:$F$206,2,0)))","v":""},null,{"$f":"IF(ISERROR(VLOOKUP(IF(G183<>0,G183,G182),入力シート!$B$7:$F$206,4,0)),\"\",IF(VLOOKUP(IF(G183<>0,G183,G182),入力シート!$B$7:$F$206,4,0)=0,\"\",VLOOKUP(IF(G183<>0,G183,G182),入力シート!$B$7:$F$206,4,0)))","v":""},{"$f":"IF(ISERROR(VLOOKUP(IF(G183<>0,G183,G182),入力シート!$B$7:$F$206,5,0)),\"\",IF(VLOOKUP(IF(G183<>0,G183,G182),入力シート!$B$7:$F$206,5,0)=0,\"\",VLOOKUP(IF(G183<>0,G183,G182),入力シート!$B$7:$F$206,5,0)))","v":""}]
[null,"住所",{"$f":"IF(ISERROR(VLOOKUP(IF(A184<>0,A184,A183),入力シート!$B$7:$F$206,3,0)),\"\",IF(VLOOKUP(IF(A184<>0,A184,A183),入力シート!$B$7:$F$206,3,0)=0,\"\",VLOOKUP(IF(A184<>0,A184,A183),入力シート!$B$7:$F$206,3,0)))","v":""},null,{"$f":"IF(ISERROR(VLOOKUP(IF(C184<>0,C184,C183),入力シート!$B$7:$F$206,2,0)),\"\",IF(VLOOKUP(IF(C184<>0,C184,C183),入力シート!$B$7:$F$206,2,0)=0,\"\",VLOOKUP(IF(C184<>0,C184,C183),入力シート!$B$7:$F$206,2,0)))","v":""},{"$f":"IF(ISERROR(VLOOKUP(IF(D184<>0,D184,D183),入力シート!$B$7:$F$206,2,0)),\"\",IF(VLOOKUP(IF(D184<>0,D184,D183),入力シート!$B$7:$F$206,2,0)=0,\"\",VLOOKUP(IF(D184<>0,D184,D183),入力シート!$B$7:$F$206,2,0)))","v":""},null,"住所",{"$f":"IF(ISERROR(VLOOKUP(IF(G184<>0,G184,G183),入力シート!$B$7:$F$206,3,0)),\"\",IF(VLOOKUP(IF(G184<>0,G184,G183),入力シート!$B$7:$F$206,3,0)=0,\"\",VLOOKUP(IF(G184<>0,G184,G183),入力シート!$B$7:$F$206,3,0)))","v":""},null,{"$f":"IF(ISERROR(VLOOKUP(IF(I184<>0,I184,I183),入力シート!$B$7:$F$206,2,0)),\"\",IF(VLOOKUP(IF(I184<>0,I184,I183),入力シート!$B$7:$F$206,2,0)=0,\"\",VLOOKUP(IF(I184<>0,I184,I183),入力シート!$B$7:$F$206,2,0)))","v":""},{"$f":"IF(ISERROR(VLOOKUP(IF(J184<>0,J184,J183),入力シート!$B$7:$F$206,2,0)),\"\",IF(VLOOKUP(IF(J184<>0,J184,J183),入力シート!$B$7:$F$206,2,0)=0,\"\",VLOOKUP(IF(J184<>0,J184,J183),入力シート!$B$7:$F$206,2,0)))","v":""}]
[129,"名称",{"$f":"IF(ISERROR(VLOOKUP(IF(A185<>0,A185,A184),入力シート!$B$7:$F$206,2,0)),\"\",IF(VLOOKUP(IF(A185<>0,A185,A184),入力シート!$B$7:$F$206,2,0)=0,\"\",VLOOKUP(IF(A185<>0,A185,A184),入力シート!$B$7:$F$206,2,0)))","v":""},null,{"$f":"IF(ISERROR(VLOOKUP(IF(A185<>0,A185,A184),入力シート!$B$7:$F$206,4,0)),\"\",IF(VLOOKUP(IF(A185<>0,A185,A184),入力シート!$B$7:$F$206,4,0)=0,\"\",VLOOKUP(IF(A185<>0,A185,A184),入力シート!$B$7:$F$206,4,0)))","v":""},{"$f":"IF(ISERROR(VLOOKUP(IF(A185<>0,A185,A184),入力シート!$B$7:$F$206,5,0)),\"\",IF(VLOOKUP(IF(A185<>0,A185,A184),入力シート!$B$7:$F$206,5,0)=0,\"\",VLOOKUP(IF(A185<>0,A185,A184),入力シート!$B$7:$F$206,5,0)))","v":""},139,"名称",{"$f":"IF(ISERROR(VLOOKUP(IF(G185<>0,G185,G184),入力シート!$B$7:$F$206,2,0)),\"\",IF(VLOOKUP(IF(G185<>0,G185,G184),入力シート!$B$7:$F$206,2,0)=0,\"\",VLOOKUP(IF(G185<>0,G185,G184),入力シート!$B$7:$F$206,2,0)))","v":""},null,{"$f":"IF(ISERROR(VLOOKUP(IF(G185<>0,G185,G184),入力シート!$B$7:$F$206,4,0)),\"\",IF(VLOOKUP(IF(G185<>0,G185,G184),入力シート!$B$7:$F$206,4,0)=0,\"\",VLOOKUP(IF(G185<>0,G185,G184),入力シート!$B$7:$F$206,4,0)))","v":""},{"$f":"IF(ISERROR(VLOOKUP(IF(G185<>0,G185,G184),入力シート!$B$7:$F$206,5,0)),\"\",IF(VLOOKUP(IF(G185<>0,G185,G184),入力シート!$B$7:$F$206,5,0)=0,\"\",VLOOKUP(IF(G185<>0,G185,G184),入力シート!$B$7:$F$206,5,0)))","v":""}]
[null,"住所",{"$f":"IF(ISERROR(VLOOKUP(IF(A186<>0,A186,A185),入力シート!$B$7:$F$206,3,0)),\"\",IF(VLOOKUP(IF(A186<>0,A186,A185),入力シート!$B$7:$F$206,3,0)=0,\"\",VLOOKUP(IF(A186<>0,A186,A185),入力シート!$B$7:$F$206,3,0)))","v":""},null,{"$f":"IF(ISERROR(VLOOKUP(IF(C186<>0,C186,C185),入力シート!$B$7:$F$206,2,0)),\"\",IF(VLOOKUP(IF(C186<>0,C186,C185),入力シート!$B$7:$F$206,2,0)=0,\"\",VLOOKUP(IF(C186<>0,C186,C185),入力シート!$B$7:$F$206,2,0)))","v":""},{"$f":"IF(ISERROR(VLOOKUP(IF(D186<>0,D186,D185),入力シート!$B$7:$F$206,2,0)),\"\",IF(VLOOKUP(IF(D186<>0,D186,D185),入力シート!$B$7:$F$206,2,0)=0,\"\",VLOOKUP(IF(D186<>0,D186,D185),入力シート!$B$7:$F$206,2,0)))","v":""},null,"住所",{"$f":"IF(ISERROR(VLOOKUP(IF(G186<>0,G186,G185),入力シート!$B$7:$F$206,3,0)),\"\",IF(VLOOKUP(IF(G186<>0,G186,G185),入力シート!$B$7:$F$206,3,0)=0,\"\",VLOOKUP(IF(G186<>0,G186,G185),入力シート!$B$7:$F$206,3,0)))","v":""},null,{"$f":"IF(ISERROR(VLOOKUP(IF(I186<>0,I186,I185),入力シート!$B$7:$F$206,2,0)),\"\",IF(VLOOKUP(IF(I186<>0,I186,I185),入力シート!$B$7:$F$206,2,0)=0,\"\",VLOOKUP(IF(I186<>0,I186,I185),入力シート!$B$7:$F$206,2,0)))","v":""},{"$f":"IF(ISERROR(VLOOKUP(IF(J186<>0,J186,J185),入力シート!$B$7:$F$206,2,0)),\"\",IF(VLOOKUP(IF(J186<>0,J186,J185),入力シート!$B$7:$F$206,2,0)=0,\"\",VLOOKUP(IF(J186<>0,J186,J185),入力シート!$B$7:$F$206,2,0)))","v":""}]
[130,"名称",{"$f":"IF(ISERROR(VLOOKUP(IF(A187<>0,A187,A186),入力シート!$B$7:$F$206,2,0)),\"\",IF(VLOOKUP(IF(A187<>0,A187,A186),入力シート!$B$7:$F$206,2,0)=0,\"\",VLOOKUP(IF(A187<>0,A187,A186),入力シート!$B$7:$F$206,2,0)))","v":""},null,{"$f":"IF(ISERROR(VLOOKUP(IF(A187<>0,A187,A186),入力シート!$B$7:$F$206,4,0)),\"\",IF(VLOOKUP(IF(A187<>0,A187,A186),入力シート!$B$7:$F$206,4,0)=0,\"\",VLOOKUP(IF(A187<>0,A187,A186),入力シート!$B$7:$F$206,4,0)))","v":""},{"$f":"IF(ISERROR(VLOOKUP(IF(A187<>0,A187,A186),入力シート!$B$7:$F$206,5,0)),\"\",IF(VLOOKUP(IF(A187<>0,A187,A186),入力シート!$B$7:$F$206,5,0)=0,\"\",VLOOKUP(IF(A187<>0,A187,A186),入力シート!$B$7:$F$206,5,0)))","v":""},140,"名称",{"$f":"IF(ISERROR(VLOOKUP(IF(G187<>0,G187,G186),入力シート!$B$7:$F$206,2,0)),\"\",IF(VLOOKUP(IF(G187<>0,G187,G186),入力シート!$B$7:$F$206,2,0)=0,\"\",VLOOKUP(IF(G187<>0,G187,G186),入力シート!$B$7:$F$206,2,0)))","v":""},null,{"$f":"IF(ISERROR(VLOOKUP(IF(G187<>0,G187,G186),入力シート!$B$7:$F$206,4,0)),\"\",IF(VLOOKUP(IF(G187<>0,G187,G186),入力シート!$B$7:$F$206,4,0)=0,\"\",VLOOKUP(IF(G187<>0,G187,G186),入力シート!$B$7:$F$206,4,0)))","v":""},{"$f":"IF(ISERROR(VLOOKUP(IF(G187<>0,G187,G186),入力シート!$B$7:$F$206,5,0)),\"\",IF(VLOOKUP(IF(G187<>0,G187,G186),入力シート!$B$7:$F$206,5,0)=0,\"\",VLOOKUP(IF(G187<>0,G187,G186),入力シート!$B$7:$F$206,5,0)))","v":""}]
[null,"住所",{"$f":"IF(ISERROR(VLOOKUP(IF(A188<>0,A188,A187),入力シート!$B$7:$F$206,3,0)),\"\",IF(VLOOKUP(IF(A188<>0,A188,A187),入力シート!$B$7:$F$206,3,0)=0,\"\",VLOOKUP(IF(A188<>0,A188,A187),入力シート!$B$7:$F$206,3,0)))","v":""},null,{"$f":"IF(ISERROR(VLOOKUP(IF(C188<>0,C188,C187),入力シート!$B$7:$F$206,2,0)),\"\",IF(VLOOKUP(IF(C188<>0,C188,C187),入力シート!$B$7:$F$206,2,0)=0,\"\",VLOOKUP(IF(C188<>0,C188,C187),入力シート!$B$7:$F$206,2,0)))","v":""},{"$f":"IF(ISERROR(VLOOKUP(IF(D188<>0,D188,D187),入力シート!$B$7:$F$206,2,0)),\"\",IF(VLOOKUP(IF(D188<>0,D188,D187),入力シート!$B$7:$F$206,2,0)=0,\"\",VLOOKUP(IF(D188<>0,D188,D187),入力シート!$B$7:$F$206,2,0)))","v":""},null,"住所",{"$f":"IF(ISERROR(VLOOKUP(IF(G188<>0,G188,G187),入力シート!$B$7:$F$206,3,0)),\"\",IF(VLOOKUP(IF(G188<>0,G188,G187),入力シート!$B$7:$F$206,3,0)=0,\"\",VLOOKUP(IF(G188<>0,G188,G187),入力シート!$B$7:$F$206,3,0)))","v":""},null,{"$f":"IF(ISERROR(VLOOKUP(IF(I188<>0,I188,I187),入力シート!$B$7:$F$206,2,0)),\"\",IF(VLOOKUP(IF(I188<>0,I188,I187),入力シート!$B$7:$F$206,2,0)=0,\"\",VLOOKUP(IF(I188<>0,I188,I187),入力シート!$B$7:$F$206,2,0)))","v":""},{"$f":"IF(ISERROR(VLOOKUP(IF(J188<>0,J188,J187),入力シート!$B$7:$F$206,2,0)),\"\",IF(VLOOKUP(IF(J188<>0,J188,J187),入力シート!$B$7:$F$206,2,0)=0,\"\",VLOOKUP(IF(J188<>0,J188,J187),入力シート!$B$7:$F$206,2,0)))","v":""}]
["（注）","1.本名簿には、配送事業者がＬＰガス配送を受託しているＬＰガス販売事業者をすべて記入する。",null,null,null,null,null,"小　　計（このページの合計）",null,null,{"$f":"SUM(E169:E188,K169:K188)","v":0},{"$f":"SUM(F169:F188,L169:L188)","v":0}]
[null,"2.ＬＰガス配送受託販売所の名称欄には企業名、販売所名を明記し、住所欄には当該販売所の住所を記入する。"]
[null,"3.保険契約加入依頼の際、依頼書に本名簿（保険会社用、事業団用、都道府県協会用）を添付して提出する。"]
[null,"4.支部が事業団に加入依頼書を送付する際、２部（保険会社用、事業団用）を添付する。"]
[null,null,null,null,null,null,null,null,null,null,8,{"$f":"COUNTIF($L$26,\">0\")+COUNTIF($L$54,\">0\")+COUNTIF($L$81,\">0\")+COUNTIF($L$108,\">0\")+COUNTIF($L$135,\">0\")+COUNTIF($L$162,\">0\")+COUNTIF($L$189,\">0\")+COUNTIF($L$216,\">0\")+COUNTIF($L$243,\">0\")+COUNTIF($L$270,\">0\")","v":0}]
["LPガス配送",null,null,"名　　　　称","配送契約の内容",null,"LPガス配送",null,null,"名　　　　称","配送契約の内容"]
["受託販売所",null,null,"住　　　　所","配　送　先\n消費者戸数","1か年間の\n配送トン数","受託販売所",null,null,"住　　　　所","配　送　先\n消費者戸数","1か年間の\n配送トン数"]
[141,"名称",{"$f":"IF(ISERROR(VLOOKUP(IF(A196<>0,A196,A195),入力シート!$B$7:$F$206,2,0)),\"\",IF(VLOOKUP(IF(A196<>0,A196,A195),入力シート!$B$7:$F$206,2,0)=0,\"\",VLOOKUP(IF(A196<>0,A196,A195),入力シート!$B$7:$F$206,2,0)))","v":""},null,{"$f":"IF(ISERROR(VLOOKUP(IF(A196<>0,A196,A195),入力シート!$B$7:$F$206,4,0)),\"\",IF(VLOOKUP(IF(A196<>0,A196,A195),入力シート!$B$7:$F$206,4,0)=0,\"\",VLOOKUP(IF(A196<>0,A196,A195),入力シート!$B$7:$F$206,4,0)))","v":""},{"$f":"IF(ISERROR(VLOOKUP(IF(A196<>0,A196,A195),入力シート!$B$7:$F$206,5,0)),\"\",IF(VLOOKUP(IF(A196<>0,A196,A195),入力シート!$B$7:$F$206,5,0)=0,\"\",VLOOKUP(IF(A196<>0,A196,A195),入力シート!$B$7:$F$206,5,0)))","v":""},151,"名称",{"$f":"IF(ISERROR(VLOOKUP(IF(G196<>0,G196,G195),入力シート!$B$7:$F$206,2,0)),\"\",IF(VLOOKUP(IF(G196<>0,G196,G195),入力シート!$B$7:$F$206,2,0)=0,\"\",VLOOKUP(IF(G196<>0,G196,G195),入力シート!$B$7:$F$206,2,0)))","v":""},null,{"$f":"IF(ISERROR(VLOOKUP(IF(G196<>0,G196,G195),入力シート!$B$7:$F$206,4,0)),\"\",IF(VLOOKUP(IF(G196<>0,G196,G195),入力シート!$B$7:$F$206,4,0)=0,\"\",VLOOKUP(IF(G196<>0,G196,G195),入力シート!$B$7:$F$206,4,0)))","v":""},{"$f":"IF(ISERROR(VLOOKUP(IF(G196<>0,G196,G195),入力シート!$B$7:$F$206,5,0)),\"\",IF(VLOOKUP(IF(G196<>0,G196,G195),入力シート!$B$7:$F$206,5,0)=0,\"\",VLOOKUP(IF(G196<>0,G196,G195),入力シート!$B$7:$F$206,5,0)))","v":""}]
[null,"住所",{"$f":"IF(ISERROR(VLOOKUP(IF(A197<>0,A197,A196),入力シート!$B$7:$F$206,3,0)),\"\",IF(VLOOKUP(IF(A197<>0,A197,A196),入力シート!$B$7:$F$206,3,0)=0,\"\",VLOOKUP(IF(A197<>0,A197,A196),入力シート!$B$7:$F$206,3,0)))","v":""},null,{"$f":"IF(ISERROR(VLOOKUP(IF(C197<>0,C197,C196),入力シート!$B$7:$F$206,2,0)),\"\",IF(VLOOKUP(IF(C197<>0,C197,C196),入力シート!$B$7:$F$206,2,0)=0,\"\",VLOOKUP(IF(C197<>0,C197,C196),入力シート!$B$7:$F$206,2,0)))","v":""},{"$f":"IF(ISERROR(VLOOKUP(IF(D197<>0,D197,D196),入力シート!$B$7:$F$206,2,0)),\"\",IF(VLOOKUP(IF(D197<>0,D197,D196),入力シート!$B$7:$F$206,2,0)=0,\"\",VLOOKUP(IF(D197<>0,D197,D196),入力シート!$B$7:$F$206,2,0)))","v":""},null,"住所",{"$f":"IF(ISERROR(VLOOKUP(IF(G197<>0,G197,G196),入力シート!$B$7:$F$206,3,0)),\"\",IF(VLOOKUP(IF(G197<>0,G197,G196),入力シート!$B$7:$F$206,3,0)=0,\"\",VLOOKUP(IF(G197<>0,G197,G196),入力シート!$B$7:$F$206,3,0)))","v":""},null,{"$f":"IF(ISERROR(VLOOKUP(IF(I197<>0,I197,I196),入力シート!$B$7:$F$206,2,0)),\"\",IF(VLOOKUP(IF(I197<>0,I197,I196),入力シート!$B$7:$F$206,2,0)=0,\"\",VLOOKUP(IF(I197<>0,I197,I196),入力シート!$B$7:$F$206,2,0)))","v":""},{"$f":"IF(ISERROR(VLOOKUP(IF(J197<>0,J197,J196),入力シート!$B$7:$F$206,2,0)),\"\",IF(VLOOKUP(IF(J197<>0,J197,J196),入力シート!$B$7:$F$206,2,0)=0,\"\",VLOOKUP(IF(J197<>0,J197,J196),入力シート!$B$7:$F$206,2,0)))","v":""}]
[142,"名称",{"$f":"IF(ISERROR(VLOOKUP(IF(A198<>0,A198,A197),入力シート!$B$7:$F$206,2,0)),\"\",IF(VLOOKUP(IF(A198<>0,A198,A197),入力シート!$B$7:$F$206,2,0)=0,\"\",VLOOKUP(IF(A198<>0,A198,A197),入力シート!$B$7:$F$206,2,0)))","v":""},null,{"$f":"IF(ISERROR(VLOOKUP(IF(A198<>0,A198,A197),入力シート!$B$7:$F$206,4,0)),\"\",IF(VLOOKUP(IF(A198<>0,A198,A197),入力シート!$B$7:$F$206,4,0)=0,\"\",VLOOKUP(IF(A198<>0,A198,A197),入力シート!$B$7:$F$206,4,0)))","v":""},{"$f":"IF(ISERROR(VLOOKUP(IF(A198<>0,A198,A197),入力シート!$B$7:$F$206,5,0)),\"\",IF(VLOOKUP(IF(A198<>0,A198,A197),入力シート!$B$7:$F$206,5,0)=0,\"\",VLOOKUP(IF(A198<>0,A198,A197),入力シート!$B$7:$F$206,5,0)))","v":""},152,"名称",{"$f":"IF(ISERROR(VLOOKUP(IF(G198<>0,G198,G197),入力シート!$B$7:$F$206,2,0)),\"\",IF(VLOOKUP(IF(G198<>0,G198,G197),入力シート!$B$7:$F$206,2,0)=0,\"\",VLOOKUP(IF(G198<>0,G198,G197),入力シート!$B$7:$F$206,2,0)))","v":""},null,{"$f":"IF(ISERROR(VLOOKUP(IF(G198<>0,G198,G197),入力シート!$B$7:$F$206,4,0)),\"\",IF(VLOOKUP(IF(G198<>0,G198,G197),入力シート!$B$7:$F$206,4,0)=0,\"\",VLOOKUP(IF(G198<>0,G198,G197),入力シート!$B$7:$F$206,4,0)))","v":""},{"$f":"IF(ISERROR(VLOOKUP(IF(G198<>0,G198,G197),入力シート!$B$7:$F$206,5,0)),\"\",IF(VLOOKUP(IF(G198<>0,G198,G197),入力シート!$B$7:$F$206,5,0)=0,\"\",VLOOKUP(IF(G198<>0,G198,G197),入力シート!$B$7:$F$206,5,0)))","v":""}]
[null,"住所",{"$f":"IF(ISERROR(VLOOKUP(IF(A199<>0,A199,A198),入力シート!$B$7:$F$206,3,0)),\"\",IF(VLOOKUP(IF(A199<>0,A199,A198),入力シート!$B$7:$F$206,3,0)=0,\"\",VLOOKUP(IF(A199<>0,A199,A198),入力シート!$B$7:$F$206,3,0)))","v":""},null,{"$f":"IF(ISERROR(VLOOKUP(IF(C199<>0,C199,C198),入力シート!$B$7:$F$206,2,0)),\"\",IF(VLOOKUP(IF(C199<>0,C199,C198),入力シート!$B$7:$F$206,2,0)=0,\"\",VLOOKUP(IF(C199<>0,C199,C198),入力シート!$B$7:$F$206,2,0)))","v":""},{"$f":"IF(ISERROR(VLOOKUP(IF(D199<>0,D199,D198),入力シート!$B$7:$F$206,2,0)),\"\",IF(VLOOKUP(IF(D199<>0,D199,D198),入力シート!$B$7:$F$206,2,0)=0,\"\",VLOOKUP(IF(D199<>0,D199,D198),入力シート!$B$7:$F$206,2,0)))","v":""},null,"住所",{"$f":"IF(ISERROR(VLOOKUP(IF(G199<>0,G199,G198),入力シート!$B$7:$F$206,3,0)),\"\",IF(VLOOKUP(IF(G199<>0,G199,G198),入力シート!$B$7:$F$206,3,0)=0,\"\",VLOOKUP(IF(G199<>0,G199,G198),入力シート!$B$7:$F$206,3,0)))","v":""},null,{"$f":"IF(ISERROR(VLOOKUP(IF(I199<>0,I199,I198),入力シート!$B$7:$F$206,2,0)),\"\",IF(VLOOKUP(IF(I199<>0,I199,I198),入力シート!$B$7:$F$206,2,0)=0,\"\",VLOOKUP(IF(I199<>0,I199,I198),入力シート!$B$7:$F$206,2,0)))","v":""},{"$f":"IF(ISERROR(VLOOKUP(IF(J199<>0,J199,J198),入力シート!$B$7:$F$206,2,0)),\"\",IF(VLOOKUP(IF(J199<>0,J199,J198),入力シート!$B$7:$F$206,2,0)=0,\"\",VLOOKUP(IF(J199<>0,J199,J198),入力シート!$B$7:$F$206,2,0)))","v":""}]
[143,"名称",{"$f":"IF(ISERROR(VLOOKUP(IF(A200<>0,A200,A199),入力シート!$B$7:$F$206,2,0)),\"\",IF(VLOOKUP(IF(A200<>0,A200,A199),入力シート!$B$7:$F$206,2,0)=0,\"\",VLOOKUP(IF(A200<>0,A200,A199),入力シート!$B$7:$F$206,2,0)))","v":""},null,{"$f":"IF(ISERROR(VLOOKUP(IF(A200<>0,A200,A199),入力シート!$B$7:$F$206,4,0)),\"\",IF(VLOOKUP(IF(A200<>0,A200,A199),入力シート!$B$7:$F$206,4,0)=0,\"\",VLOOKUP(IF(A200<>0,A200,A199),入力シート!$B$7:$F$206,4,0)))","v":""},{"$f":"IF(ISERROR(VLOOKUP(IF(A200<>0,A200,A199),入力シート!$B$7:$F$206,5,0)),\"\",IF(VLOOKUP(IF(A200<>0,A200,A199),入力シート!$B$7:$F$206,5,0)=0,\"\",VLOOKUP(IF(A200<>0,A200,A199),入力シート!$B$7:$F$206,5,0)))","v":""},153,"名称",{"$f":"IF(ISERROR(VLOOKUP(IF(G200<>0,G200,G199),入力シート!$B$7:$F$206,2,0)),\"\",IF(VLOOKUP(IF(G200<>0,G200,G199),入力シート!$B$7:$F$206,2,0)=0,\"\",VLOOKUP(IF(G200<>0,G200,G199),入力シート!$B$7:$F$206,2,0)))","v":""},null,{"$f":"IF(ISERROR(VLOOKUP(IF(G200<>0,G200,G199),入力シート!$B$7:$F$206,4,0)),\"\",IF(VLOOKUP(IF(G200<>0,G200,G199),入力シート!$B$7:$F$206,4,0)=0,\"\",VLOOKUP(IF(G200<>0,G200,G199),入力シート!$B$7:$F$206,4,0)))","v":""},{"$f":"IF(ISERROR(VLOOKUP(IF(G200<>0,G200,G199),入力シート!$B$7:$F$206,5,0)),\"\",IF(VLOOKUP(IF(G200<>0,G200,G199),入力シート!$B$7:$F$206,5,0)=0,\"\",VLOOKUP(IF(G200<>0,G200,G199),入力シート!$B$7:$F$206,5,0)))","v":""}]
[null,"住所",{"$f":"IF(ISERROR(VLOOKUP(IF(A201<>0,A201,A200),入力シート!$B$7:$F$206,3,0)),\"\",IF(VLOOKUP(IF(A201<>0,A201,A200),入力シート!$B$7:$F$206,3,0)=0,\"\",VLOOKUP(IF(A201<>0,A201,A200),入力シート!$B$7:$F$206,3,0)))","v":""},null,{"$f":"IF(ISERROR(VLOOKUP(IF(C201<>0,C201,C200),入力シート!$B$7:$F$206,2,0)),\"\",IF(VLOOKUP(IF(C201<>0,C201,C200),入力シート!$B$7:$F$206,2,0)=0,\"\",VLOOKUP(IF(C201<>0,C201,C200),入力シート!$B$7:$F$206,2,0)))","v":""},{"$f":"IF(ISERROR(VLOOKUP(IF(D201<>0,D201,D200),入力シート!$B$7:$F$206,2,0)),\"\",IF(VLOOKUP(IF(D201<>0,D201,D200),入力シート!$B$7:$F$206,2,0)=0,\"\",VLOOKUP(IF(D201<>0,D201,D200),入力シート!$B$7:$F$206,2,0)))","v":""},null,"住所",{"$f":"IF(ISERROR(VLOOKUP(IF(G201<>0,G201,G200),入力シート!$B$7:$F$206,3,0)),\"\",IF(VLOOKUP(IF(G201<>0,G201,G200),入力シート!$B$7:$F$206,3,0)=0,\"\",VLOOKUP(IF(G201<>0,G201,G200),入力シート!$B$7:$F$206,3,0)))","v":""},null,{"$f":"IF(ISERROR(VLOOKUP(IF(I201<>0,I201,I200),入力シート!$B$7:$F$206,2,0)),\"\",IF(VLOOKUP(IF(I201<>0,I201,I200),入力シート!$B$7:$F$206,2,0)=0,\"\",VLOOKUP(IF(I201<>0,I201,I200),入力シート!$B$7:$F$206,2,0)))","v":""},{"$f":"IF(ISERROR(VLOOKUP(IF(J201<>0,J201,J200),入力シート!$B$7:$F$206,2,0)),\"\",IF(VLOOKUP(IF(J201<>0,J201,J200),入力シート!$B$7:$F$206,2,0)=0,\"\",VLOOKUP(IF(J201<>0,J201,J200),入力シート!$B$7:$F$206,2,0)))","v":""}]
[144,"名称",{"$f":"IF(ISERROR(VLOOKUP(IF(A202<>0,A202,A201),入力シート!$B$7:$F$206,2,0)),\"\",IF(VLOOKUP(IF(A202<>0,A202,A201),入力シート!$B$7:$F$206,2,0)=0,\"\",VLOOKUP(IF(A202<>0,A202,A201),入力シート!$B$7:$F$206,2,0)))","v":""},null,{"$f":"IF(ISERROR(VLOOKUP(IF(A202<>0,A202,A201),入力シート!$B$7:$F$206,4,0)),\"\",IF(VLOOKUP(IF(A202<>0,A202,A201),入力シート!$B$7:$F$206,4,0)=0,\"\",VLOOKUP(IF(A202<>0,A202,A201),入力シート!$B$7:$F$206,4,0)))","v":""},{"$f":"IF(ISERROR(VLOOKUP(IF(A202<>0,A202,A201),入力シート!$B$7:$F$206,5,0)),\"\",IF(VLOOKUP(IF(A202<>0,A202,A201),入力シート!$B$7:$F$206,5,0)=0,\"\",VLOOKUP(IF(A202<>0,A202,A201),入力シート!$B$7:$F$206,5,0)))","v":""},154,"名称",{"$f":"IF(ISERROR(VLOOKUP(IF(G202<>0,G202,G201),入力シート!$B$7:$F$206,2,0)),\"\",IF(VLOOKUP(IF(G202<>0,G202,G201),入力シート!$B$7:$F$206,2,0)=0,\"\",VLOOKUP(IF(G202<>0,G202,G201),入力シート!$B$7:$F$206,2,0)))","v":""},null,{"$f":"IF(ISERROR(VLOOKUP(IF(G202<>0,G202,G201),入力シート!$B$7:$F$206,4,0)),\"\",IF(VLOOKUP(IF(G202<>0,G202,G201),入力シート!$B$7:$F$206,4,0)=0,\"\",VLOOKUP(IF(G202<>0,G202,G201),入力シート!$B$7:$F$206,4,0)))","v":""},{"$f":"IF(ISERROR(VLOOKUP(IF(G202<>0,G202,G201),入力シート!$B$7:$F$206,5,0)),\"\",IF(VLOOKUP(IF(G202<>0,G202,G201),入力シート!$B$7:$F$206,5,0)=0,\"\",VLOOKUP(IF(G202<>0,G202,G201),入力シート!$B$7:$F$206,5,0)))","v":""}]
[null,"住所",{"$f":"IF(ISERROR(VLOOKUP(IF(A203<>0,A203,A202),入力シート!$B$7:$F$206,3,0)),\"\",IF(VLOOKUP(IF(A203<>0,A203,A202),入力シート!$B$7:$F$206,3,0)=0,\"\",VLOOKUP(IF(A203<>0,A203,A202),入力シート!$B$7:$F$206,3,0)))","v":""},null,{"$f":"IF(ISERROR(VLOOKUP(IF(C203<>0,C203,C202),入力シート!$B$7:$F$206,2,0)),\"\",IF(VLOOKUP(IF(C203<>0,C203,C202),入力シート!$B$7:$F$206,2,0)=0,\"\",VLOOKUP(IF(C203<>0,C203,C202),入力シート!$B$7:$F$206,2,0)))","v":""},{"$f":"IF(ISERROR(VLOOKUP(IF(D203<>0,D203,D202),入力シート!$B$7:$F$206,2,0)),\"\",IF(VLOOKUP(IF(D203<>0,D203,D202),入力シート!$B$7:$F$206,2,0)=0,\"\",VLOOKUP(IF(D203<>0,D203,D202),入力シート!$B$7:$F$206,2,0)))","v":""},null,"住所",{"$f":"IF(ISERROR(VLOOKUP(IF(G203<>0,G203,G202),入力シート!$B$7:$F$206,3,0)),\"\",IF(VLOOKUP(IF(G203<>0,G203,G202),入力シート!$B$7:$F$206,3,0)=0,\"\",VLOOKUP(IF(G203<>0,G203,G202),入力シート!$B$7:$F$206,3,0)))","v":""},null,{"$f":"IF(ISERROR(VLOOKUP(IF(I203<>0,I203,I202),入力シート!$B$7:$F$206,2,0)),\"\",IF(VLOOKUP(IF(I203<>0,I203,I202),入力シート!$B$7:$F$206,2,0)=0,\"\",VLOOKUP(IF(I203<>0,I203,I202),入力シート!$B$7:$F$206,2,0)))","v":""},{"$f":"IF(ISERROR(VLOOKUP(IF(J203<>0,J203,J202),入力シート!$B$7:$F$206,2,0)),\"\",IF(VLOOKUP(IF(J203<>0,J203,J202),入力シート!$B$7:$F$206,2,0)=0,\"\",VLOOKUP(IF(J203<>0,J203,J202),入力シート!$B$7:$F$206,2,0)))","v":""}]
[145,"名称",{"$f":"IF(ISERROR(VLOOKUP(IF(A204<>0,A204,A203),入力シート!$B$7:$F$206,2,0)),\"\",IF(VLOOKUP(IF(A204<>0,A204,A203),入力シート!$B$7:$F$206,2,0)=0,\"\",VLOOKUP(IF(A204<>0,A204,A203),入力シート!$B$7:$F$206,2,0)))","v":""},null,{"$f":"IF(ISERROR(VLOOKUP(IF(A204<>0,A204,A203),入力シート!$B$7:$F$206,4,0)),\"\",IF(VLOOKUP(IF(A204<>0,A204,A203),入力シート!$B$7:$F$206,4,0)=0,\"\",VLOOKUP(IF(A204<>0,A204,A203),入力シート!$B$7:$F$206,4,0)))","v":""},{"$f":"IF(ISERROR(VLOOKUP(IF(A204<>0,A204,A203),入力シート!$B$7:$F$206,5,0)),\"\",IF(VLOOKUP(IF(A204<>0,A204,A203),入力シート!$B$7:$F$206,5,0)=0,\"\",VLOOKUP(IF(A204<>0,A204,A203),入力シート!$B$7:$F$206,5,0)))","v":""},155,"名称",{"$f":"IF(ISERROR(VLOOKUP(IF(G204<>0,G204,G203),入力シート!$B$7:$F$206,2,0)),\"\",IF(VLOOKUP(IF(G204<>0,G204,G203),入力シート!$B$7:$F$206,2,0)=0,\"\",VLOOKUP(IF(G204<>0,G204,G203),入力シート!$B$7:$F$206,2,0)))","v":""},null,{"$f":"IF(ISERROR(VLOOKUP(IF(G204<>0,G204,G203),入力シート!$B$7:$F$206,4,0)),\"\",IF(VLOOKUP(IF(G204<>0,G204,G203),入力シート!$B$7:$F$206,4,0)=0,\"\",VLOOKUP(IF(G204<>0,G204,G203),入力シート!$B$7:$F$206,4,0)))","v":""},{"$f":"IF(ISERROR(VLOOKUP(IF(G204<>0,G204,G203),入力シート!$B$7:$F$206,5,0)),\"\",IF(VLOOKUP(IF(G204<>0,G204,G203),入力シート!$B$7:$F$206,5,0)=0,\"\",VLOOKUP(IF(G204<>0,G204,G203),入力シート!$B$7:$F$206,5,0)))","v":""}]
[null,"住所",{"$f":"IF(ISERROR(VLOOKUP(IF(A205<>0,A205,A204),入力シート!$B$7:$F$206,3,0)),\"\",IF(VLOOKUP(IF(A205<>0,A205,A204),入力シート!$B$7:$F$206,3,0)=0,\"\",VLOOKUP(IF(A205<>0,A205,A204),入力シート!$B$7:$F$206,3,0)))","v":""},null,{"$f":"IF(ISERROR(VLOOKUP(IF(C205<>0,C205,C204),入力シート!$B$7:$F$206,2,0)),\"\",IF(VLOOKUP(IF(C205<>0,C205,C204),入力シート!$B$7:$F$206,2,0)=0,\"\",VLOOKUP(IF(C205<>0,C205,C204),入力シート!$B$7:$F$206,2,0)))","v":""},{"$f":"IF(ISERROR(VLOOKUP(IF(D205<>0,D205,D204),入力シート!$B$7:$F$206,2,0)),\"\",IF(VLOOKUP(IF(D205<>0,D205,D204),入力シート!$B$7:$F$206,2,0)=0,\"\",VLOOKUP(IF(D205<>0,D205,D204),入力シート!$B$7:$F$206,2,0)))","v":""},null,"住所",{"$f":"IF(ISERROR(VLOOKUP(IF(G205<>0,G205,G204),入力シート!$B$7:$F$206,3,0)),\"\",IF(VLOOKUP(IF(G205<>0,G205,G204),入力シート!$B$7:$F$206,3,0)=0,\"\",VLOOKUP(IF(G205<>0,G205,G204),入力シート!$B$7:$F$206,3,0)))","v":""},null,{"$f":"IF(ISERROR(VLOOKUP(IF(I205<>0,I205,I204),入力シート!$B$7:$F$206,2,0)),\"\",IF(VLOOKUP(IF(I205<>0,I205,I204),入力シート!$B$7:$F$206,2,0)=0,\"\",VLOOKUP(IF(I205<>0,I205,I204),入力シート!$B$7:$F$206,2,0)))","v":""},{"$f":"IF(ISERROR(VLOOKUP(IF(J205<>0,J205,J204),入力シート!$B$7:$F$206,2,0)),\"\",IF(VLOOKUP(IF(J205<>0,J205,J204),入力シート!$B$7:$F$206,2,0)=0,\"\",VLOOKUP(IF(J205<>0,J205,J204),入力シート!$B$7:$F$206,2,0)))","v":""}]
[146,"名称",{"$f":"IF(ISERROR(VLOOKUP(IF(A206<>0,A206,A205),入力シート!$B$7:$F$206,2,0)),\"\",IF(VLOOKUP(IF(A206<>0,A206,A205),入力シート!$B$7:$F$206,2,0)=0,\"\",VLOOKUP(IF(A206<>0,A206,A205),入力シート!$B$7:$F$206,2,0)))","v":""},null,{"$f":"IF(ISERROR(VLOOKUP(IF(A206<>0,A206,A205),入力シート!$B$7:$F$206,4,0)),\"\",IF(VLOOKUP(IF(A206<>0,A206,A205),入力シート!$B$7:$F$206,4,0)=0,\"\",VLOOKUP(IF(A206<>0,A206,A205),入力シート!$B$7:$F$206,4,0)))","v":""},{"$f":"IF(ISERROR(VLOOKUP(IF(A206<>0,A206,A205),入力シート!$B$7:$F$206,5,0)),\"\",IF(VLOOKUP(IF(A206<>0,A206,A205),入力シート!$B$7:$F$206,5,0)=0,\"\",VLOOKUP(IF(A206<>0,A206,A205),入力シート!$B$7:$F$206,5,0)))","v":""},156,"名称",{"$f":"IF(ISERROR(VLOOKUP(IF(G206<>0,G206,G205),入力シート!$B$7:$F$206,2,0)),\"\",IF(VLOOKUP(IF(G206<>0,G206,G205),入力シート!$B$7:$F$206,2,0)=0,\"\",VLOOKUP(IF(G206<>0,G206,G205),入力シート!$B$7:$F$206,2,0)))","v":""},null,{"$f":"IF(ISERROR(VLOOKUP(IF(G206<>0,G206,G205),入力シート!$B$7:$F$206,4,0)),\"\",IF(VLOOKUP(IF(G206<>0,G206,G205),入力シート!$B$7:$F$206,4,0)=0,\"\",VLOOKUP(IF(G206<>0,G206,G205),入力シート!$B$7:$F$206,4,0)))","v":""},{"$f":"IF(ISERROR(VLOOKUP(IF(G206<>0,G206,G205),入力シート!$B$7:$F$206,5,0)),\"\",IF(VLOOKUP(IF(G206<>0,G206,G205),入力シート!$B$7:$F$206,5,0)=0,\"\",VLOOKUP(IF(G206<>0,G206,G205),入力シート!$B$7:$F$206,5,0)))","v":""}]
[null,"住所",{"$f":"IF(ISERROR(VLOOKUP(IF(A207<>0,A207,A206),入力シート!$B$7:$F$206,3,0)),\"\",IF(VLOOKUP(IF(A207<>0,A207,A206),入力シート!$B$7:$F$206,3,0)=0,\"\",VLOOKUP(IF(A207<>0,A207,A206),入力シート!$B$7:$F$206,3,0)))","v":""},null,{"$f":"IF(ISERROR(VLOOKUP(IF(C207<>0,C207,C206),入力シート!$B$7:$F$206,2,0)),\"\",IF(VLOOKUP(IF(C207<>0,C207,C206),入力シート!$B$7:$F$206,2,0)=0,\"\",VLOOKUP(IF(C207<>0,C207,C206),入力シート!$B$7:$F$206,2,0)))","v":""},{"$f":"IF(ISERROR(VLOOKUP(IF(D207<>0,D207,D206),入力シート!$B$7:$F$206,2,0)),\"\",IF(VLOOKUP(IF(D207<>0,D207,D206),入力シート!$B$7:$F$206,2,0)=0,\"\",VLOOKUP(IF(D207<>0,D207,D206),入力シート!$B$7:$F$206,2,0)))","v":""},null,"住所",{"$f":"IF(ISERROR(VLOOKUP(IF(G207<>0,G207,G206),入力シート!$B$7:$F$206,3,0)),\"\",IF(VLOOKUP(IF(G207<>0,G207,G206),入力シート!$B$7:$F$206,3,0)=0,\"\",VLOOKUP(IF(G207<>0,G207,G206),入力シート!$B$7:$F$206,3,0)))","v":""},null,{"$f":"IF(ISERROR(VLOOKUP(IF(I207<>0,I207,I206),入力シート!$B$7:$F$206,2,0)),\"\",IF(VLOOKUP(IF(I207<>0,I207,I206),入力シート!$B$7:$F$206,2,0)=0,\"\",VLOOKUP(IF(I207<>0,I207,I206),入力シート!$B$7:$F$206,2,0)))","v":""},{"$f":"IF(ISERROR(VLOOKUP(IF(J207<>0,J207,J206),入力シート!$B$7:$F$206,2,0)),\"\",IF(VLOOKUP(IF(J207<>0,J207,J206),入力シート!$B$7:$F$206,2,0)=0,\"\",VLOOKUP(IF(J207<>0,J207,J206),入力シート!$B$7:$F$206,2,0)))","v":""}]
[147,"名称",{"$f":"IF(ISERROR(VLOOKUP(IF(A208<>0,A208,A207),入力シート!$B$7:$F$206,2,0)),\"\",IF(VLOOKUP(IF(A208<>0,A208,A207),入力シート!$B$7:$F$206,2,0)=0,\"\",VLOOKUP(IF(A208<>0,A208,A207),入力シート!$B$7:$F$206,2,0)))","v":""},null,{"$f":"IF(ISERROR(VLOOKUP(IF(A208<>0,A208,A207),入力シート!$B$7:$F$206,4,0)),\"\",IF(VLOOKUP(IF(A208<>0,A208,A207),入力シート!$B$7:$F$206,4,0)=0,\"\",VLOOKUP(IF(A208<>0,A208,A207),入力シート!$B$7:$F$206,4,0)))","v":""},{"$f":"IF(ISERROR(VLOOKUP(IF(A208<>0,A208,A207),入力シート!$B$7:$F$206,5,0)),\"\",IF(VLOOKUP(IF(A208<>0,A208,A207),入力シート!$B$7:$F$206,5,0)=0,\"\",VLOOKUP(IF(A208<>0,A208,A207),入力シート!$B$7:$F$206,5,0)))","v":""},157,"名称",{"$f":"IF(ISERROR(VLOOKUP(IF(G208<>0,G208,G207),入力シート!$B$7:$F$206,2,0)),\"\",IF(VLOOKUP(IF(G208<>0,G208,G207),入力シート!$B$7:$F$206,2,0)=0,\"\",VLOOKUP(IF(G208<>0,G208,G207),入力シート!$B$7:$F$206,2,0)))","v":""},null,{"$f":"IF(ISERROR(VLOOKUP(IF(G208<>0,G208,G207),入力シート!$B$7:$F$206,4,0)),\"\",IF(VLOOKUP(IF(G208<>0,G208,G207),入力シート!$B$7:$F$206,4,0)=0,\"\",VLOOKUP(IF(G208<>0,G208,G207),入力シート!$B$7:$F$206,4,0)))","v":""},{"$f":"IF(ISERROR(VLOOKUP(IF(G208<>0,G208,G207),入力シート!$B$7:$F$206,5,0)),\"\",IF(VLOOKUP(IF(G208<>0,G208,G207),入力シート!$B$7:$F$206,5,0)=0,\"\",VLOOKUP(IF(G208<>0,G208,G207),入力シート!$B$7:$F$206,5,0)))","v":""}]
[null,"住所",{"$f":"IF(ISERROR(VLOOKUP(IF(A209<>0,A209,A208),入力シート!$B$7:$F$206,3,0)),\"\",IF(VLOOKUP(IF(A209<>0,A209,A208),入力シート!$B$7:$F$206,3,0)=0,\"\",VLOOKUP(IF(A209<>0,A209,A208),入力シート!$B$7:$F$206,3,0)))","v":""},null,{"$f":"IF(ISERROR(VLOOKUP(IF(C209<>0,C209,C208),入力シート!$B$7:$F$206,2,0)),\"\",IF(VLOOKUP(IF(C209<>0,C209,C208),入力シート!$B$7:$F$206,2,0)=0,\"\",VLOOKUP(IF(C209<>0,C209,C208),入力シート!$B$7:$F$206,2,0)))","v":""},{"$f":"IF(ISERROR(VLOOKUP(IF(D209<>0,D209,D208),入力シート!$B$7:$F$206,2,0)),\"\",IF(VLOOKUP(IF(D209<>0,D209,D208),入力シート!$B$7:$F$206,2,0)=0,\"\",VLOOKUP(IF(D209<>0,D209,D208),入力シート!$B$7:$F$206,2,0)))","v":""},null,"住所",{"$f":"IF(ISERROR(VLOOKUP(IF(G209<>0,G209,G208),入力シート!$B$7:$F$206,3,0)),\"\",IF(VLOOKUP(IF(G209<>0,G209,G208),入力シート!$B$7:$F$206,3,0)=0,\"\",VLOOKUP(IF(G209<>0,G209,G208),入力シート!$B$7:$F$206,3,0)))","v":""},null,{"$f":"IF(ISERROR(VLOOKUP(IF(I209<>0,I209,I208),入力シート!$B$7:$F$206,2,0)),\"\",IF(VLOOKUP(IF(I209<>0,I209,I208),入力シート!$B$7:$F$206,2,0)=0,\"\",VLOOKUP(IF(I209<>0,I209,I208),入力シート!$B$7:$F$206,2,0)))","v":""},{"$f":"IF(ISERROR(VLOOKUP(IF(J209<>0,J209,J208),入力シート!$B$7:$F$206,2,0)),\"\",IF(VLOOKUP(IF(J209<>0,J209,J208),入力シート!$B$7:$F$206,2,0)=0,\"\",VLOOKUP(IF(J209<>0,J209,J208),入力シート!$B$7:$F$206,2,0)))","v":""}]
[148,"名称",{"$f":"IF(ISERROR(VLOOKUP(IF(A210<>0,A210,A209),入力シート!$B$7:$F$206,2,0)),\"\",IF(VLOOKUP(IF(A210<>0,A210,A209),入力シート!$B$7:$F$206,2,0)=0,\"\",VLOOKUP(IF(A210<>0,A210,A209),入力シート!$B$7:$F$206,2,0)))","v":""},null,{"$f":"IF(ISERROR(VLOOKUP(IF(A210<>0,A210,A209),入力シート!$B$7:$F$206,4,0)),\"\",IF(VLOOKUP(IF(A210<>0,A210,A209),入力シート!$B$7:$F$206,4,0)=0,\"\",VLOOKUP(IF(A210<>0,A210,A209),入力シート!$B$7:$F$206,4,0)))","v":""},{"$f":"IF(ISERROR(VLOOKUP(IF(A210<>0,A210,A209),入力シート!$B$7:$F$206,5,0)),\"\",IF(VLOOKUP(IF(A210<>0,A210,A209),入力シート!$B$7:$F$206,5,0)=0,\"\",VLOOKUP(IF(A210<>0,A210,A209),入力シート!$B$7:$F$206,5,0)))","v":""},158,"名称",{"$f":"IF(ISERROR(VLOOKUP(IF(G210<>0,G210,G209),入力シート!$B$7:$F$206,2,0)),\"\",IF(VLOOKUP(IF(G210<>0,G210,G209),入力シート!$B$7:$F$206,2,0)=0,\"\",VLOOKUP(IF(G210<>0,G210,G209),入力シート!$B$7:$F$206,2,0)))","v":""},null,{"$f":"IF(ISERROR(VLOOKUP(IF(G210<>0,G210,G209),入力シート!$B$7:$F$206,4,0)),\"\",IF(VLOOKUP(IF(G210<>0,G210,G209),入力シート!$B$7:$F$206,4,0)=0,\"\",VLOOKUP(IF(G210<>0,G210,G209),入力シート!$B$7:$F$206,4,0)))","v":""},{"$f":"IF(ISERROR(VLOOKUP(IF(G210<>0,G210,G209),入力シート!$B$7:$F$206,5,0)),\"\",IF(VLOOKUP(IF(G210<>0,G210,G209),入力シート!$B$7:$F$206,5,0)=0,\"\",VLOOKUP(IF(G210<>0,G210,G209),入力シート!$B$7:$F$206,5,0)))","v":""}]
[null,"住所",{"$f":"IF(ISERROR(VLOOKUP(IF(A211<>0,A211,A210),入力シート!$B$7:$F$206,3,0)),\"\",IF(VLOOKUP(IF(A211<>0,A211,A210),入力シート!$B$7:$F$206,3,0)=0,\"\",VLOOKUP(IF(A211<>0,A211,A210),入力シート!$B$7:$F$206,3,0)))","v":""},null,{"$f":"IF(ISERROR(VLOOKUP(IF(C211<>0,C211,C210),入力シート!$B$7:$F$206,2,0)),\"\",IF(VLOOKUP(IF(C211<>0,C211,C210),入力シート!$B$7:$F$206,2,0)=0,\"\",VLOOKUP(IF(C211<>0,C211,C210),入力シート!$B$7:$F$206,2,0)))","v":""},{"$f":"IF(ISERROR(VLOOKUP(IF(D211<>0,D211,D210),入力シート!$B$7:$F$206,2,0)),\"\",IF(VLOOKUP(IF(D211<>0,D211,D210),入力シート!$B$7:$F$206,2,0)=0,\"\",VLOOKUP(IF(D211<>0,D211,D210),入力シート!$B$7:$F$206,2,0)))","v":""},null,"住所",{"$f":"IF(ISERROR(VLOOKUP(IF(G211<>0,G211,G210),入力シート!$B$7:$F$206,3,0)),\"\",IF(VLOOKUP(IF(G211<>0,G211,G210),入力シート!$B$7:$F$206,3,0)=0,\"\",VLOOKUP(IF(G211<>0,G211,G210),入力シート!$B$7:$F$206,3,0)))","v":""},null,{"$f":"IF(ISERROR(VLOOKUP(IF(I211<>0,I211,I210),入力シート!$B$7:$F$206,2,0)),\"\",IF(VLOOKUP(IF(I211<>0,I211,I210),入力シート!$B$7:$F$206,2,0)=0,\"\",VLOOKUP(IF(I211<>0,I211,I210),入力シート!$B$7:$F$206,2,0)))","v":""},{"$f":"IF(ISERROR(VLOOKUP(IF(J211<>0,J211,J210),入力シート!$B$7:$F$206,2,0)),\"\",IF(VLOOKUP(IF(J211<>0,J211,J210),入力シート!$B$7:$F$206,2,0)=0,\"\",VLOOKUP(IF(J211<>0,J211,J210),入力シート!$B$7:$F$206,2,0)))","v":""}]
[149,"名称",{"$f":"IF(ISERROR(VLOOKUP(IF(A212<>0,A212,A211),入力シート!$B$7:$F$206,2,0)),\"\",IF(VLOOKUP(IF(A212<>0,A212,A211),入力シート!$B$7:$F$206,2,0)=0,\"\",VLOOKUP(IF(A212<>0,A212,A211),入力シート!$B$7:$F$206,2,0)))","v":""},null,{"$f":"IF(ISERROR(VLOOKUP(IF(A212<>0,A212,A211),入力シート!$B$7:$F$206,4,0)),\"\",IF(VLOOKUP(IF(A212<>0,A212,A211),入力シート!$B$7:$F$206,4,0)=0,\"\",VLOOKUP(IF(A212<>0,A212,A211),入力シート!$B$7:$F$206,4,0)))","v":""},{"$f":"IF(ISERROR(VLOOKUP(IF(A212<>0,A212,A211),入力シート!$B$7:$F$206,5,0)),\"\",IF(VLOOKUP(IF(A212<>0,A212,A211),入力シート!$B$7:$F$206,5,0)=0,\"\",VLOOKUP(IF(A212<>0,A212,A211),入力シート!$B$7:$F$206,5,0)))","v":""},159,"名称",{"$f":"IF(ISERROR(VLOOKUP(IF(G212<>0,G212,G211),入力シート!$B$7:$F$206,2,0)),\"\",IF(VLOOKUP(IF(G212<>0,G212,G211),入力シート!$B$7:$F$206,2,0)=0,\"\",VLOOKUP(IF(G212<>0,G212,G211),入力シート!$B$7:$F$206,2,0)))","v":""},null,{"$f":"IF(ISERROR(VLOOKUP(IF(G212<>0,G212,G211),入力シート!$B$7:$F$206,4,0)),\"\",IF(VLOOKUP(IF(G212<>0,G212,G211),入力シート!$B$7:$F$206,4,0)=0,\"\",VLOOKUP(IF(G212<>0,G212,G211),入力シート!$B$7:$F$206,4,0)))","v":""},{"$f":"IF(ISERROR(VLOOKUP(IF(G212<>0,G212,G211),入力シート!$B$7:$F$206,5,0)),\"\",IF(VLOOKUP(IF(G212<>0,G212,G211),入力シート!$B$7:$F$206,5,0)=0,\"\",VLOOKUP(IF(G212<>0,G212,G211),入力シート!$B$7:$F$206,5,0)))","v":""}]
[null,"住所",{"$f":"IF(ISERROR(VLOOKUP(IF(A213<>0,A213,A212),入力シート!$B$7:$F$206,3,0)),\"\",IF(VLOOKUP(IF(A213<>0,A213,A212),入力シート!$B$7:$F$206,3,0)=0,\"\",VLOOKUP(IF(A213<>0,A213,A212),入力シート!$B$7:$F$206,3,0)))","v":""},null,{"$f":"IF(ISERROR(VLOOKUP(IF(C213<>0,C213,C212),入力シート!$B$7:$F$206,2,0)),\"\",IF(VLOOKUP(IF(C213<>0,C213,C212),入力シート!$B$7:$F$206,2,0)=0,\"\",VLOOKUP(IF(C213<>0,C213,C212),入力シート!$B$7:$F$206,2,0)))","v":""},{"$f":"IF(ISERROR(VLOOKUP(IF(D213<>0,D213,D212),入力シート!$B$7:$F$206,2,0)),\"\",IF(VLOOKUP(IF(D213<>0,D213,D212),入力シート!$B$7:$F$206,2,0)=0,\"\",VLOOKUP(IF(D213<>0,D213,D212),入力シート!$B$7:$F$206,2,0)))","v":""},null,"住所",{"$f":"IF(ISERROR(VLOOKUP(IF(G213<>0,G213,G212),入力シート!$B$7:$F$206,3,0)),\"\",IF(VLOOKUP(IF(G213<>0,G213,G212),入力シート!$B$7:$F$206,3,0)=0,\"\",VLOOKUP(IF(G213<>0,G213,G212),入力シート!$B$7:$F$206,3,0)))","v":""},null,{"$f":"IF(ISERROR(VLOOKUP(IF(I213<>0,I213,I212),入力シート!$B$7:$F$206,2,0)),\"\",IF(VLOOKUP(IF(I213<>0,I213,I212),入力シート!$B$7:$F$206,2,0)=0,\"\",VLOOKUP(IF(I213<>0,I213,I212),入力シート!$B$7:$F$206,2,0)))","v":""},{"$f":"IF(ISERROR(VLOOKUP(IF(J213<>0,J213,J212),入力シート!$B$7:$F$206,2,0)),\"\",IF(VLOOKUP(IF(J213<>0,J213,J212),入力シート!$B$7:$F$206,2,0)=0,\"\",VLOOKUP(IF(J213<>0,J213,J212),入力シート!$B$7:$F$206,2,0)))","v":""}]
[150,"名称",{"$f":"IF(ISERROR(VLOOKUP(IF(A214<>0,A214,A213),入力シート!$B$7:$F$206,2,0)),\"\",IF(VLOOKUP(IF(A214<>0,A214,A213),入力シート!$B$7:$F$206,2,0)=0,\"\",VLOOKUP(IF(A214<>0,A214,A213),入力シート!$B$7:$F$206,2,0)))","v":""},null,{"$f":"IF(ISERROR(VLOOKUP(IF(A214<>0,A214,A213),入力シート!$B$7:$F$206,4,0)),\"\",IF(VLOOKUP(IF(A214<>0,A214,A213),入力シート!$B$7:$F$206,4,0)=0,\"\",VLOOKUP(IF(A214<>0,A214,A213),入力シート!$B$7:$F$206,4,0)))","v":""},{"$f":"IF(ISERROR(VLOOKUP(IF(A214<>0,A214,A213),入力シート!$B$7:$F$206,5,0)),\"\",IF(VLOOKUP(IF(A214<>0,A214,A213),入力シート!$B$7:$F$206,5,0)=0,\"\",VLOOKUP(IF(A214<>0,A214,A213),入力シート!$B$7:$F$206,5,0)))","v":""},160,"名称",{"$f":"IF(ISERROR(VLOOKUP(IF(G214<>0,G214,G213),入力シート!$B$7:$F$206,2,0)),\"\",IF(VLOOKUP(IF(G214<>0,G214,G213),入力シート!$B$7:$F$206,2,0)=0,\"\",VLOOKUP(IF(G214<>0,G214,G213),入力シート!$B$7:$F$206,2,0)))","v":""},null,{"$f":"IF(ISERROR(VLOOKUP(IF(G214<>0,G214,G213),入力シート!$B$7:$F$206,4,0)),\"\",IF(VLOOKUP(IF(G214<>0,G214,G213),入力シート!$B$7:$F$206,4,0)=0,\"\",VLOOKUP(IF(G214<>0,G214,G213),入力シート!$B$7:$F$206,4,0)))","v":""},{"$f":"IF(ISERROR(VLOOKUP(IF(G214<>0,G214,G213),入力シート!$B$7:$F$206,5,0)),\"\",IF(VLOOKUP(IF(G214<>0,G214,G213),入力シート!$B$7:$F$206,5,0)=0,\"\",VLOOKUP(IF(G214<>0,G214,G213),入力シート!$B$7:$F$206,5,0)))","v":""}]
[null,"住所",{"$f":"IF(ISERROR(VLOOKUP(IF(A215<>0,A215,A214),入力シート!$B$7:$F$206,3,0)),\"\",IF(VLOOKUP(IF(A215<>0,A215,A214),入力シート!$B$7:$F$206,3,0)=0,\"\",VLOOKUP(IF(A215<>0,A215,A214),入力シート!$B$7:$F$206,3,0)))","v":""},null,{"$f":"IF(ISERROR(VLOOKUP(IF(C215<>0,C215,C214),入力シート!$B$7:$F$206,2,0)),\"\",IF(VLOOKUP(IF(C215<>0,C215,C214),入力シート!$B$7:$F$206,2,0)=0,\"\",VLOOKUP(IF(C215<>0,C215,C214),入力シート!$B$7:$F$206,2,0)))","v":""},{"$f":"IF(ISERROR(VLOOKUP(IF(D215<>0,D215,D214),入力シート!$B$7:$F$206,2,0)),\"\",IF(VLOOKUP(IF(D215<>0,D215,D214),入力シート!$B$7:$F$206,2,0)=0,\"\",VLOOKUP(IF(D215<>0,D215,D214),入力シート!$B$7:$F$206,2,0)))","v":""},null,"住所",{"$f":"IF(ISERROR(VLOOKUP(IF(G215<>0,G215,G214),入力シート!$B$7:$F$206,3,0)),\"\",IF(VLOOKUP(IF(G215<>0,G215,G214),入力シート!$B$7:$F$206,3,0)=0,\"\",VLOOKUP(IF(G215<>0,G215,G214),入力シート!$B$7:$F$206,3,0)))","v":""},null,{"$f":"IF(ISERROR(VLOOKUP(IF(I215<>0,I215,I214),入力シート!$B$7:$F$206,2,0)),\"\",IF(VLOOKUP(IF(I215<>0,I215,I214),入力シート!$B$7:$F$206,2,0)=0,\"\",VLOOKUP(IF(I215<>0,I215,I214),入力シート!$B$7:$F$206,2,0)))","v":""},{"$f":"IF(ISERROR(VLOOKUP(IF(J215<>0,J215,J214),入力シート!$B$7:$F$206,2,0)),\"\",IF(VLOOKUP(IF(J215<>0,J215,J214),入力シート!$B$7:$F$206,2,0)=0,\"\",VLOOKUP(IF(J215<>0,J215,J214),入力シート!$B$7:$F$206,2,0)))","v":""}]
["（注）","1.本名簿には、配送事業者がＬＰガス配送を受託しているＬＰガス販売事業者をすべて記入する。",null,null,null,null,null,"小　　計（このページの合計）",null,null,{"$f":"SUM(E196:E215,K196:K215)","v":0},{"$f":"SUM(F196:F215,L196:L215)","v":0}]
[null,"2.ＬＰガス配送受託販売所の名称欄には企業名、販売所名を明記し、住所欄には当該販売所の住所を記入する。"]
[null,"3.保険契約加入依頼の際、依頼書に本名簿（保険会社用、事業団用、都道府県協会用）を添付して提出する。"]
[null,"4.支部が事業団に加入依頼書を送付する際、２部（保険会社用、事業団用）を添付する。"]
[null,null,null,null,null,null,null,null,null,null,9,{"$f":"COUNTIF($L$26,\">0\")+COUNTIF($L$54,\">0\")+COUNTIF($L$81,\">0\")+COUNTIF($L$108,\">0\")+COUNTIF($L$135,\">0\")+COUNTIF($L$162,\">0\")+COUNTIF($L$189,\">0\")+COUNTIF($L$216,\">0\")+COUNTIF($L$243,\">0\")+COUNTIF($L$270,\">0\")","v":0}]
["LPガス配送",null,null,"名　　　　称","配送契約の内容",null,"LPガス配送",null,null,"名　　　　称","配送契約の内容"]
["受託販売所",null,null,"住　　　　所","配　送　先\n消費者戸数","1か年間の\n配送トン数","受託販売所",null,null,"住　　　　所","配　送　先\n消費者戸数","1か年間の\n配送トン数"]
[161,"名称",{"$f":"IF(ISERROR(VLOOKUP(IF(A223<>0,A223,A222),入力シート!$B$7:$F$206,2,0)),\"\",IF(VLOOKUP(IF(A223<>0,A223,A222),入力シート!$B$7:$F$206,2,0)=0,\"\",VLOOKUP(IF(A223<>0,A223,A222),入力シート!$B$7:$F$206,2,0)))","v":""},null,{"$f":"IF(ISERROR(VLOOKUP(IF(A223<>0,A223,A222),入力シート!$B$7:$F$206,4,0)),\"\",IF(VLOOKUP(IF(A223<>0,A223,A222),入力シート!$B$7:$F$206,4,0)=0,\"\",VLOOKUP(IF(A223<>0,A223,A222),入力シート!$B$7:$F$206,4,0)))","v":""},{"$f":"IF(ISERROR(VLOOKUP(IF(A223<>0,A223,A222),入力シート!$B$7:$F$206,5,0)),\"\",IF(VLOOKUP(IF(A223<>0,A223,A222),入力シート!$B$7:$F$206,5,0)=0,\"\",VLOOKUP(IF(A223<>0,A223,A222),入力シート!$B$7:$F$206,5,0)))","v":""},171,"名称",{"$f":"IF(ISERROR(VLOOKUP(IF(G223<>0,G223,G222),入力シート!$B$7:$F$206,2,0)),\"\",IF(VLOOKUP(IF(G223<>0,G223,G222),入力シート!$B$7:$F$206,2,0)=0,\"\",VLOOKUP(IF(G223<>0,G223,G222),入力シート!$B$7:$F$206,2,0)))","v":""},null,{"$f":"IF(ISERROR(VLOOKUP(IF(G223<>0,G223,G222),入力シート!$B$7:$F$206,4,0)),\"\",IF(VLOOKUP(IF(G223<>0,G223,G222),入力シート!$B$7:$F$206,4,0)=0,\"\",VLOOKUP(IF(G223<>0,G223,G222),入力シート!$B$7:$F$206,4,0)))","v":""},{"$f":"IF(ISERROR(VLOOKUP(IF(G223<>0,G223,G222),入力シート!$B$7:$F$206,5,0)),\"\",IF(VLOOKUP(IF(G223<>0,G223,G222),入力シート!$B$7:$F$206,5,0)=0,\"\",VLOOKUP(IF(G223<>0,G223,G222),入力シート!$B$7:$F$206,5,0)))","v":""}]
[null,"住所",{"$f":"IF(ISERROR(VLOOKUP(IF(A224<>0,A224,A223),入力シート!$B$7:$F$206,3,0)),\"\",IF(VLOOKUP(IF(A224<>0,A224,A223),入力シート!$B$7:$F$206,3,0)=0,\"\",VLOOKUP(IF(A224<>0,A224,A223),入力シート!$B$7:$F$206,3,0)))","v":""},null,{"$f":"IF(ISERROR(VLOOKUP(IF(C224<>0,C224,C223),入力シート!$B$7:$F$206,2,0)),\"\",IF(VLOOKUP(IF(C224<>0,C224,C223),入力シート!$B$7:$F$206,2,0)=0,\"\",VLOOKUP(IF(C224<>0,C224,C223),入力シート!$B$7:$F$206,2,0)))","v":""},{"$f":"IF(ISERROR(VLOOKUP(IF(D224<>0,D224,D223),入力シート!$B$7:$F$206,2,0)),\"\",IF(VLOOKUP(IF(D224<>0,D224,D223),入力シート!$B$7:$F$206,2,0)=0,\"\",VLOOKUP(IF(D224<>0,D224,D223),入力シート!$B$7:$F$206,2,0)))","v":""},null,"住所",{"$f":"IF(ISERROR(VLOOKUP(IF(G224<>0,G224,G223),入力シート!$B$7:$F$206,3,0)),\"\",IF(VLOOKUP(IF(G224<>0,G224,G223),入力シート!$B$7:$F$206,3,0)=0,\"\",VLOOKUP(IF(G224<>0,G224,G223),入力シート!$B$7:$F$206,3,0)))","v":""},null,{"$f":"IF(ISERROR(VLOOKUP(IF(I224<>0,I224,I223),入力シート!$B$7:$F$206,2,0)),\"\",IF(VLOOKUP(IF(I224<>0,I224,I223),入力シート!$B$7:$F$206,2,0)=0,\"\",VLOOKUP(IF(I224<>0,I224,I223),入力シート!$B$7:$F$206,2,0)))","v":""},{"$f":"IF(ISERROR(VLOOKUP(IF(J224<>0,J224,J223),入力シート!$B$7:$F$206,2,0)),\"\",IF(VLOOKUP(IF(J224<>0,J224,J223),入力シート!$B$7:$F$206,2,0)=0,\"\",VLOOKUP(IF(J224<>0,J224,J223),入力シート!$B$7:$F$206,2,0)))","v":""}]
[162,"名称",{"$f":"IF(ISERROR(VLOOKUP(IF(A225<>0,A225,A224),入力シート!$B$7:$F$206,2,0)),\"\",IF(VLOOKUP(IF(A225<>0,A225,A224),入力シート!$B$7:$F$206,2,0)=0,\"\",VLOOKUP(IF(A225<>0,A225,A224),入力シート!$B$7:$F$206,2,0)))","v":""},null,{"$f":"IF(ISERROR(VLOOKUP(IF(A225<>0,A225,A224),入力シート!$B$7:$F$206,4,0)),\"\",IF(VLOOKUP(IF(A225<>0,A225,A224),入力シート!$B$7:$F$206,4,0)=0,\"\",VLOOKUP(IF(A225<>0,A225,A224),入力シート!$B$7:$F$206,4,0)))","v":""},{"$f":"IF(ISERROR(VLOOKUP(IF(A225<>0,A225,A224),入力シート!$B$7:$F$206,5,0)),\"\",IF(VLOOKUP(IF(A225<>0,A225,A224),入力シート!$B$7:$F$206,5,0)=0,\"\",VLOOKUP(IF(A225<>0,A225,A224),入力シート!$B$7:$F$206,5,0)))","v":""},172,"名称",{"$f":"IF(ISERROR(VLOOKUP(IF(G225<>0,G225,G224),入力シート!$B$7:$F$206,2,0)),\"\",IF(VLOOKUP(IF(G225<>0,G225,G224),入力シート!$B$7:$F$206,2,0)=0,\"\",VLOOKUP(IF(G225<>0,G225,G224),入力シート!$B$7:$F$206,2,0)))","v":""},null,{"$f":"IF(ISERROR(VLOOKUP(IF(G225<>0,G225,G224),入力シート!$B$7:$F$206,4,0)),\"\",IF(VLOOKUP(IF(G225<>0,G225,G224),入力シート!$B$7:$F$206,4,0)=0,\"\",VLOOKUP(IF(G225<>0,G225,G224),入力シート!$B$7:$F$206,4,0)))","v":""},{"$f":"IF(ISERROR(VLOOKUP(IF(G225<>0,G225,G224),入力シート!$B$7:$F$206,5,0)),\"\",IF(VLOOKUP(IF(G225<>0,G225,G224),入力シート!$B$7:$F$206,5,0)=0,\"\",VLOOKUP(IF(G225<>0,G225,G224),入力シート!$B$7:$F$206,5,0)))","v":""}]
[null,"住所",{"$f":"IF(ISERROR(VLOOKUP(IF(A226<>0,A226,A225),入力シート!$B$7:$F$206,3,0)),\"\",IF(VLOOKUP(IF(A226<>0,A226,A225),入力シート!$B$7:$F$206,3,0)=0,\"\",VLOOKUP(IF(A226<>0,A226,A225),入力シート!$B$7:$F$206,3,0)))","v":""},null,{"$f":"IF(ISERROR(VLOOKUP(IF(C226<>0,C226,C225),入力シート!$B$7:$F$206,2,0)),\"\",IF(VLOOKUP(IF(C226<>0,C226,C225),入力シート!$B$7:$F$206,2,0)=0,\"\",VLOOKUP(IF(C226<>0,C226,C225),入力シート!$B$7:$F$206,2,0)))","v":""},{"$f":"IF(ISERROR(VLOOKUP(IF(D226<>0,D226,D225),入力シート!$B$7:$F$206,2,0)),\"\",IF(VLOOKUP(IF(D226<>0,D226,D225),入力シート!$B$7:$F$206,2,0)=0,\"\",VLOOKUP(IF(D226<>0,D226,D225),入力シート!$B$7:$F$206,2,0)))","v":""},null,"住所",{"$f":"IF(ISERROR(VLOOKUP(IF(G226<>0,G226,G225),入力シート!$B$7:$F$206,3,0)),\"\",IF(VLOOKUP(IF(G226<>0,G226,G225),入力シート!$B$7:$F$206,3,0)=0,\"\",VLOOKUP(IF(G226<>0,G226,G225),入力シート!$B$7:$F$206,3,0)))","v":""},null,{"$f":"IF(ISERROR(VLOOKUP(IF(I226<>0,I226,I225),入力シート!$B$7:$F$206,2,0)),\"\",IF(VLOOKUP(IF(I226<>0,I226,I225),入力シート!$B$7:$F$206,2,0)=0,\"\",VLOOKUP(IF(I226<>0,I226,I225),入力シート!$B$7:$F$206,2,0)))","v":""},{"$f":"IF(ISERROR(VLOOKUP(IF(J226<>0,J226,J225),入力シート!$B$7:$F$206,2,0)),\"\",IF(VLOOKUP(IF(J226<>0,J226,J225),入力シート!$B$7:$F$206,2,0)=0,\"\",VLOOKUP(IF(J226<>0,J226,J225),入力シート!$B$7:$F$206,2,0)))","v":""}]
[163,"名称",{"$f":"IF(ISERROR(VLOOKUP(IF(A227<>0,A227,A226),入力シート!$B$7:$F$206,2,0)),\"\",IF(VLOOKUP(IF(A227<>0,A227,A226),入力シート!$B$7:$F$206,2,0)=0,\"\",VLOOKUP(IF(A227<>0,A227,A226),入力シート!$B$7:$F$206,2,0)))","v":""},null,{"$f":"IF(ISERROR(VLOOKUP(IF(A227<>0,A227,A226),入力シート!$B$7:$F$206,4,0)),\"\",IF(VLOOKUP(IF(A227<>0,A227,A226),入力シート!$B$7:$F$206,4,0)=0,\"\",VLOOKUP(IF(A227<>0,A227,A226),入力シート!$B$7:$F$206,4,0)))","v":""},{"$f":"IF(ISERROR(VLOOKUP(IF(A227<>0,A227,A226),入力シート!$B$7:$F$206,5,0)),\"\",IF(VLOOKUP(IF(A227<>0,A227,A226),入力シート!$B$7:$F$206,5,0)=0,\"\",VLOOKUP(IF(A227<>0,A227,A226),入力シート!$B$7:$F$206,5,0)))","v":""},173,"名称",{"$f":"IF(ISERROR(VLOOKUP(IF(G227<>0,G227,G226),入力シート!$B$7:$F$206,2,0)),\"\",IF(VLOOKUP(IF(G227<>0,G227,G226),入力シート!$B$7:$F$206,2,0)=0,\"\",VLOOKUP(IF(G227<>0,G227,G226),入力シート!$B$7:$F$206,2,0)))","v":""},null,{"$f":"IF(ISERROR(VLOOKUP(IF(G227<>0,G227,G226),入力シート!$B$7:$F$206,4,0)),\"\",IF(VLOOKUP(IF(G227<>0,G227,G226),入力シート!$B$7:$F$206,4,0)=0,\"\",VLOOKUP(IF(G227<>0,G227,G226),入力シート!$B$7:$F$206,4,0)))","v":""},{"$f":"IF(ISERROR(VLOOKUP(IF(G227<>0,G227,G226),入力シート!$B$7:$F$206,5,0)),\"\",IF(VLOOKUP(IF(G227<>0,G227,G226),入力シート!$B$7:$F$206,5,0)=0,\"\",VLOOKUP(IF(G227<>0,G227,G226),入力シート!$B$7:$F$206,5,0)))","v":""}]
[null,"住所",{"$f":"IF(ISERROR(VLOOKUP(IF(A228<>0,A228,A227),入力シート!$B$7:$F$206,3,0)),\"\",IF(VLOOKUP(IF(A228<>0,A228,A227),入力シート!$B$7:$F$206,3,0)=0,\"\",VLOOKUP(IF(A228<>0,A228,A227),入力シート!$B$7:$F$206,3,0)))","v":""},null,{"$f":"IF(ISERROR(VLOOKUP(IF(C228<>0,C228,C227),入力シート!$B$7:$F$206,2,0)),\"\",IF(VLOOKUP(IF(C228<>0,C228,C227),入力シート!$B$7:$F$206,2,0)=0,\"\",VLOOKUP(IF(C228<>0,C228,C227),入力シート!$B$7:$F$206,2,0)))","v":""},{"$f":"IF(ISERROR(VLOOKUP(IF(D228<>0,D228,D227),入力シート!$B$7:$F$206,2,0)),\"\",IF(VLOOKUP(IF(D228<>0,D228,D227),入力シート!$B$7:$F$206,2,0)=0,\"\",VLOOKUP(IF(D228<>0,D228,D227),入力シート!$B$7:$F$206,2,0)))","v":""},null,"住所",{"$f":"IF(ISERROR(VLOOKUP(IF(G228<>0,G228,G227),入力シート!$B$7:$F$206,3,0)),\"\",IF(VLOOKUP(IF(G228<>0,G228,G227),入力シート!$B$7:$F$206,3,0)=0,\"\",VLOOKUP(IF(G228<>0,G228,G227),入力シート!$B$7:$F$206,3,0)))","v":""},null,{"$f":"IF(ISERROR(VLOOKUP(IF(I228<>0,I228,I227),入力シート!$B$7:$F$206,2,0)),\"\",IF(VLOOKUP(IF(I228<>0,I228,I227),入力シート!$B$7:$F$206,2,0)=0,\"\",VLOOKUP(IF(I228<>0,I228,I227),入力シート!$B$7:$F$206,2,0)))","v":""},{"$f":"IF(ISERROR(VLOOKUP(IF(J228<>0,J228,J227),入力シート!$B$7:$F$206,2,0)),\"\",IF(VLOOKUP(IF(J228<>0,J228,J227),入力シート!$B$7:$F$206,2,0)=0,\"\",VLOOKUP(IF(J228<>0,J228,J227),入力シート!$B$7:$F$206,2,0)))","v":""}]
[164,"名称",{"$f":"IF(ISERROR(VLOOKUP(IF(A229<>0,A229,A228),入力シート!$B$7:$F$206,2,0)),\"\",IF(VLOOKUP(IF(A229<>0,A229,A228),入力シート!$B$7:$F$206,2,0)=0,\"\",VLOOKUP(IF(A229<>0,A229,A228),入力シート!$B$7:$F$206,2,0)))","v":""},null,{"$f":"IF(ISERROR(VLOOKUP(IF(A229<>0,A229,A228),入力シート!$B$7:$F$206,4,0)),\"\",IF(VLOOKUP(IF(A229<>0,A229,A228),入力シート!$B$7:$F$206,4,0)=0,\"\",VLOOKUP(IF(A229<>0,A229,A228),入力シート!$B$7:$F$206,4,0)))","v":""},{"$f":"IF(ISERROR(VLOOKUP(IF(A229<>0,A229,A228),入力シート!$B$7:$F$206,5,0)),\"\",IF(VLOOKUP(IF(A229<>0,A229,A228),入力シート!$B$7:$F$206,5,0)=0,\"\",VLOOKUP(IF(A229<>0,A229,A228),入力シート!$B$7:$F$206,5,0)))","v":""},174,"名称",{"$f":"IF(ISERROR(VLOOKUP(IF(G229<>0,G229,G228),入力シート!$B$7:$F$206,2,0)),\"\",IF(VLOOKUP(IF(G229<>0,G229,G228),入力シート!$B$7:$F$206,2,0)=0,\"\",VLOOKUP(IF(G229<>0,G229,G228),入力シート!$B$7:$F$206,2,0)))","v":""},null,{"$f":"IF(ISERROR(VLOOKUP(IF(G229<>0,G229,G228),入力シート!$B$7:$F$206,4,0)),\"\",IF(VLOOKUP(IF(G229<>0,G229,G228),入力シート!$B$7:$F$206,4,0)=0,\"\",VLOOKUP(IF(G229<>0,G229,G228),入力シート!$B$7:$F$206,4,0)))","v":""},{"$f":"IF(ISERROR(VLOOKUP(IF(G229<>0,G229,G228),入力シート!$B$7:$F$206,5,0)),\"\",IF(VLOOKUP(IF(G229<>0,G229,G228),入力シート!$B$7:$F$206,5,0)=0,\"\",VLOOKUP(IF(G229<>0,G229,G228),入力シート!$B$7:$F$206,5,0)))","v":""}]
[null,"住所",{"$f":"IF(ISERROR(VLOOKUP(IF(A230<>0,A230,A229),入力シート!$B$7:$F$206,3,0)),\"\",IF(VLOOKUP(IF(A230<>0,A230,A229),入力シート!$B$7:$F$206,3,0)=0,\"\",VLOOKUP(IF(A230<>0,A230,A229),入力シート!$B$7:$F$206,3,0)))","v":""},null,{"$f":"IF(ISERROR(VLOOKUP(IF(C230<>0,C230,C229),入力シート!$B$7:$F$206,2,0)),\"\",IF(VLOOKUP(IF(C230<>0,C230,C229),入力シート!$B$7:$F$206,2,0)=0,\"\",VLOOKUP(IF(C230<>0,C230,C229),入力シート!$B$7:$F$206,2,0)))","v":""},{"$f":"IF(ISERROR(VLOOKUP(IF(D230<>0,D230,D229),入力シート!$B$7:$F$206,2,0)),\"\",IF(VLOOKUP(IF(D230<>0,D230,D229),入力シート!$B$7:$F$206,2,0)=0,\"\",VLOOKUP(IF(D230<>0,D230,D229),入力シート!$B$7:$F$206,2,0)))","v":""},null,"住所",{"$f":"IF(ISERROR(VLOOKUP(IF(G230<>0,G230,G229),入力シート!$B$7:$F$206,3,0)),\"\",IF(VLOOKUP(IF(G230<>0,G230,G229),入力シート!$B$7:$F$206,3,0)=0,\"\",VLOOKUP(IF(G230<>0,G230,G229),入力シート!$B$7:$F$206,3,0)))","v":""},null,{"$f":"IF(ISERROR(VLOOKUP(IF(I230<>0,I230,I229),入力シート!$B$7:$F$206,2,0)),\"\",IF(VLOOKUP(IF(I230<>0,I230,I229),入力シート!$B$7:$F$206,2,0)=0,\"\",VLOOKUP(IF(I230<>0,I230,I229),入力シート!$B$7:$F$206,2,0)))","v":""},{"$f":"IF(ISERROR(VLOOKUP(IF(J230<>0,J230,J229),入力シート!$B$7:$F$206,2,0)),\"\",IF(VLOOKUP(IF(J230<>0,J230,J229),入力シート!$B$7:$F$206,2,0)=0,\"\",VLOOKUP(IF(J230<>0,J230,J229),入力シート!$B$7:$F$206,2,0)))","v":""}]
[165,"名称",{"$f":"IF(ISERROR(VLOOKUP(IF(A231<>0,A231,A230),入力シート!$B$7:$F$206,2,0)),\"\",IF(VLOOKUP(IF(A231<>0,A231,A230),入力シート!$B$7:$F$206,2,0)=0,\"\",VLOOKUP(IF(A231<>0,A231,A230),入力シート!$B$7:$F$206,2,0)))","v":""},null,{"$f":"IF(ISERROR(VLOOKUP(IF(A231<>0,A231,A230),入力シート!$B$7:$F$206,4,0)),\"\",IF(VLOOKUP(IF(A231<>0,A231,A230),入力シート!$B$7:$F$206,4,0)=0,\"\",VLOOKUP(IF(A231<>0,A231,A230),入力シート!$B$7:$F$206,4,0)))","v":""},{"$f":"IF(ISERROR(VLOOKUP(IF(A231<>0,A231,A230),入力シート!$B$7:$F$206,5,0)),\"\",IF(VLOOKUP(IF(A231<>0,A231,A230),入力シート!$B$7:$F$206,5,0)=0,\"\",VLOOKUP(IF(A231<>0,A231,A230),入力シート!$B$7:$F$206,5,0)))","v":""},175,"名称",{"$f":"IF(ISERROR(VLOOKUP(IF(G231<>0,G231,G230),入力シート!$B$7:$F$206,2,0)),\"\",IF(VLOOKUP(IF(G231<>0,G231,G230),入力シート!$B$7:$F$206,2,0)=0,\"\",VLOOKUP(IF(G231<>0,G231,G230),入力シート!$B$7:$F$206,2,0)))","v":""},null,{"$f":"IF(ISERROR(VLOOKUP(IF(G231<>0,G231,G230),入力シート!$B$7:$F$206,4,0)),\"\",IF(VLOOKUP(IF(G231<>0,G231,G230),入力シート!$B$7:$F$206,4,0)=0,\"\",VLOOKUP(IF(G231<>0,G231,G230),入力シート!$B$7:$F$206,4,0)))","v":""},{"$f":"IF(ISERROR(VLOOKUP(IF(G231<>0,G231,G230),入力シート!$B$7:$F$206,5,0)),\"\",IF(VLOOKUP(IF(G231<>0,G231,G230),入力シート!$B$7:$F$206,5,0)=0,\"\",VLOOKUP(IF(G231<>0,G231,G230),入力シート!$B$7:$F$206,5,0)))","v":""}]
[null,"住所",{"$f":"IF(ISERROR(VLOOKUP(IF(A232<>0,A232,A231),入力シート!$B$7:$F$206,3,0)),\"\",IF(VLOOKUP(IF(A232<>0,A232,A231),入力シート!$B$7:$F$206,3,0)=0,\"\",VLOOKUP(IF(A232<>0,A232,A231),入力シート!$B$7:$F$206,3,0)))","v":""},null,{"$f":"IF(ISERROR(VLOOKUP(IF(C232<>0,C232,C231),入力シート!$B$7:$F$206,2,0)),\"\",IF(VLOOKUP(IF(C232<>0,C232,C231),入力シート!$B$7:$F$206,2,0)=0,\"\",VLOOKUP(IF(C232<>0,C232,C231),入力シート!$B$7:$F$206,2,0)))","v":""},{"$f":"IF(ISERROR(VLOOKUP(IF(D232<>0,D232,D231),入力シート!$B$7:$F$206,2,0)),\"\",IF(VLOOKUP(IF(D232<>0,D232,D231),入力シート!$B$7:$F$206,2,0)=0,\"\",VLOOKUP(IF(D232<>0,D232,D231),入力シート!$B$7:$F$206,2,0)))","v":""},null,"住所",{"$f":"IF(ISERROR(VLOOKUP(IF(G232<>0,G232,G231),入力シート!$B$7:$F$206,3,0)),\"\",IF(VLOOKUP(IF(G232<>0,G232,G231),入力シート!$B$7:$F$206,3,0)=0,\"\",VLOOKUP(IF(G232<>0,G232,G231),入力シート!$B$7:$F$206,3,0)))","v":""},null,{"$f":"IF(ISERROR(VLOOKUP(IF(I232<>0,I232,I231),入力シート!$B$7:$F$206,2,0)),\"\",IF(VLOOKUP(IF(I232<>0,I232,I231),入力シート!$B$7:$F$206,2,0)=0,\"\",VLOOKUP(IF(I232<>0,I232,I231),入力シート!$B$7:$F$206,2,0)))","v":""},{"$f":"IF(ISERROR(VLOOKUP(IF(J232<>0,J232,J231),入力シート!$B$7:$F$206,2,0)),\"\",IF(VLOOKUP(IF(J232<>0,J232,J231),入力シート!$B$7:$F$206,2,0)=0,\"\",VLOOKUP(IF(J232<>0,J232,J231),入力シート!$B$7:$F$206,2,0)))","v":""}]
[166,"名称",{"$f":"IF(ISERROR(VLOOKUP(IF(A233<>0,A233,A232),入力シート!$B$7:$F$206,2,0)),\"\",IF(VLOOKUP(IF(A233<>0,A233,A232),入力シート!$B$7:$F$206,2,0)=0,\"\",VLOOKUP(IF(A233<>0,A233,A232),入力シート!$B$7:$F$206,2,0)))","v":""},null,{"$f":"IF(ISERROR(VLOOKUP(IF(A233<>0,A233,A232),入力シート!$B$7:$F$206,4,0)),\"\",IF(VLOOKUP(IF(A233<>0,A233,A232),入力シート!$B$7:$F$206,4,0)=0,\"\",VLOOKUP(IF(A233<>0,A233,A232),入力シート!$B$7:$F$206,4,0)))","v":""},{"$f":"IF(ISERROR(VLOOKUP(IF(A233<>0,A233,A232),入力シート!$B$7:$F$206,5,0)),\"\",IF(VLOOKUP(IF(A233<>0,A233,A232),入力シート!$B$7:$F$206,5,0)=0,\"\",VLOOKUP(IF(A233<>0,A233,A232),入力シート!$B$7:$F$206,5,0)))","v":""},176,"名称",{"$f":"IF(ISERROR(VLOOKUP(IF(G233<>0,G233,G232),入力シート!$B$7:$F$206,2,0)),\"\",IF(VLOOKUP(IF(G233<>0,G233,G232),入力シート!$B$7:$F$206,2,0)=0,\"\",VLOOKUP(IF(G233<>0,G233,G232),入力シート!$B$7:$F$206,2,0)))","v":""},null,{"$f":"IF(ISERROR(VLOOKUP(IF(G233<>0,G233,G232),入力シート!$B$7:$F$206,4,0)),\"\",IF(VLOOKUP(IF(G233<>0,G233,G232),入力シート!$B$7:$F$206,4,0)=0,\"\",VLOOKUP(IF(G233<>0,G233,G232),入力シート!$B$7:$F$206,4,0)))","v":""},{"$f":"IF(ISERROR(VLOOKUP(IF(G233<>0,G233,G232),入力シート!$B$7:$F$206,5,0)),\"\",IF(VLOOKUP(IF(G233<>0,G233,G232),入力シート!$B$7:$F$206,5,0)=0,\"\",VLOOKUP(IF(G233<>0,G233,G232),入力シート!$B$7:$F$206,5,0)))","v":""}]
[null,"住所",{"$f":"IF(ISERROR(VLOOKUP(IF(A234<>0,A234,A233),入力シート!$B$7:$F$206,3,0)),\"\",IF(VLOOKUP(IF(A234<>0,A234,A233),入力シート!$B$7:$F$206,3,0)=0,\"\",VLOOKUP(IF(A234<>0,A234,A233),入力シート!$B$7:$F$206,3,0)))","v":""},null,{"$f":"IF(ISERROR(VLOOKUP(IF(C234<>0,C234,C233),入力シート!$B$7:$F$206,2,0)),\"\",IF(VLOOKUP(IF(C234<>0,C234,C233),入力シート!$B$7:$F$206,2,0)=0,\"\",VLOOKUP(IF(C234<>0,C234,C233),入力シート!$B$7:$F$206,2,0)))","v":""},{"$f":"IF(ISERROR(VLOOKUP(IF(D234<>0,D234,D233),入力シート!$B$7:$F$206,2,0)),\"\",IF(VLOOKUP(IF(D234<>0,D234,D233),入力シート!$B$7:$F$206,2,0)=0,\"\",VLOOKUP(IF(D234<>0,D234,D233),入力シート!$B$7:$F$206,2,0)))","v":""},null,"住所",{"$f":"IF(ISERROR(VLOOKUP(IF(G234<>0,G234,G233),入力シート!$B$7:$F$206,3,0)),\"\",IF(VLOOKUP(IF(G234<>0,G234,G233),入力シート!$B$7:$F$206,3,0)=0,\"\",VLOOKUP(IF(G234<>0,G234,G233),入力シート!$B$7:$F$206,3,0)))","v":""},null,{"$f":"IF(ISERROR(VLOOKUP(IF(I234<>0,I234,I233),入力シート!$B$7:$F$206,2,0)),\"\",IF(VLOOKUP(IF(I234<>0,I234,I233),入力シート!$B$7:$F$206,2,0)=0,\"\",VLOOKUP(IF(I234<>0,I234,I233),入力シート!$B$7:$F$206,2,0)))","v":""},{"$f":"IF(ISERROR(VLOOKUP(IF(J234<>0,J234,J233),入力シート!$B$7:$F$206,2,0)),\"\",IF(VLOOKUP(IF(J234<>0,J234,J233),入力シート!$B$7:$F$206,2,0)=0,\"\",VLOOKUP(IF(J234<>0,J234,J233),入力シート!$B$7:$F$206,2,0)))","v":""}]
[167,"名称",{"$f":"IF(ISERROR(VLOOKUP(IF(A235<>0,A235,A234),入力シート!$B$7:$F$206,2,0)),\"\",IF(VLOOKUP(IF(A235<>0,A235,A234),入力シート!$B$7:$F$206,2,0)=0,\"\",VLOOKUP(IF(A235<>0,A235,A234),入力シート!$B$7:$F$206,2,0)))","v":""},null,{"$f":"IF(ISERROR(VLOOKUP(IF(A235<>0,A235,A234),入力シート!$B$7:$F$206,4,0)),\"\",IF(VLOOKUP(IF(A235<>0,A235,A234),入力シート!$B$7:$F$206,4,0)=0,\"\",VLOOKUP(IF(A235<>0,A235,A234),入力シート!$B$7:$F$206,4,0)))","v":""},{"$f":"IF(ISERROR(VLOOKUP(IF(A235<>0,A235,A234),入力シート!$B$7:$F$206,5,0)),\"\",IF(VLOOKUP(IF(A235<>0,A235,A234),入力シート!$B$7:$F$206,5,0)=0,\"\",VLOOKUP(IF(A235<>0,A235,A234),入力シート!$B$7:$F$206,5,0)))","v":""},177,"名称",{"$f":"IF(ISERROR(VLOOKUP(IF(G235<>0,G235,G234),入力シート!$B$7:$F$206,2,0)),\"\",IF(VLOOKUP(IF(G235<>0,G235,G234),入力シート!$B$7:$F$206,2,0)=0,\"\",VLOOKUP(IF(G235<>0,G235,G234),入力シート!$B$7:$F$206,2,0)))","v":""},null,{"$f":"IF(ISERROR(VLOOKUP(IF(G235<>0,G235,G234),入力シート!$B$7:$F$206,4,0)),\"\",IF(VLOOKUP(IF(G235<>0,G235,G234),入力シート!$B$7:$F$206,4,0)=0,\"\",VLOOKUP(IF(G235<>0,G235,G234),入力シート!$B$7:$F$206,4,0)))","v":""},{"$f":"IF(ISERROR(VLOOKUP(IF(G235<>0,G235,G234),入力シート!$B$7:$F$206,5,0)),\"\",IF(VLOOKUP(IF(G235<>0,G235,G234),入力シート!$B$7:$F$206,5,0)=0,\"\",VLOOKUP(IF(G235<>0,G235,G234),入力シート!$B$7:$F$206,5,0)))","v":""}]
[null,"住所",{"$f":"IF(ISERROR(VLOOKUP(IF(A236<>0,A236,A235),入力シート!$B$7:$F$206,3,0)),\"\",IF(VLOOKUP(IF(A236<>0,A236,A235),入力シート!$B$7:$F$206,3,0)=0,\"\",VLOOKUP(IF(A236<>0,A236,A235),入力シート!$B$7:$F$206,3,0)))","v":""},null,{"$f":"IF(ISERROR(VLOOKUP(IF(C236<>0,C236,C235),入力シート!$B$7:$F$206,2,0)),\"\",IF(VLOOKUP(IF(C236<>0,C236,C235),入力シート!$B$7:$F$206,2,0)=0,\"\",VLOOKUP(IF(C236<>0,C236,C235),入力シート!$B$7:$F$206,2,0)))","v":""},{"$f":"IF(ISERROR(VLOOKUP(IF(D236<>0,D236,D235),入力シート!$B$7:$F$206,2,0)),\"\",IF(VLOOKUP(IF(D236<>0,D236,D235),入力シート!$B$7:$F$206,2,0)=0,\"\",VLOOKUP(IF(D236<>0,D236,D235),入力シート!$B$7:$F$206,2,0)))","v":""},null,"住所",{"$f":"IF(ISERROR(VLOOKUP(IF(G236<>0,G236,G235),入力シート!$B$7:$F$206,3,0)),\"\",IF(VLOOKUP(IF(G236<>0,G236,G235),入力シート!$B$7:$F$206,3,0)=0,\"\",VLOOKUP(IF(G236<>0,G236,G235),入力シート!$B$7:$F$206,3,0)))","v":""},null,{"$f":"IF(ISERROR(VLOOKUP(IF(I236<>0,I236,I235),入力シート!$B$7:$F$206,2,0)),\"\",IF(VLOOKUP(IF(I236<>0,I236,I235),入力シート!$B$7:$F$206,2,0)=0,\"\",VLOOKUP(IF(I236<>0,I236,I235),入力シート!$B$7:$F$206,2,0)))","v":""},{"$f":"IF(ISERROR(VLOOKUP(IF(J236<>0,J236,J235),入力シート!$B$7:$F$206,2,0)),\"\",IF(VLOOKUP(IF(J236<>0,J236,J235),入力シート!$B$7:$F$206,2,0)=0,\"\",VLOOKUP(IF(J236<>0,J236,J235),入力シート!$B$7:$F$206,2,0)))","v":""}]
[168,"名称",{"$f":"IF(ISERROR(VLOOKUP(IF(A237<>0,A237,A236),入力シート!$B$7:$F$206,2,0)),\"\",IF(VLOOKUP(IF(A237<>0,A237,A236),入力シート!$B$7:$F$206,2,0)=0,\"\",VLOOKUP(IF(A237<>0,A237,A236),入力シート!$B$7:$F$206,2,0)))","v":""},null,{"$f":"IF(ISERROR(VLOOKUP(IF(A237<>0,A237,A236),入力シート!$B$7:$F$206,4,0)),\"\",IF(VLOOKUP(IF(A237<>0,A237,A236),入力シート!$B$7:$F$206,4,0)=0,\"\",VLOOKUP(IF(A237<>0,A237,A236),入力シート!$B$7:$F$206,4,0)))","v":""},{"$f":"IF(ISERROR(VLOOKUP(IF(A237<>0,A237,A236),入力シート!$B$7:$F$206,5,0)),\"\",IF(VLOOKUP(IF(A237<>0,A237,A236),入力シート!$B$7:$F$206,5,0)=0,\"\",VLOOKUP(IF(A237<>0,A237,A236),入力シート!$B$7:$F$206,5,0)))","v":""},178,"名称",{"$f":"IF(ISERROR(VLOOKUP(IF(G237<>0,G237,G236),入力シート!$B$7:$F$206,2,0)),\"\",IF(VLOOKUP(IF(G237<>0,G237,G236),入力シート!$B$7:$F$206,2,0)=0,\"\",VLOOKUP(IF(G237<>0,G237,G236),入力シート!$B$7:$F$206,2,0)))","v":""},null,{"$f":"IF(ISERROR(VLOOKUP(IF(G237<>0,G237,G236),入力シート!$B$7:$F$206,4,0)),\"\",IF(VLOOKUP(IF(G237<>0,G237,G236),入力シート!$B$7:$F$206,4,0)=0,\"\",VLOOKUP(IF(G237<>0,G237,G236),入力シート!$B$7:$F$206,4,0)))","v":""},{"$f":"IF(ISERROR(VLOOKUP(IF(G237<>0,G237,G236),入力シート!$B$7:$F$206,5,0)),\"\",IF(VLOOKUP(IF(G237<>0,G237,G236),入力シート!$B$7:$F$206,5,0)=0,\"\",VLOOKUP(IF(G237<>0,G237,G236),入力シート!$B$7:$F$206,5,0)))","v":""}]
[null,"住所",{"$f":"IF(ISERROR(VLOOKUP(IF(A238<>0,A238,A237),入力シート!$B$7:$F$206,3,0)),\"\",IF(VLOOKUP(IF(A238<>0,A238,A237),入力シート!$B$7:$F$206,3,0)=0,\"\",VLOOKUP(IF(A238<>0,A238,A237),入力シート!$B$7:$F$206,3,0)))","v":""},null,{"$f":"IF(ISERROR(VLOOKUP(IF(C238<>0,C238,C237),入力シート!$B$7:$F$206,2,0)),\"\",IF(VLOOKUP(IF(C238<>0,C238,C237),入力シート!$B$7:$F$206,2,0)=0,\"\",VLOOKUP(IF(C238<>0,C238,C237),入力シート!$B$7:$F$206,2,0)))","v":""},{"$f":"IF(ISERROR(VLOOKUP(IF(D238<>0,D238,D237),入力シート!$B$7:$F$206,2,0)),\"\",IF(VLOOKUP(IF(D238<>0,D238,D237),入力シート!$B$7:$F$206,2,0)=0,\"\",VLOOKUP(IF(D238<>0,D238,D237),入力シート!$B$7:$F$206,2,0)))","v":""},null,"住所",{"$f":"IF(ISERROR(VLOOKUP(IF(G238<>0,G238,G237),入力シート!$B$7:$F$206,3,0)),\"\",IF(VLOOKUP(IF(G238<>0,G238,G237),入力シート!$B$7:$F$206,3,0)=0,\"\",VLOOKUP(IF(G238<>0,G238,G237),入力シート!$B$7:$F$206,3,0)))","v":""},null,{"$f":"IF(ISERROR(VLOOKUP(IF(I238<>0,I238,I237),入力シート!$B$7:$F$206,2,0)),\"\",IF(VLOOKUP(IF(I238<>0,I238,I237),入力シート!$B$7:$F$206,2,0)=0,\"\",VLOOKUP(IF(I238<>0,I238,I237),入力シート!$B$7:$F$206,2,0)))","v":""},{"$f":"IF(ISERROR(VLOOKUP(IF(J238<>0,J238,J237),入力シート!$B$7:$F$206,2,0)),\"\",IF(VLOOKUP(IF(J238<>0,J238,J237),入力シート!$B$7:$F$206,2,0)=0,\"\",VLOOKUP(IF(J238<>0,J238,J237),入力シート!$B$7:$F$206,2,0)))","v":""}]
[169,"名称",{"$f":"IF(ISERROR(VLOOKUP(IF(A239<>0,A239,A238),入力シート!$B$7:$F$206,2,0)),\"\",IF(VLOOKUP(IF(A239<>0,A239,A238),入力シート!$B$7:$F$206,2,0)=0,\"\",VLOOKUP(IF(A239<>0,A239,A238),入力シート!$B$7:$F$206,2,0)))","v":""},null,{"$f":"IF(ISERROR(VLOOKUP(IF(A239<>0,A239,A238),入力シート!$B$7:$F$206,4,0)),\"\",IF(VLOOKUP(IF(A239<>0,A239,A238),入力シート!$B$7:$F$206,4,0)=0,\"\",VLOOKUP(IF(A239<>0,A239,A238),入力シート!$B$7:$F$206,4,0)))","v":""},{"$f":"IF(ISERROR(VLOOKUP(IF(A239<>0,A239,A238),入力シート!$B$7:$F$206,5,0)),\"\",IF(VLOOKUP(IF(A239<>0,A239,A238),入力シート!$B$7:$F$206,5,0)=0,\"\",VLOOKUP(IF(A239<>0,A239,A238),入力シート!$B$7:$F$206,5,0)))","v":""},179,"名称",{"$f":"IF(ISERROR(VLOOKUP(IF(G239<>0,G239,G238),入力シート!$B$7:$F$206,2,0)),\"\",IF(VLOOKUP(IF(G239<>0,G239,G238),入力シート!$B$7:$F$206,2,0)=0,\"\",VLOOKUP(IF(G239<>0,G239,G238),入力シート!$B$7:$F$206,2,0)))","v":""},null,{"$f":"IF(ISERROR(VLOOKUP(IF(G239<>0,G239,G238),入力シート!$B$7:$F$206,4,0)),\"\",IF(VLOOKUP(IF(G239<>0,G239,G238),入力シート!$B$7:$F$206,4,0)=0,\"\",VLOOKUP(IF(G239<>0,G239,G238),入力シート!$B$7:$F$206,4,0)))","v":""},{"$f":"IF(ISERROR(VLOOKUP(IF(G239<>0,G239,G238),入力シート!$B$7:$F$206,5,0)),\"\",IF(VLOOKUP(IF(G239<>0,G239,G238),入力シート!$B$7:$F$206,5,0)=0,\"\",VLOOKUP(IF(G239<>0,G239,G238),入力シート!$B$7:$F$206,5,0)))","v":""}]
[null,"住所",{"$f":"IF(ISERROR(VLOOKUP(IF(A240<>0,A240,A239),入力シート!$B$7:$F$206,3,0)),\"\",IF(VLOOKUP(IF(A240<>0,A240,A239),入力シート!$B$7:$F$206,3,0)=0,\"\",VLOOKUP(IF(A240<>0,A240,A239),入力シート!$B$7:$F$206,3,0)))","v":""},null,{"$f":"IF(ISERROR(VLOOKUP(IF(C240<>0,C240,C239),入力シート!$B$7:$F$206,2,0)),\"\",IF(VLOOKUP(IF(C240<>0,C240,C239),入力シート!$B$7:$F$206,2,0)=0,\"\",VLOOKUP(IF(C240<>0,C240,C239),入力シート!$B$7:$F$206,2,0)))","v":""},{"$f":"IF(ISERROR(VLOOKUP(IF(D240<>0,D240,D239),入力シート!$B$7:$F$206,2,0)),\"\",IF(VLOOKUP(IF(D240<>0,D240,D239),入力シート!$B$7:$F$206,2,0)=0,\"\",VLOOKUP(IF(D240<>0,D240,D239),入力シート!$B$7:$F$206,2,0)))","v":""},null,"住所",{"$f":"IF(ISERROR(VLOOKUP(IF(G240<>0,G240,G239),入力シート!$B$7:$F$206,3,0)),\"\",IF(VLOOKUP(IF(G240<>0,G240,G239),入力シート!$B$7:$F$206,3,0)=0,\"\",VLOOKUP(IF(G240<>0,G240,G239),入力シート!$B$7:$F$206,3,0)))","v":""},null,{"$f":"IF(ISERROR(VLOOKUP(IF(I240<>0,I240,I239),入力シート!$B$7:$F$206,2,0)),\"\",IF(VLOOKUP(IF(I240<>0,I240,I239),入力シート!$B$7:$F$206,2,0)=0,\"\",VLOOKUP(IF(I240<>0,I240,I239),入力シート!$B$7:$F$206,2,0)))","v":""},{"$f":"IF(ISERROR(VLOOKUP(IF(J240<>0,J240,J239),入力シート!$B$7:$F$206,2,0)),\"\",IF(VLOOKUP(IF(J240<>0,J240,J239),入力シート!$B$7:$F$206,2,0)=0,\"\",VLOOKUP(IF(J240<>0,J240,J239),入力シート!$B$7:$F$206,2,0)))","v":""}]
[170,"名称",{"$f":"IF(ISERROR(VLOOKUP(IF(A241<>0,A241,A240),入力シート!$B$7:$F$206,2,0)),\"\",IF(VLOOKUP(IF(A241<>0,A241,A240),入力シート!$B$7:$F$206,2,0)=0,\"\",VLOOKUP(IF(A241<>0,A241,A240),入力シート!$B$7:$F$206,2,0)))","v":""},null,{"$f":"IF(ISERROR(VLOOKUP(IF(A241<>0,A241,A240),入力シート!$B$7:$F$206,4,0)),\"\",IF(VLOOKUP(IF(A241<>0,A241,A240),入力シート!$B$7:$F$206,4,0)=0,\"\",VLOOKUP(IF(A241<>0,A241,A240),入力シート!$B$7:$F$206,4,0)))","v":""},{"$f":"IF(ISERROR(VLOOKUP(IF(A241<>0,A241,A240),入力シート!$B$7:$F$206,5,0)),\"\",IF(VLOOKUP(IF(A241<>0,A241,A240),入力シート!$B$7:$F$206,5,0)=0,\"\",VLOOKUP(IF(A241<>0,A241,A240),入力シート!$B$7:$F$206,5,0)))","v":""},180,"名称",{"$f":"IF(ISERROR(VLOOKUP(IF(G241<>0,G241,G240),入力シート!$B$7:$F$206,2,0)),\"\",IF(VLOOKUP(IF(G241<>0,G241,G240),入力シート!$B$7:$F$206,2,0)=0,\"\",VLOOKUP(IF(G241<>0,G241,G240),入力シート!$B$7:$F$206,2,0)))","v":""},null,{"$f":"IF(ISERROR(VLOOKUP(IF(G241<>0,G241,G240),入力シート!$B$7:$F$206,4,0)),\"\",IF(VLOOKUP(IF(G241<>0,G241,G240),入力シート!$B$7:$F$206,4,0)=0,\"\",VLOOKUP(IF(G241<>0,G241,G240),入力シート!$B$7:$F$206,4,0)))","v":""},{"$f":"IF(ISERROR(VLOOKUP(IF(G241<>0,G241,G240),入力シート!$B$7:$F$206,5,0)),\"\",IF(VLOOKUP(IF(G241<>0,G241,G240),入力シート!$B$7:$F$206,5,0)=0,\"\",VLOOKUP(IF(G241<>0,G241,G240),入力シート!$B$7:$F$206,5,0)))","v":""}]
[null,"住所",{"$f":"IF(ISERROR(VLOOKUP(IF(A242<>0,A242,A241),入力シート!$B$7:$F$206,3,0)),\"\",IF(VLOOKUP(IF(A242<>0,A242,A241),入力シート!$B$7:$F$206,3,0)=0,\"\",VLOOKUP(IF(A242<>0,A242,A241),入力シート!$B$7:$F$206,3,0)))","v":""},null,{"$f":"IF(ISERROR(VLOOKUP(IF(C242<>0,C242,C241),入力シート!$B$7:$F$206,2,0)),\"\",IF(VLOOKUP(IF(C242<>0,C242,C241),入力シート!$B$7:$F$206,2,0)=0,\"\",VLOOKUP(IF(C242<>0,C242,C241),入力シート!$B$7:$F$206,2,0)))","v":""},{"$f":"IF(ISERROR(VLOOKUP(IF(D242<>0,D242,D241),入力シート!$B$7:$F$206,2,0)),\"\",IF(VLOOKUP(IF(D242<>0,D242,D241),入力シート!$B$7:$F$206,2,0)=0,\"\",VLOOKUP(IF(D242<>0,D242,D241),入力シート!$B$7:$F$206,2,0)))","v":""},null,"住所",{"$f":"IF(ISERROR(VLOOKUP(IF(G242<>0,G242,G241),入力シート!$B$7:$F$206,3,0)),\"\",IF(VLOOKUP(IF(G242<>0,G242,G241),入力シート!$B$7:$F$206,3,0)=0,\"\",VLOOKUP(IF(G242<>0,G242,G241),入力シート!$B$7:$F$206,3,0)))","v":""},null,{"$f":"IF(ISERROR(VLOOKUP(IF(I242<>0,I242,I241),入力シート!$B$7:$F$206,2,0)),\"\",IF(VLOOKUP(IF(I242<>0,I242,I241),入力シート!$B$7:$F$206,2,0)=0,\"\",VLOOKUP(IF(I242<>0,I242,I241),入力シート!$B$7:$F$206,2,0)))","v":""},{"$f":"IF(ISERROR(VLOOKUP(IF(J242<>0,J242,J241),入力シート!$B$7:$F$206,2,0)),\"\",IF(VLOOKUP(IF(J242<>0,J242,J241),入力シート!$B$7:$F$206,2,0)=0,\"\",VLOOKUP(IF(J242<>0,J242,J241),入力シート!$B$7:$F$206,2,0)))","v":""}]
["（注）","1.本名簿には、配送事業者がＬＰガス配送を受託しているＬＰガス販売事業者をすべて記入する。",null,null,null,null,null,"小　　計（このページの合計）",null,null,{"$f":"SUM(E223:E242,K223:K242)","v":0},{"$f":"SUM(F223:F242,L223:L242)","v":0}]
[null,"2.ＬＰガス配送受託販売所の名称欄には企業名、販売所名を明記し、住所欄には当該販売所の住所を記入する。"]
[null,"3.保険契約加入依頼の際、依頼書に本名簿（保険会社用、事業団用、都道府県協会用）を添付して提出する。"]
[null,"4.支部が事業団に加入依頼書を送付する際、２部（保険会社用、事業団用）を添付する。"]
[null,null,null,null,null,null,null,null,null,null,10,{"$f":"COUNTIF($L$26,\">0\")+COUNTIF($L$54,\">0\")+COUNTIF($L$81,\">0\")+COUNTIF($L$108,\">0\")+COUNTIF($L$135,\">0\")+COUNTIF($L$162,\">0\")+COUNTIF($L$189,\">0\")+COUNTIF($L$216,\">0\")+COUNTIF($L$243,\">0\")+COUNTIF($L$270,\">0\")","v":0},2]
["LPガス配送",null,null,"名　　　　称","配送契約の内容",null,"LPガス配送",null,null,"名　　　　称","配送契約の内容"]
["受託販売所",null,null,"住　　　　所","配　送　先\n消費者戸数","1か年間の\n配送トン数","受託販売所",null,null,"住　　　　所","配　送　先\n消費者戸数","1か年間の\n配送トン数"]
[181,"名称",{"$f":"IF(ISERROR(VLOOKUP(IF(A250<>0,A250,A249),入力シート!$B$7:$F$206,2,0)),\"\",IF(VLOOKUP(IF(A250<>0,A250,A249),入力シート!$B$7:$F$206,2,0)=0,\"\",VLOOKUP(IF(A250<>0,A250,A249),入力シート!$B$7:$F$206,2,0)))","v":""},null,{"$f":"IF(ISERROR(VLOOKUP(IF(A250<>0,A250,A249),入力シート!$B$7:$F$206,4,0)),\"\",IF(VLOOKUP(IF(A250<>0,A250,A249),入力シート!$B$7:$F$206,4,0)=0,\"\",VLOOKUP(IF(A250<>0,A250,A249),入力シート!$B$7:$F$206,4,0)))","v":""},{"$f":"IF(ISERROR(VLOOKUP(IF(A250<>0,A250,A249),入力シート!$B$7:$F$206,5,0)),\"\",IF(VLOOKUP(IF(A250<>0,A250,A249),入力シート!$B$7:$F$206,5,0)=0,\"\",VLOOKUP(IF(A250<>0,A250,A249),入力シート!$B$7:$F$206,5,0)))","v":""},191,"名称",{"$f":"IF(ISERROR(VLOOKUP(IF(G250<>0,G250,G249),入力シート!$B$7:$F$206,2,0)),\"\",IF(VLOOKUP(IF(G250<>0,G250,G249),入力シート!$B$7:$F$206,2,0)=0,\"\",VLOOKUP(IF(G250<>0,G250,G249),入力シート!$B$7:$F$206,2,0)))","v":""},null,{"$f":"IF(ISERROR(VLOOKUP(IF(G250<>0,G250,G249),入力シート!$B$7:$F$206,4,0)),\"\",IF(VLOOKUP(IF(G250<>0,G250,G249),入力シート!$B$7:$F$206,4,0)=0,\"\",VLOOKUP(IF(G250<>0,G250,G249),入力シート!$B$7:$F$206,4,0)))","v":""},{"$f":"IF(ISERROR(VLOOKUP(IF(G250<>0,G250,G249),入力シート!$B$7:$F$206,5,0)),\"\",IF(VLOOKUP(IF(G250<>0,G250,G249),入力シート!$B$7:$F$206,5,0)=0,\"\",VLOOKUP(IF(G250<>0,G250,G249),入力シート!$B$7:$F$206,5,0)))","v":""}]
[null,"住所",{"$f":"IF(ISERROR(VLOOKUP(IF(A251<>0,A251,A250),入力シート!$B$7:$F$206,3,0)),\"\",IF(VLOOKUP(IF(A251<>0,A251,A250),入力シート!$B$7:$F$206,3,0)=0,\"\",VLOOKUP(IF(A251<>0,A251,A250),入力シート!$B$7:$F$206,3,0)))","v":""},null,{"$f":"IF(ISERROR(VLOOKUP(IF(C251<>0,C251,C250),入力シート!$B$7:$F$206,2,0)),\"\",IF(VLOOKUP(IF(C251<>0,C251,C250),入力シート!$B$7:$F$206,2,0)=0,\"\",VLOOKUP(IF(C251<>0,C251,C250),入力シート!$B$7:$F$206,2,0)))","v":""},{"$f":"IF(ISERROR(VLOOKUP(IF(D251<>0,D251,D250),入力シート!$B$7:$F$206,2,0)),\"\",IF(VLOOKUP(IF(D251<>0,D251,D250),入力シート!$B$7:$F$206,2,0)=0,\"\",VLOOKUP(IF(D251<>0,D251,D250),入力シート!$B$7:$F$206,2,0)))","v":""},null,"住所",{"$f":"IF(ISERROR(VLOOKUP(IF(G251<>0,G251,G250),入力シート!$B$7:$F$206,3,0)),\"\",IF(VLOOKUP(IF(G251<>0,G251,G250),入力シート!$B$7:$F$206,3,0)=0,\"\",VLOOKUP(IF(G251<>0,G251,G250),入力シート!$B$7:$F$206,3,0)))","v":""},null,{"$f":"IF(ISERROR(VLOOKUP(IF(I251<>0,I251,I250),入力シート!$B$7:$F$206,2,0)),\"\",IF(VLOOKUP(IF(I251<>0,I251,I250),入力シート!$B$7:$F$206,2,0)=0,\"\",VLOOKUP(IF(I251<>0,I251,I250),入力シート!$B$7:$F$206,2,0)))","v":""},{"$f":"IF(ISERROR(VLOOKUP(IF(J251<>0,J251,J250),入力シート!$B$7:$F$206,2,0)),\"\",IF(VLOOKUP(IF(J251<>0,J251,J250),入力シート!$B$7:$F$206,2,0)=0,\"\",VLOOKUP(IF(J251<>0,J251,J250),入力シート!$B$7:$F$206,2,0)))","v":""}]
[182,"名称",{"$f":"IF(ISERROR(VLOOKUP(IF(A252<>0,A252,A251),入力シート!$B$7:$F$206,2,0)),\"\",IF(VLOOKUP(IF(A252<>0,A252,A251),入力シート!$B$7:$F$206,2,0)=0,\"\",VLOOKUP(IF(A252<>0,A252,A251),入力シート!$B$7:$F$206,2,0)))","v":""},null,{"$f":"IF(ISERROR(VLOOKUP(IF(A252<>0,A252,A251),入力シート!$B$7:$F$206,4,0)),\"\",IF(VLOOKUP(IF(A252<>0,A252,A251),入力シート!$B$7:$F$206,4,0)=0,\"\",VLOOKUP(IF(A252<>0,A252,A251),入力シート!$B$7:$F$206,4,0)))","v":""},{"$f":"IF(ISERROR(VLOOKUP(IF(A252<>0,A252,A251),入力シート!$B$7:$F$206,5,0)),\"\",IF(VLOOKUP(IF(A252<>0,A252,A251),入力シート!$B$7:$F$206,5,0)=0,\"\",VLOOKUP(IF(A252<>0,A252,A251),入力シート!$B$7:$F$206,5,0)))","v":""},192,"名称",{"$f":"IF(ISERROR(VLOOKUP(IF(G252<>0,G252,G251),入力シート!$B$7:$F$206,2,0)),\"\",IF(VLOOKUP(IF(G252<>0,G252,G251),入力シート!$B$7:$F$206,2,0)=0,\"\",VLOOKUP(IF(G252<>0,G252,G251),入力シート!$B$7:$F$206,2,0)))","v":""},null,{"$f":"IF(ISERROR(VLOOKUP(IF(G252<>0,G252,G251),入力シート!$B$7:$F$206,4,0)),\"\",IF(VLOOKUP(IF(G252<>0,G252,G251),入力シート!$B$7:$F$206,4,0)=0,\"\",VLOOKUP(IF(G252<>0,G252,G251),入力シート!$B$7:$F$206,4,0)))","v":""},{"$f":"IF(ISERROR(VLOOKUP(IF(G252<>0,G252,G251),入力シート!$B$7:$F$206,5,0)),\"\",IF(VLOOKUP(IF(G252<>0,G252,G251),入力シート!$B$7:$F$206,5,0)=0,\"\",VLOOKUP(IF(G252<>0,G252,G251),入力シート!$B$7:$F$206,5,0)))","v":""}]
[null,"住所",{"$f":"IF(ISERROR(VLOOKUP(IF(A253<>0,A253,A252),入力シート!$B$7:$F$206,3,0)),\"\",IF(VLOOKUP(IF(A253<>0,A253,A252),入力シート!$B$7:$F$206,3,0)=0,\"\",VLOOKUP(IF(A253<>0,A253,A252),入力シート!$B$7:$F$206,3,0)))","v":""},null,{"$f":"IF(ISERROR(VLOOKUP(IF(C253<>0,C253,C252),入力シート!$B$7:$F$206,2,0)),\"\",IF(VLOOKUP(IF(C253<>0,C253,C252),入力シート!$B$7:$F$206,2,0)=0,\"\",VLOOKUP(IF(C253<>0,C253,C252),入力シート!$B$7:$F$206,2,0)))","v":""},{"$f":"IF(ISERROR(VLOOKUP(IF(D253<>0,D253,D252),入力シート!$B$7:$F$206,2,0)),\"\",IF(VLOOKUP(IF(D253<>0,D253,D252),入力シート!$B$7:$F$206,2,0)=0,\"\",VLOOKUP(IF(D253<>0,D253,D252),入力シート!$B$7:$F$206,2,0)))","v":""},null,"住所",{"$f":"IF(ISERROR(VLOOKUP(IF(G253<>0,G253,G252),入力シート!$B$7:$F$206,3,0)),\"\",IF(VLOOKUP(IF(G253<>0,G253,G252),入力シート!$B$7:$F$206,3,0)=0,\"\",VLOOKUP(IF(G253<>0,G253,G252),入力シート!$B$7:$F$206,3,0)))","v":""},null,{"$f":"IF(ISERROR(VLOOKUP(IF(I253<>0,I253,I252),入力シート!$B$7:$F$206,2,0)),\"\",IF(VLOOKUP(IF(I253<>0,I253,I252),入力シート!$B$7:$F$206,2,0)=0,\"\",VLOOKUP(IF(I253<>0,I253,I252),入力シート!$B$7:$F$206,2,0)))","v":""},{"$f":"IF(ISERROR(VLOOKUP(IF(J253<>0,J253,J252),入力シート!$B$7:$F$206,2,0)),\"\",IF(VLOOKUP(IF(J253<>0,J253,J252),入力シート!$B$7:$F$206,2,0)=0,\"\",VLOOKUP(IF(J253<>0,J253,J252),入力シート!$B$7:$F$206,2,0)))","v":""}]
[183,"名称",{"$f":"IF(ISERROR(VLOOKUP(IF(A254<>0,A254,A253),入力シート!$B$7:$F$206,2,0)),\"\",IF(VLOOKUP(IF(A254<>0,A254,A253),入力シート!$B$7:$F$206,2,0)=0,\"\",VLOOKUP(IF(A254<>0,A254,A253),入力シート!$B$7:$F$206,2,0)))","v":""},null,{"$f":"IF(ISERROR(VLOOKUP(IF(A254<>0,A254,A253),入力シート!$B$7:$F$206,4,0)),\"\",IF(VLOOKUP(IF(A254<>0,A254,A253),入力シート!$B$7:$F$206,4,0)=0,\"\",VLOOKUP(IF(A254<>0,A254,A253),入力シート!$B$7:$F$206,4,0)))","v":""},{"$f":"IF(ISERROR(VLOOKUP(IF(A254<>0,A254,A253),入力シート!$B$7:$F$206,5,0)),\"\",IF(VLOOKUP(IF(A254<>0,A254,A253),入力シート!$B$7:$F$206,5,0)=0,\"\",VLOOKUP(IF(A254<>0,A254,A253),入力シート!$B$7:$F$206,5,0)))","v":""},193,"名称",{"$f":"IF(ISERROR(VLOOKUP(IF(G254<>0,G254,G253),入力シート!$B$7:$F$206,2,0)),\"\",IF(VLOOKUP(IF(G254<>0,G254,G253),入力シート!$B$7:$F$206,2,0)=0,\"\",VLOOKUP(IF(G254<>0,G254,G253),入力シート!$B$7:$F$206,2,0)))","v":""},null,{"$f":"IF(ISERROR(VLOOKUP(IF(G254<>0,G254,G253),入力シート!$B$7:$F$206,4,0)),\"\",IF(VLOOKUP(IF(G254<>0,G254,G253),入力シート!$B$7:$F$206,4,0)=0,\"\",VLOOKUP(IF(G254<>0,G254,G253),入力シート!$B$7:$F$206,4,0)))","v":""},{"$f":"IF(ISERROR(VLOOKUP(IF(G254<>0,G254,G253),入力シート!$B$7:$F$206,5,0)),\"\",IF(VLOOKUP(IF(G254<>0,G254,G253),入力シート!$B$7:$F$206,5,0)=0,\"\",VLOOKUP(IF(G254<>0,G254,G253),入力シート!$B$7:$F$206,5,0)))","v":""}]
[null,"住所",{"$f":"IF(ISERROR(VLOOKUP(IF(A255<>0,A255,A254),入力シート!$B$7:$F$206,3,0)),\"\",IF(VLOOKUP(IF(A255<>0,A255,A254),入力シート!$B$7:$F$206,3,0)=0,\"\",VLOOKUP(IF(A255<>0,A255,A254),入力シート!$B$7:$F$206,3,0)))","v":""},null,{"$f":"IF(ISERROR(VLOOKUP(IF(C255<>0,C255,C254),入力シート!$B$7:$F$206,2,0)),\"\",IF(VLOOKUP(IF(C255<>0,C255,C254),入力シート!$B$7:$F$206,2,0)=0,\"\",VLOOKUP(IF(C255<>0,C255,C254),入力シート!$B$7:$F$206,2,0)))","v":""},{"$f":"IF(ISERROR(VLOOKUP(IF(D255<>0,D255,D254),入力シート!$B$7:$F$206,2,0)),\"\",IF(VLOOKUP(IF(D255<>0,D255,D254),入力シート!$B$7:$F$206,2,0)=0,\"\",VLOOKUP(IF(D255<>0,D255,D254),入力シート!$B$7:$F$206,2,0)))","v":""},null,"住所",{"$f":"IF(ISERROR(VLOOKUP(IF(G255<>0,G255,G254),入力シート!$B$7:$F$206,3,0)),\"\",IF(VLOOKUP(IF(G255<>0,G255,G254),入力シート!$B$7:$F$206,3,0)=0,\"\",VLOOKUP(IF(G255<>0,G255,G254),入力シート!$B$7:$F$206,3,0)))","v":""},null,{"$f":"IF(ISERROR(VLOOKUP(IF(I255<>0,I255,I254),入力シート!$B$7:$F$206,2,0)),\"\",IF(VLOOKUP(IF(I255<>0,I255,I254),入力シート!$B$7:$F$206,2,0)=0,\"\",VLOOKUP(IF(I255<>0,I255,I254),入力シート!$B$7:$F$206,2,0)))","v":""},{"$f":"IF(ISERROR(VLOOKUP(IF(J255<>0,J255,J254),入力シート!$B$7:$F$206,2,0)),\"\",IF(VLOOKUP(IF(J255<>0,J255,J254),入力シート!$B$7:$F$206,2,0)=0,\"\",VLOOKUP(IF(J255<>0,J255,J254),入力シート!$B$7:$F$206,2,0)))","v":""}]
[184,"名称",{"$f":"IF(ISERROR(VLOOKUP(IF(A256<>0,A256,A255),入力シート!$B$7:$F$206,2,0)),\"\",IF(VLOOKUP(IF(A256<>0,A256,A255),入力シート!$B$7:$F$206,2,0)=0,\"\",VLOOKUP(IF(A256<>0,A256,A255),入力シート!$B$7:$F$206,2,0)))","v":""},null,{"$f":"IF(ISERROR(VLOOKUP(IF(A256<>0,A256,A255),入力シート!$B$7:$F$206,4,0)),\"\",IF(VLOOKUP(IF(A256<>0,A256,A255),入力シート!$B$7:$F$206,4,0)=0,\"\",VLOOKUP(IF(A256<>0,A256,A255),入力シート!$B$7:$F$206,4,0)))","v":""},{"$f":"IF(ISERROR(VLOOKUP(IF(A256<>0,A256,A255),入力シート!$B$7:$F$206,5,0)),\"\",IF(VLOOKUP(IF(A256<>0,A256,A255),入力シート!$B$7:$F$206,5,0)=0,\"\",VLOOKUP(IF(A256<>0,A256,A255),入力シート!$B$7:$F$206,5,0)))","v":""},194,"名称",{"$f":"IF(ISERROR(VLOOKUP(IF(G256<>0,G256,G255),入力シート!$B$7:$F$206,2,0)),\"\",IF(VLOOKUP(IF(G256<>0,G256,G255),入力シート!$B$7:$F$206,2,0)=0,\"\",VLOOKUP(IF(G256<>0,G256,G255),入力シート!$B$7:$F$206,2,0)))","v":""},null,{"$f":"IF(ISERROR(VLOOKUP(IF(G256<>0,G256,G255),入力シート!$B$7:$F$206,4,0)),\"\",IF(VLOOKUP(IF(G256<>0,G256,G255),入力シート!$B$7:$F$206,4,0)=0,\"\",VLOOKUP(IF(G256<>0,G256,G255),入力シート!$B$7:$F$206,4,0)))","v":""},{"$f":"IF(ISERROR(VLOOKUP(IF(G256<>0,G256,G255),入力シート!$B$7:$F$206,5,0)),\"\",IF(VLOOKUP(IF(G256<>0,G256,G255),入力シート!$B$7:$F$206,5,0)=0,\"\",VLOOKUP(IF(G256<>0,G256,G255),入力シート!$B$7:$F$206,5,0)))","v":""}]
[null,"住所",{"$f":"IF(ISERROR(VLOOKUP(IF(A257<>0,A257,A256),入力シート!$B$7:$F$206,3,0)),\"\",IF(VLOOKUP(IF(A257<>0,A257,A256),入力シート!$B$7:$F$206,3,0)=0,\"\",VLOOKUP(IF(A257<>0,A257,A256),入力シート!$B$7:$F$206,3,0)))","v":""},null,{"$f":"IF(ISERROR(VLOOKUP(IF(C257<>0,C257,C256),入力シート!$B$7:$F$206,2,0)),\"\",IF(VLOOKUP(IF(C257<>0,C257,C256),入力シート!$B$7:$F$206,2,0)=0,\"\",VLOOKUP(IF(C257<>0,C257,C256),入力シート!$B$7:$F$206,2,0)))","v":""},{"$f":"IF(ISERROR(VLOOKUP(IF(D257<>0,D257,D256),入力シート!$B$7:$F$206,2,0)),\"\",IF(VLOOKUP(IF(D257<>0,D257,D256),入力シート!$B$7:$F$206,2,0)=0,\"\",VLOOKUP(IF(D257<>0,D257,D256),入力シート!$B$7:$F$206,2,0)))","v":""},null,"住所",{"$f":"IF(ISERROR(VLOOKUP(IF(G257<>0,G257,G256),入力シート!$B$7:$F$206,3,0)),\"\",IF(VLOOKUP(IF(G257<>0,G257,G256),入力シート!$B$7:$F$206,3,0)=0,\"\",VLOOKUP(IF(G257<>0,G257,G256),入力シート!$B$7:$F$206,3,0)))","v":""},null,{"$f":"IF(ISERROR(VLOOKUP(IF(I257<>0,I257,I256),入力シート!$B$7:$F$206,2,0)),\"\",IF(VLOOKUP(IF(I257<>0,I257,I256),入力シート!$B$7:$F$206,2,0)=0,\"\",VLOOKUP(IF(I257<>0,I257,I256),入力シート!$B$7:$F$206,2,0)))","v":""},{"$f":"IF(ISERROR(VLOOKUP(IF(J257<>0,J257,J256),入力シート!$B$7:$F$206,2,0)),\"\",IF(VLOOKUP(IF(J257<>0,J257,J256),入力シート!$B$7:$F$206,2,0)=0,\"\",VLOOKUP(IF(J257<>0,J257,J256),入力シート!$B$7:$F$206,2,0)))","v":""}]
[185,"名称",{"$f":"IF(ISERROR(VLOOKUP(IF(A258<>0,A258,A257),入力シート!$B$7:$F$206,2,0)),\"\",IF(VLOOKUP(IF(A258<>0,A258,A257),入力シート!$B$7:$F$206,2,0)=0,\"\",VLOOKUP(IF(A258<>0,A258,A257),入力シート!$B$7:$F$206,2,0)))","v":""},null,{"$f":"IF(ISERROR(VLOOKUP(IF(A258<>0,A258,A257),入力シート!$B$7:$F$206,4,0)),\"\",IF(VLOOKUP(IF(A258<>0,A258,A257),入力シート!$B$7:$F$206,4,0)=0,\"\",VLOOKUP(IF(A258<>0,A258,A257),入力シート!$B$7:$F$206,4,0)))","v":""},{"$f":"IF(ISERROR(VLOOKUP(IF(A258<>0,A258,A257),入力シート!$B$7:$F$206,5,0)),\"\",IF(VLOOKUP(IF(A258<>0,A258,A257),入力シート!$B$7:$F$206,5,0)=0,\"\",VLOOKUP(IF(A258<>0,A258,A257),入力シート!$B$7:$F$206,5,0)))","v":""},195,"名称",{"$f":"IF(ISERROR(VLOOKUP(IF(G258<>0,G258,G257),入力シート!$B$7:$F$206,2,0)),\"\",IF(VLOOKUP(IF(G258<>0,G258,G257),入力シート!$B$7:$F$206,2,0)=0,\"\",VLOOKUP(IF(G258<>0,G258,G257),入力シート!$B$7:$F$206,2,0)))","v":""},null,{"$f":"IF(ISERROR(VLOOKUP(IF(G258<>0,G258,G257),入力シート!$B$7:$F$206,4,0)),\"\",IF(VLOOKUP(IF(G258<>0,G258,G257),入力シート!$B$7:$F$206,4,0)=0,\"\",VLOOKUP(IF(G258<>0,G258,G257),入力シート!$B$7:$F$206,4,0)))","v":""},{"$f":"IF(ISERROR(VLOOKUP(IF(G258<>0,G258,G257),入力シート!$B$7:$F$206,5,0)),\"\",IF(VLOOKUP(IF(G258<>0,G258,G257),入力シート!$B$7:$F$206,5,0)=0,\"\",VLOOKUP(IF(G258<>0,G258,G257),入力シート!$B$7:$F$206,5,0)))","v":""}]
[null,"住所",{"$f":"IF(ISERROR(VLOOKUP(IF(A259<>0,A259,A258),入力シート!$B$7:$F$206,3,0)),\"\",IF(VLOOKUP(IF(A259<>0,A259,A258),入力シート!$B$7:$F$206,3,0)=0,\"\",VLOOKUP(IF(A259<>0,A259,A258),入力シート!$B$7:$F$206,3,0)))","v":""},null,{"$f":"IF(ISERROR(VLOOKUP(IF(C259<>0,C259,C258),入力シート!$B$7:$F$206,2,0)),\"\",IF(VLOOKUP(IF(C259<>0,C259,C258),入力シート!$B$7:$F$206,2,0)=0,\"\",VLOOKUP(IF(C259<>0,C259,C258),入力シート!$B$7:$F$206,2,0)))","v":""},{"$f":"IF(ISERROR(VLOOKUP(IF(D259<>0,D259,D258),入力シート!$B$7:$F$206,2,0)),\"\",IF(VLOOKUP(IF(D259<>0,D259,D258),入力シート!$B$7:$F$206,2,0)=0,\"\",VLOOKUP(IF(D259<>0,D259,D258),入力シート!$B$7:$F$206,2,0)))","v":""},null,"住所",{"$f":"IF(ISERROR(VLOOKUP(IF(G259<>0,G259,G258),入力シート!$B$7:$F$206,3,0)),\"\",IF(VLOOKUP(IF(G259<>0,G259,G258),入力シート!$B$7:$F$206,3,0)=0,\"\",VLOOKUP(IF(G259<>0,G259,G258),入力シート!$B$7:$F$206,3,0)))","v":""},null,{"$f":"IF(ISERROR(VLOOKUP(IF(I259<>0,I259,I258),入力シート!$B$7:$F$206,2,0)),\"\",IF(VLOOKUP(IF(I259<>0,I259,I258),入力シート!$B$7:$F$206,2,0)=0,\"\",VLOOKUP(IF(I259<>0,I259,I258),入力シート!$B$7:$F$206,2,0)))","v":""},{"$f":"IF(ISERROR(VLOOKUP(IF(J259<>0,J259,J258),入力シート!$B$7:$F$206,2,0)),\"\",IF(VLOOKUP(IF(J259<>0,J259,J258),入力シート!$B$7:$F$206,2,0)=0,\"\",VLOOKUP(IF(J259<>0,J259,J258),入力シート!$B$7:$F$206,2,0)))","v":""}]
[186,"名称",{"$f":"IF(ISERROR(VLOOKUP(IF(A260<>0,A260,A259),入力シート!$B$7:$F$206,2,0)),\"\",IF(VLOOKUP(IF(A260<>0,A260,A259),入力シート!$B$7:$F$206,2,0)=0,\"\",VLOOKUP(IF(A260<>0,A260,A259),入力シート!$B$7:$F$206,2,0)))","v":""},null,{"$f":"IF(ISERROR(VLOOKUP(IF(A260<>0,A260,A259),入力シート!$B$7:$F$206,4,0)),\"\",IF(VLOOKUP(IF(A260<>0,A260,A259),入力シート!$B$7:$F$206,4,0)=0,\"\",VLOOKUP(IF(A260<>0,A260,A259),入力シート!$B$7:$F$206,4,0)))","v":""},{"$f":"IF(ISERROR(VLOOKUP(IF(A260<>0,A260,A259),入力シート!$B$7:$F$206,5,0)),\"\",IF(VLOOKUP(IF(A260<>0,A260,A259),入力シート!$B$7:$F$206,5,0)=0,\"\",VLOOKUP(IF(A260<>0,A260,A259),入力シート!$B$7:$F$206,5,0)))","v":""},196,"名称",{"$f":"IF(ISERROR(VLOOKUP(IF(G260<>0,G260,G259),入力シート!$B$7:$F$206,2,0)),\"\",IF(VLOOKUP(IF(G260<>0,G260,G259),入力シート!$B$7:$F$206,2,0)=0,\"\",VLOOKUP(IF(G260<>0,G260,G259),入力シート!$B$7:$F$206,2,0)))","v":""},null,{"$f":"IF(ISERROR(VLOOKUP(IF(G260<>0,G260,G259),入力シート!$B$7:$F$206,4,0)),\"\",IF(VLOOKUP(IF(G260<>0,G260,G259),入力シート!$B$7:$F$206,4,0)=0,\"\",VLOOKUP(IF(G260<>0,G260,G259),入力シート!$B$7:$F$206,4,0)))","v":""},{"$f":"IF(ISERROR(VLOOKUP(IF(G260<>0,G260,G259),入力シート!$B$7:$F$206,5,0)),\"\",IF(VLOOKUP(IF(G260<>0,G260,G259),入力シート!$B$7:$F$206,5,0)=0,\"\",VLOOKUP(IF(G260<>0,G260,G259),入力シート!$B$7:$F$206,5,0)))","v":""}]
[null,"住所",{"$f":"IF(ISERROR(VLOOKUP(IF(A261<>0,A261,A260),入力シート!$B$7:$F$206,3,0)),\"\",IF(VLOOKUP(IF(A261<>0,A261,A260),入力シート!$B$7:$F$206,3,0)=0,\"\",VLOOKUP(IF(A261<>0,A261,A260),入力シート!$B$7:$F$206,3,0)))","v":""},null,{"$f":"IF(ISERROR(VLOOKUP(IF(C261<>0,C261,C260),入力シート!$B$7:$F$206,2,0)),\"\",IF(VLOOKUP(IF(C261<>0,C261,C260),入力シート!$B$7:$F$206,2,0)=0,\"\",VLOOKUP(IF(C261<>0,C261,C260),入力シート!$B$7:$F$206,2,0)))","v":""},{"$f":"IF(ISERROR(VLOOKUP(IF(D261<>0,D261,D260),入力シート!$B$7:$F$206,2,0)),\"\",IF(VLOOKUP(IF(D261<>0,D261,D260),入力シート!$B$7:$F$206,2,0)=0,\"\",VLOOKUP(IF(D261<>0,D261,D260),入力シート!$B$7:$F$206,2,0)))","v":""},null,"住所",{"$f":"IF(ISERROR(VLOOKUP(IF(G261<>0,G261,G260),入力シート!$B$7:$F$206,3,0)),\"\",IF(VLOOKUP(IF(G261<>0,G261,G260),入力シート!$B$7:$F$206,3,0)=0,\"\",VLOOKUP(IF(G261<>0,G261,G260),入力シート!$B$7:$F$206,3,0)))","v":""},null,{"$f":"IF(ISERROR(VLOOKUP(IF(I261<>0,I261,I260),入力シート!$B$7:$F$206,2,0)),\"\",IF(VLOOKUP(IF(I261<>0,I261,I260),入力シート!$B$7:$F$206,2,0)=0,\"\",VLOOKUP(IF(I261<>0,I261,I260),入力シート!$B$7:$F$206,2,0)))","v":""},{"$f":"IF(ISERROR(VLOOKUP(IF(J261<>0,J261,J260),入力シート!$B$7:$F$206,2,0)),\"\",IF(VLOOKUP(IF(J261<>0,J261,J260),入力シート!$B$7:$F$206,2,0)=0,\"\",VLOOKUP(IF(J261<>0,J261,J260),入力シート!$B$7:$F$206,2,0)))","v":""}]
[187,"名称",{"$f":"IF(ISERROR(VLOOKUP(IF(A262<>0,A262,A261),入力シート!$B$7:$F$206,2,0)),\"\",IF(VLOOKUP(IF(A262<>0,A262,A261),入力シート!$B$7:$F$206,2,0)=0,\"\",VLOOKUP(IF(A262<>0,A262,A261),入力シート!$B$7:$F$206,2,0)))","v":""},null,{"$f":"IF(ISERROR(VLOOKUP(IF(A262<>0,A262,A261),入力シート!$B$7:$F$206,4,0)),\"\",IF(VLOOKUP(IF(A262<>0,A262,A261),入力シート!$B$7:$F$206,4,0)=0,\"\",VLOOKUP(IF(A262<>0,A262,A261),入力シート!$B$7:$F$206,4,0)))","v":""},{"$f":"IF(ISERROR(VLOOKUP(IF(A262<>0,A262,A261),入力シート!$B$7:$F$206,5,0)),\"\",IF(VLOOKUP(IF(A262<>0,A262,A261),入力シート!$B$7:$F$206,5,0)=0,\"\",VLOOKUP(IF(A262<>0,A262,A261),入力シート!$B$7:$F$206,5,0)))","v":""},197,"名称",{"$f":"IF(ISERROR(VLOOKUP(IF(G262<>0,G262,G261),入力シート!$B$7:$F$206,2,0)),\"\",IF(VLOOKUP(IF(G262<>0,G262,G261),入力シート!$B$7:$F$206,2,0)=0,\"\",VLOOKUP(IF(G262<>0,G262,G261),入力シート!$B$7:$F$206,2,0)))","v":""},null,{"$f":"IF(ISERROR(VLOOKUP(IF(G262<>0,G262,G261),入力シート!$B$7:$F$206,4,0)),\"\",IF(VLOOKUP(IF(G262<>0,G262,G261),入力シート!$B$7:$F$206,4,0)=0,\"\",VLOOKUP(IF(G262<>0,G262,G261),入力シート!$B$7:$F$206,4,0)))","v":""},{"$f":"IF(ISERROR(VLOOKUP(IF(G262<>0,G262,G261),入力シート!$B$7:$F$206,5,0)),\"\",IF(VLOOKUP(IF(G262<>0,G262,G261),入力シート!$B$7:$F$206,5,0)=0,\"\",VLOOKUP(IF(G262<>0,G262,G261),入力シート!$B$7:$F$206,5,0)))","v":""}]
[null,"住所",{"$f":"IF(ISERROR(VLOOKUP(IF(A263<>0,A263,A262),入力シート!$B$7:$F$206,3,0)),\"\",IF(VLOOKUP(IF(A263<>0,A263,A262),入力シート!$B$7:$F$206,3,0)=0,\"\",VLOOKUP(IF(A263<>0,A263,A262),入力シート!$B$7:$F$206,3,0)))","v":""},null,{"$f":"IF(ISERROR(VLOOKUP(IF(C263<>0,C263,C262),入力シート!$B$7:$F$206,2,0)),\"\",IF(VLOOKUP(IF(C263<>0,C263,C262),入力シート!$B$7:$F$206,2,0)=0,\"\",VLOOKUP(IF(C263<>0,C263,C262),入力シート!$B$7:$F$206,2,0)))","v":""},{"$f":"IF(ISERROR(VLOOKUP(IF(D263<>0,D263,D262),入力シート!$B$7:$F$206,2,0)),\"\",IF(VLOOKUP(IF(D263<>0,D263,D262),入力シート!$B$7:$F$206,2,0)=0,\"\",VLOOKUP(IF(D263<>0,D263,D262),入力シート!$B$7:$F$206,2,0)))","v":""},null,"住所",{"$f":"IF(ISERROR(VLOOKUP(IF(G263<>0,G263,G262),入力シート!$B$7:$F$206,3,0)),\"\",IF(VLOOKUP(IF(G263<>0,G263,G262),入力シート!$B$7:$F$206,3,0)=0,\"\",VLOOKUP(IF(G263<>0,G263,G262),入力シート!$B$7:$F$206,3,0)))","v":""},null,{"$f":"IF(ISERROR(VLOOKUP(IF(I263<>0,I263,I262),入力シート!$B$7:$F$206,2,0)),\"\",IF(VLOOKUP(IF(I263<>0,I263,I262),入力シート!$B$7:$F$206,2,0)=0,\"\",VLOOKUP(IF(I263<>0,I263,I262),入力シート!$B$7:$F$206,2,0)))","v":""},{"$f":"IF(ISERROR(VLOOKUP(IF(J263<>0,J263,J262),入力シート!$B$7:$F$206,2,0)),\"\",IF(VLOOKUP(IF(J263<>0,J263,J262),入力シート!$B$7:$F$206,2,0)=0,\"\",VLOOKUP(IF(J263<>0,J263,J262),入力シート!$B$7:$F$206,2,0)))","v":""}]
[188,"名称",{"$f":"IF(ISERROR(VLOOKUP(IF(A264<>0,A264,A263),入力シート!$B$7:$F$206,2,0)),\"\",IF(VLOOKUP(IF(A264<>0,A264,A263),入力シート!$B$7:$F$206,2,0)=0,\"\",VLOOKUP(IF(A264<>0,A264,A263),入力シート!$B$7:$F$206,2,0)))","v":""},null,{"$f":"IF(ISERROR(VLOOKUP(IF(A264<>0,A264,A263),入力シート!$B$7:$F$206,4,0)),\"\",IF(VLOOKUP(IF(A264<>0,A264,A263),入力シート!$B$7:$F$206,4,0)=0,\"\",VLOOKUP(IF(A264<>0,A264,A263),入力シート!$B$7:$F$206,4,0)))","v":""},{"$f":"IF(ISERROR(VLOOKUP(IF(A264<>0,A264,A263),入力シート!$B$7:$F$206,5,0)),\"\",IF(VLOOKUP(IF(A264<>0,A264,A263),入力シート!$B$7:$F$206,5,0)=0,\"\",VLOOKUP(IF(A264<>0,A264,A263),入力シート!$B$7:$F$206,5,0)))","v":""},198,"名称",{"$f":"IF(ISERROR(VLOOKUP(IF(G264<>0,G264,G263),入力シート!$B$7:$F$206,2,0)),\"\",IF(VLOOKUP(IF(G264<>0,G264,G263),入力シート!$B$7:$F$206,2,0)=0,\"\",VLOOKUP(IF(G264<>0,G264,G263),入力シート!$B$7:$F$206,2,0)))","v":""},null,{"$f":"IF(ISERROR(VLOOKUP(IF(G264<>0,G264,G263),入力シート!$B$7:$F$206,4,0)),\"\",IF(VLOOKUP(IF(G264<>0,G264,G263),入力シート!$B$7:$F$206,4,0)=0,\"\",VLOOKUP(IF(G264<>0,G264,G263),入力シート!$B$7:$F$206,4,0)))","v":""},{"$f":"IF(ISERROR(VLOOKUP(IF(G264<>0,G264,G263),入力シート!$B$7:$F$206,5,0)),\"\",IF(VLOOKUP(IF(G264<>0,G264,G263),入力シート!$B$7:$F$206,5,0)=0,\"\",VLOOKUP(IF(G264<>0,G264,G263),入力シート!$B$7:$F$206,5,0)))","v":""}]
[null,"住所",{"$f":"IF(ISERROR(VLOOKUP(IF(A265<>0,A265,A264),入力シート!$B$7:$F$206,3,0)),\"\",IF(VLOOKUP(IF(A265<>0,A265,A264),入力シート!$B$7:$F$206,3,0)=0,\"\",VLOOKUP(IF(A265<>0,A265,A264),入力シート!$B$7:$F$206,3,0)))","v":""},null,{"$f":"IF(ISERROR(VLOOKUP(IF(C265<>0,C265,C264),入力シート!$B$7:$F$206,2,0)),\"\",IF(VLOOKUP(IF(C265<>0,C265,C264),入力シート!$B$7:$F$206,2,0)=0,\"\",VLOOKUP(IF(C265<>0,C265,C264),入力シート!$B$7:$F$206,2,0)))","v":""},{"$f":"IF(ISERROR(VLOOKUP(IF(D265<>0,D265,D264),入力シート!$B$7:$F$206,2,0)),\"\",IF(VLOOKUP(IF(D265<>0,D265,D264),入力シート!$B$7:$F$206,2,0)=0,\"\",VLOOKUP(IF(D265<>0,D265,D264),入力シート!$B$7:$F$206,2,0)))","v":""},null,"住所",{"$f":"IF(ISERROR(VLOOKUP(IF(G265<>0,G265,G264),入力シート!$B$7:$F$206,3,0)),\"\",IF(VLOOKUP(IF(G265<>0,G265,G264),入力シート!$B$7:$F$206,3,0)=0,\"\",VLOOKUP(IF(G265<>0,G265,G264),入力シート!$B$7:$F$206,3,0)))","v":""},null,{"$f":"IF(ISERROR(VLOOKUP(IF(I265<>0,I265,I264),入力シート!$B$7:$F$206,2,0)),\"\",IF(VLOOKUP(IF(I265<>0,I265,I264),入力シート!$B$7:$F$206,2,0)=0,\"\",VLOOKUP(IF(I265<>0,I265,I264),入力シート!$B$7:$F$206,2,0)))","v":""},{"$f":"IF(ISERROR(VLOOKUP(IF(J265<>0,J265,J264),入力シート!$B$7:$F$206,2,0)),\"\",IF(VLOOKUP(IF(J265<>0,J265,J264),入力シート!$B$7:$F$206,2,0)=0,\"\",VLOOKUP(IF(J265<>0,J265,J264),入力シート!$B$7:$F$206,2,0)))","v":""}]
[189,"名称",{"$f":"IF(ISERROR(VLOOKUP(IF(A266<>0,A266,A265),入力シート!$B$7:$F$206,2,0)),\"\",IF(VLOOKUP(IF(A266<>0,A266,A265),入力シート!$B$7:$F$206,2,0)=0,\"\",VLOOKUP(IF(A266<>0,A266,A265),入力シート!$B$7:$F$206,2,0)))","v":""},null,{"$f":"IF(ISERROR(VLOOKUP(IF(A266<>0,A266,A265),入力シート!$B$7:$F$206,4,0)),\"\",IF(VLOOKUP(IF(A266<>0,A266,A265),入力シート!$B$7:$F$206,4,0)=0,\"\",VLOOKUP(IF(A266<>0,A266,A265),入力シート!$B$7:$F$206,4,0)))","v":""},{"$f":"IF(ISERROR(VLOOKUP(IF(A266<>0,A266,A265),入力シート!$B$7:$F$206,5,0)),\"\",IF(VLOOKUP(IF(A266<>0,A266,A265),入力シート!$B$7:$F$206,5,0)=0,\"\",VLOOKUP(IF(A266<>0,A266,A265),入力シート!$B$7:$F$206,5,0)))","v":""},199,"名称",{"$f":"IF(ISERROR(VLOOKUP(IF(G266<>0,G266,G265),入力シート!$B$7:$F$206,2,0)),\"\",IF(VLOOKUP(IF(G266<>0,G266,G265),入力シート!$B$7:$F$206,2,0)=0,\"\",VLOOKUP(IF(G266<>0,G266,G265),入力シート!$B$7:$F$206,2,0)))","v":""},null,{"$f":"IF(ISERROR(VLOOKUP(IF(G266<>0,G266,G265),入力シート!$B$7:$F$206,4,0)),\"\",IF(VLOOKUP(IF(G266<>0,G266,G265),入力シート!$B$7:$F$206,4,0)=0,\"\",VLOOKUP(IF(G266<>0,G266,G265),入力シート!$B$7:$F$206,4,0)))","v":""},{"$f":"IF(ISERROR(VLOOKUP(IF(G266<>0,G266,G265),入力シート!$B$7:$F$206,5,0)),\"\",IF(VLOOKUP(IF(G266<>0,G266,G265),入力シート!$B$7:$F$206,5,0)=0,\"\",VLOOKUP(IF(G266<>0,G266,G265),入力シート!$B$7:$F$206,5,0)))","v":""}]
[null,"住所",{"$f":"IF(ISERROR(VLOOKUP(IF(A267<>0,A267,A266),入力シート!$B$7:$F$206,3,0)),\"\",IF(VLOOKUP(IF(A267<>0,A267,A266),入力シート!$B$7:$F$206,3,0)=0,\"\",VLOOKUP(IF(A267<>0,A267,A266),入力シート!$B$7:$F$206,3,0)))","v":""},null,{"$f":"IF(ISERROR(VLOOKUP(IF(C267<>0,C267,C266),入力シート!$B$7:$F$206,2,0)),\"\",IF(VLOOKUP(IF(C267<>0,C267,C266),入力シート!$B$7:$F$206,2,0)=0,\"\",VLOOKUP(IF(C267<>0,C267,C266),入力シート!$B$7:$F$206,2,0)))","v":""},{"$f":"IF(ISERROR(VLOOKUP(IF(D267<>0,D267,D266),入力シート!$B$7:$F$206,2,0)),\"\",IF(VLOOKUP(IF(D267<>0,D267,D266),入力シート!$B$7:$F$206,2,0)=0,\"\",VLOOKUP(IF(D267<>0,D267,D266),入力シート!$B$7:$F$206,2,0)))","v":""},null,"住所",{"$f":"IF(ISERROR(VLOOKUP(IF(G267<>0,G267,G266),入力シート!$B$7:$F$206,3,0)),\"\",IF(VLOOKUP(IF(G267<>0,G267,G266),入力シート!$B$7:$F$206,3,0)=0,\"\",VLOOKUP(IF(G267<>0,G267,G266),入力シート!$B$7:$F$206,3,0)))","v":""},null,{"$f":"IF(ISERROR(VLOOKUP(IF(I267<>0,I267,I266),入力シート!$B$7:$F$206,2,0)),\"\",IF(VLOOKUP(IF(I267<>0,I267,I266),入力シート!$B$7:$F$206,2,0)=0,\"\",VLOOKUP(IF(I267<>0,I267,I266),入力シート!$B$7:$F$206,2,0)))","v":""},{"$f":"IF(ISERROR(VLOOKUP(IF(J267<>0,J267,J266),入力シート!$B$7:$F$206,2,0)),\"\",IF(VLOOKUP(IF(J267<>0,J267,J266),入力シート!$B$7:$F$206,2,0)=0,\"\",VLOOKUP(IF(J267<>0,J267,J266),入力シート!$B$7:$F$206,2,0)))","v":""}]
[190,"名称",{"$f":"IF(ISERROR(VLOOKUP(IF(A268<>0,A268,A267),入力シート!$B$7:$F$206,2,0)),\"\",IF(VLOOKUP(IF(A268<>0,A268,A267),入力シート!$B$7:$F$206,2,0)=0,\"\",VLOOKUP(IF(A268<>0,A268,A267),入力シート!$B$7:$F$206,2,0)))","v":""},null,{"$f":"IF(ISERROR(VLOOKUP(IF(A268<>0,A268,A267),入力シート!$B$7:$F$206,4,0)),\"\",IF(VLOOKUP(IF(A268<>0,A268,A267),入力シート!$B$7:$F$206,4,0)=0,\"\",VLOOKUP(IF(A268<>0,A268,A267),入力シート!$B$7:$F$206,4,0)))","v":""},{"$f":"IF(ISERROR(VLOOKUP(IF(A268<>0,A268,A267),入力シート!$B$7:$F$206,5,0)),\"\",IF(VLOOKUP(IF(A268<>0,A268,A267),入力シート!$B$7:$F$206,5,0)=0,\"\",VLOOKUP(IF(A268<>0,A268,A267),入力シート!$B$7:$F$206,5,0)))","v":""},200,"名称",{"$f":"IF(ISERROR(VLOOKUP(IF(G268<>0,G268,G267),入力シート!$B$7:$F$206,2,0)),\"\",IF(VLOOKUP(IF(G268<>0,G268,G267),入力シート!$B$7:$F$206,2,0)=0,\"\",VLOOKUP(IF(G268<>0,G268,G267),入力シート!$B$7:$F$206,2,0)))","v":""},null,{"$f":"IF(ISERROR(VLOOKUP(IF(G268<>0,G268,G267),入力シート!$B$7:$F$206,4,0)),\"\",IF(VLOOKUP(IF(G268<>0,G268,G267),入力シート!$B$7:$F$206,4,0)=0,\"\",VLOOKUP(IF(G268<>0,G268,G267),入力シート!$B$7:$F$206,4,0)))","v":""},{"$f":"IF(ISERROR(VLOOKUP(IF(G268<>0,G268,G267),入力シート!$B$7:$F$206,5,0)),\"\",IF(VLOOKUP(IF(G268<>0,G268,G267),入力シート!$B$7:$F$206,5,0)=0,\"\",VLOOKUP(IF(G268<>0,G268,G267),入力シート!$B$7:$F$206,5,0)))","v":""}]
[null,"住所",{"$f":"IF(ISERROR(VLOOKUP(IF(A269<>0,A269,A268),入力シート!$B$7:$F$206,3,0)),\"\",IF(VLOOKUP(IF(A269<>0,A269,A268),入力シート!$B$7:$F$206,3,0)=0,\"\",VLOOKUP(IF(A269<>0,A269,A268),入力シート!$B$7:$F$206,3,0)))","v":""},null,{"$f":"IF(ISERROR(VLOOKUP(IF(C269<>0,C269,C268),入力シート!$B$7:$F$206,2,0)),\"\",IF(VLOOKUP(IF(C269<>0,C269,C268),入力シート!$B$7:$F$206,2,0)=0,\"\",VLOOKUP(IF(C269<>0,C269,C268),入力シート!$B$7:$F$206,2,0)))","v":""},{"$f":"IF(ISERROR(VLOOKUP(IF(D269<>0,D269,D268),入力シート!$B$7:$F$206,2,0)),\"\",IF(VLOOKUP(IF(D269<>0,D269,D268),入力シート!$B$7:$F$206,2,0)=0,\"\",VLOOKUP(IF(D269<>0,D269,D268),入力シート!$B$7:$F$206,2,0)))","v":""},null,"住所",{"$f":"IF(ISERROR(VLOOKUP(IF(G269<>0,G269,G268),入力シート!$B$7:$F$206,3,0)),\"\",IF(VLOOKUP(IF(G269<>0,G269,G268),入力シート!$B$7:$F$206,3,0)=0,\"\",VLOOKUP(IF(G269<>0,G269,G268),入力シート!$B$7:$F$206,3,0)))","v":""},null,{"$f":"IF(ISERROR(VLOOKUP(IF(I269<>0,I269,I268),入力シート!$B$7:$F$206,2,0)),\"\",IF(VLOOKUP(IF(I269<>0,I269,I268),入力シート!$B$7:$F$206,2,0)=0,\"\",VLOOKUP(IF(I269<>0,I269,I268),入力シート!$B$7:$F$206,2,0)))","v":""},{"$f":"IF(ISERROR(VLOOKUP(IF(J269<>0,J269,J268),入力シート!$B$7:$F$206,2,0)),\"\",IF(VLOOKUP(IF(J269<>0,J269,J268),入力シート!$B$7:$F$206,2,0)=0,\"\",VLOOKUP(IF(J269<>0,J269,J268),入力シート!$B$7:$F$206,2,0)))","v":""}]
["（注）","1.本名簿には、配送事業者がＬＰガス配送を受託しているＬＰガス販売事業者をすべて記入する。",null,null,null,null,null,"小　　計（このページの合計）",null,null,{"$f":"SUM(E250:E269,K250:K269)","v":0},{"$f":"SUM(F250:F269,L250:L269)","v":0}]
[null,"2.ＬＰガス配送受託販売所の名称欄には企業名、販売所名を明記し、住所欄には当該販売所の住所を記入する。"]
[null,"3.保険契約加入依頼の際、依頼書に本名簿（保険会社用、事業団用、都道府県協会用）を添付して提出する。"]
[null,"4.支部が事業団に加入依頼書を送付する際、２部（保険会社用、事業団用）を添付する。"]

{"sheet":"事業団用","index":2,"n_rows":273,"n_cols":13,"rows_kept":273,"cut":false,"hidden":false,"merged":[[271,7,272,9],[271,10,272,10],[271,11,272,11],[267,10,268,10],[267,11,268,11],[268,2,268,3],[268,8,268,9],[269,7,270,9],[269,10,270,10],[269,11,270,11],[265,10,266,10],[265,11,266,11],[266,2,266,3],[266,8,266,9],[267,0,268,0],[267,2,267,3],[267,4,268,4],[267,5,268,5],[267,6,268,6],[267,8,267,9],[263,10,264,10],[263,11,264,11],[264,2,264,3],[264,8,264,9],[265,0,266,0],[265,2,265,3],[265,4,266,4],[265,5,266,5],[265,6,266,6],[265,8,265,9],[261,10,262,10],[261,11,262,11],[262,2,262,3],[262,8,262,9],[263,0,264,0],[263,2,263,3],[263,4,264,4],[263,5,264,5],[263,6,264,6],[263,8,263,9],[259,10,260,10],[259,11,260,11],[260,2,260,3],[260,8,260,9],[261,0,262,0],[261,2,261,3],[261,4,262,4],[261,5,262,5],[261,6,262,6],[261,8,261,9],[257,10,258,10],[257,11,258,11],[258,2,258,3],[258,8,258,9],[259,0,260,0],[259,2,259,3],[259,4,260,4],[259,5,260,5],[259,6,260,6],[259,8,259,9],[255,10,256,10],[255,11,256,11],[256,2,256,3],[256,8,256,9],[257,0,258,0],[257,2,257,3],[257,4,258,4],[257,5,258,5],[257,6,258,6],[257,8,257,9],[253,10,254,10],[253,11,254,11],[254,2,254,3],[254,8,254,9],[255,0,256,0],[255,2,255,3],[255,4,256,4],[255,5,256,5],[255,6,256,6],[255,8,255,9],[251,10,252,10],[251,11,252,11],[252,2,252,3],[252,8,252,9],[253,0,254,0],[253,2,253,3],[253,4,254,4],[253,5,254,5],[253,6,254,6],[253,8,253,9],[249,10,250,10],[249,11,250,11],[250,2,250,3],[250,8,250,9],[251,0,252,0],[251,2,251,3],[251,4,252,4],[251,5,252,5],[251,6,252,6],[251,8,251,9],[248,0,248,2],[248,6,248,8],[249,0,250,0],[249,2,249,3],[249,4,250,4],[249,5,250,5],[249,6,250,6],[249,8,249,9],[244,7,245,9],[244,10,245,10],[244,11,245,11],[246,0,246,2],[246,5,246,9],[247,0,247,2],[247,4,247,5],[247,6,247,8],[247,10,247,11],[240,10,241,10],[240,11,241,11],[241,2,241,3],[241,8,241,9],[242,7,243,9],[242,10,243,10],[242,11,243,11],[238,10,239,10],[238,11,239,11],[239,2,239,3],[239,8,239,9],[240,0,241,0],[240,2,240,3],[240,4,241,4],[240,5,241,5],[240,6,241,6],[240,8,240,9],[236,10,237,10],[236,11,237,11],[237,2,237,3],[237,8,237,9],[238,0,239,0],[238,2,238,3],[238,4,239,4],[238,5,239,5],[238,6,239,6],[238,8,238,9],[234,10,235,10],[234,11,235,11],[235,2,235,3],[235,8,235,9],[236,0,237,0],[236,2,236,3],[236,4,237,4],[236,5,237,5],[236,6,237,6],[236,8,236,9],[232,10,233,10],[232,11,233,11],[233,2,233,3],[233,8,233,9],[234,0,235,0],[234,2,234,3],[234,4,235,4],[234,5,235,5],[234,6,235,6],[234,8,234,9],[230,10,231,10],[230,11,231,11],[231,2,231,3],[231,8,231,9],[232,0,233,0],[232,2,232,3],[232,4,233,4],[232,5,233,5],[232,6,233,6],[232,8,232,9],[228,10,229,10],[228,11,229,11],[229,2,229,3],[229,8,229,9],[230,0,231,0],[230,2,230,3],[230,4,231,4],[230,5,231,5],[230,6,231,6],[230,8,230,9],[226,10,227,10],[226,11,227,11],[227,2,227,3],[227,8,227,9],[228,0,229,0],[228,2,228,3],[228,4,229,4],[228,5,229,5],[228,6,229,6],[228,8,228,9],[224,10,225,10],[224,11,225,11],[225,2,225,3],[225,8,225,9],[226,0,227,0],[226,2,226,3],[226,4,227,4],[226,5,227,5],[226,6,227,6],[226,8,226,9],[222,10,223,10],[222,11,223,11],[223,2,223,3],[223,8,223,9],[224,0,225,0],[224,2,224,3],[224,4,225,4],[224,5,225,5],[224,6,225,6],[224,8,224,9],[221,0,221,2],[221,6,221,8],[222,0,223,0],[222,2,222,3],[222,4,223,4],[222,5,223,5],[222,6,223,6],[222,8,222,9],[217,7,218,9],[217,10,218,10],[217,11,218,11],[219,0,219,2],[219,5,219,9],[220,0,220,2],[220,4,220,5],[220,6,220,8],[220,10,220,11],[213,10,214,10],[213,11,214,11],[214,2,214,3],[214,8,214,9],[215,7,216,9],[215,10,216,10],[215,11,216,11],[211,10,212,10],[211,11,212,11],[212,2,212,3],[212,8,212,9],[213,0,214,0],[213,2,213,3],[213,4,214,4],[213,5,214,5],[213,6,214,6],[213,8,213,9],[209,10,210,10],[209,11,210,11],[210,2,210,3],[210,8,210,9],[211,0,212,0],[211,2,211,3],[211,4,212,4],[211,5,212,5],[211,6,212,6],[211,8,211,9],[207,10,208,10],[207,11,208,11],[208,2,208,3],[208,8,208,9],[209,0,210,0],[209,2,209,3],[209,4,210,4],[209,5,210,5],[209,6,210,6],[209,8,209,9],[205,10,206,10],[205,11,206,11],[206,2,206,3],[206,8,206,9],[207,0,208,0],[207,2,207,3],[207,4,208,4],[207,5,208,5],[207,6,208,6],[207,8,207,9],[203,10,204,10],[203,11,204,11],[204,2,204,3],[204,8,204,9],[205,0,206,0],[205,2,205,3],[205,4,206,4],[205,5,206,5],[205,6,206,6],[205,8,205,9],[201,10,202,10],[201,11,202,11],[202,2,202,3],[202,8,202,9],[203,0,204,0],[203,2,203,3],[203,4,204,4],[203,5,204,5],[203,6,204,6],[203,8,203,9],[199,10,200,10],[199,11,200,11],[200,2,200,3],[200,8,200,9],[201,0,202,0],[201,2,201,3],[201,4,202,4],[201,5,202,5],[201,6,202,6],[201,8,201,9],[197,10,198,10],[197,11,198,11],[198,2,198,3],[198,8,198,9],[199,0,200,0],[199,2,199,3],[199,4,200,4],[199,5,200,5],[199,6,200,6],[199,8,199,9],[195,10,196,10],[195,11,196,11],[196,2,196,3],[196,8,196,9],[197,0,198,0],[197,2,197,3],[197,4,198,4],[197,5,198,5],[197,6,198,6],[197,8,197,9],[194,0,194,2],[194,6,194,8],[195,0,196,0],[195,2,195,3],[195,4,196,4],[195,5,196,5],[195,6,196,6],[195,8,195,9],[190,7,191,9],[190,10,191,10],[190,11,191,11],[192,0,192,2],[192,5,192,9],[193,0,193,2],[193,4,193,5],[193,6,193,8],[193,10,193,11],[186,10,187,10],[186,11,187,11],[187,2,187,3],[187,8,187,9],[188,7,189,9],[188,10,189,10],[188,11,189,11],[184,10,185,10],[184,11,185,11],[185,2,185,3],[185,8,185,9],[186,0,187,0],[186,2,186,3],[186,4,187,4],[186,5,187,5],[186,6,187,6],[186,8,186,9],[182,10,183,10],[182,11,183,11],[183,2,183,3],[183,8,183,9],[184,0,185,0],[184,2,184,3],[184,4,185,4],[184,5,185,5],[184,6,185,6],[184,8,184,9],[180,10,181,10],[180,11,181,11],[181,2,181,3],[181,8,181,9],[182,0,183,0],[182,2,182,3],[182,4,183,4],[182,5,183,5],[182,6,183,6],[182,8,182,9],[178,10,179,10],[178,11,179,11],[179,2,179,3],[179,8,179,9],[180,0,181,0],[180,2,180,3],[180,4,181,4],[180,5,181,5],[180,6,181,6],[180,8,180,9],[176,10,177,10],[176,11,177,11],[177,2,177,3],[177,8,177,9],[178,0,179,0],[178,2,178,3],[178,4,179,4],[178,5,179,5],[178,6,179,6],[178,8,178,9],[174,10,175,10],[174,11,175,11],[175,2,175,3],[175,8,175,9],[176,0,177,0],[176,2,176,3],[176,4,177,4],[176,5,177,5],[176,6,177,6],[176,8,176,9],[172,10,173,10],[172,11,173,11],[173,2,173,3],[173,8,173,9],[174,0,175,0],[174,2,174,3],[174,4,175,4],[174,5,175,5],[174,6,175,6],[174,8,174,9],[170,10,171,10],[170,11,171,11],[171,2,171,3],[171,8,171,9],[172,0,173,0],[172,2,172,3],[172,4,173,4],[172,5,173,5],[172,6,173,6],[172,8,172,9],[168,10,169,10],[168,11,169,11],[169,2,169,3],[169,8,169,9],[170,0,171,0],[170,2,170,3],[170,4,171,4],[170,5,171,5],[170,6,171,6],[170,8,170,9],[167,0,167,2],[167,6,167,8],[168,0,169,0],[168,2,168,3],[168,4,169,4],[168,5,169,5],[168,6,169,6],[168,8,168,9],[163,7,164,9],[163,10,164,10],[163,11,164,11],[165,0,165,2],[165,5,165,9],[166,0,166,2],[166,4,166,5],[166,6,166,8],[166,10,166,11],[159,10,160,10],[159,11,160,11],[160,2,160,3],[160,8,160,9],[161,7,162,9],[161,10,162,10],[161,11,162,11],[157,10,158,10],[157,11,158,11],[158,2,158,3],[158,8,158,9],[159,0,160,0],[159,2,159,3],[159,4,160,4],[159,5,160,5],[159,6,160,6],[159,8,159,9],[155,10,156,10],[155,11,156,11],[156,2,156,3],[156,8,156,9],[157,0,158,0],[157,2,157,3],[157,4,158,4],[157,5,158,5],[157,6,158,6],[157,8,157,9],[153,10,154,10],[153,11,154,11],[154,2,154,3],[154,8,154,9],[155,0,156,0],[155,2,155,3],[155,4,156,4],[155,5,156,5],[155,6,156,6],[155,8,155,9],[151,10,152,10],[151,11,152,11],[152,2,152,3],[152,8,152,9],[153,0,154,0],[153,2,153,3],[153,4,154,4],[153,5,154,5],[153,6,154,6],[153,8,153,9],[149,10,150,10],[149,11,150,11],[150,2,150,3],[150,8,150,9],[151,0,152,0],[151,2,151,3],[151,4,152,4],[151,5,152,5],[151,6,152,6],[151,8,151,9],[147,10,148,10],[147,11,148,11],[148,2,148,3],[148,8,148,9],[149,0,150,0],[149,2,149,3],[149,4,150,4],[149,5,150,5],[149,6,150,6],[149,8,149,9],[145,10,146,10],[145,11,146,11],[146,2,146,3],[146,8,146,9],[147,0,148,0],[147,2,147,3],[147,4,148,4],[147,5,148,5],[147,6,148,6],[147,8,147,9],[143,10,144,10],[143,11,144,11],[144,2,144,3],[144,8,144,9],[145,0,146,0],[145,2,145,3],[145,4,146,4],[145,5,146,5],[145,6,146,6],[145,8,145,9],[141,10,142,10],[141,11,142,11],[142,2,142,3],[142,8,142,9],[143,0,144,0],[143,2,143,3],[143,4,144,4],[143,5,144,5],[143,6,144,6],[143,8,143,9],[140,0,140,2],[140,6,140,8],[141,0,142,0],[141,2,141,3],[141,4,142,4],[141,5,142,5],[141,6,142,6],[141,8,141,9],[136,7,137,9],[136,10,137,10],[136,11,137,11],[138,0,138,2],[138,5,138,9],[139,0,139,2],[139,4,139,5],[139,6,139,8],[139,10,139,11],[132,10,133,10],[132,11,133,11],[133,2,133,3],[133,8,133,9],[134,7,135,9],[134,10,135,10],[134,11,135,11],[130,10,131,10],[130,11,131,11],[131,2,131,3],[131,8,131,9],[132,0,133,0],[132,2,132,3],[132,4,133,4],[132,5,133,5],[132,6,133,6],[132,8,132,9],[128,10,129,10],[128,11,129,11],[129,2,129,3],[129,8,129,9],[130,0,131,0],[130,2,130,3],[130,4,131,4],[130,5,131,5],[130,6,131,6],[130,8,130,9],[126,10,127,10],[126,11,127,11],[127,2,127,3],[127,8,127,9],[128,0,129,0],[128,2,128,3],[128,4,129,4],[128,5,129,5],[128,6,129,6],[128,8,128,9],[124,10,125,10],[124,11,125,11],[125,2,125,3],[125,8,125,9],[126,0,127,0],[126,2,126,3],[126,4,127,4],[126,5,127,5],[126,6,127,6],[126,8,126,9],[122,10,123,10],[122,11,123,11],[123,2,123,3],[123,8,123,9],[124,0,125,0],[124,2,124,3],[124,4,125,4],[124,5,125,5],[124,6,125,6],[124,8,124,9],[120,10,121,10],[120,11,121,11],[121,2,121,3],[121,8,121,9],[122,0,123,0],[122,2,122,3],[122,4,123,4],[122,5,123,5],[122,6,123,6],[122,8,122,9],[118,10,119,10],[118,11,119,11],[119,2,119,3],[119,8,119,9],[120,0,121,0],[120,2,120,3],[120,4,121,4],[120,5,121,5],[120,6,121,6],[120,8,120,9],[116,10,117,10],[116,11,117,11],[117,2,117,3],[117,8,117,9],[118,0,119,0],[118,2,118,3],[118,4,119,4],[118,5,119,5],[118,6,119,6],[118,8,118,9],[114,10,115,10],[114,11,115,11],[115,2,115,3],[115,8,115,9],[116,0,117,0],[116,2,116,3],[116,4,117,4],[116,5,117,5],[116,6,117,6],[116,8,116,9],[113,0,113,2],[113,6,113,8],[114,0,115,0],[114,2,114,3],[114,4,115,4],[114,5,115,5],[114,6,115,6],[114,8,114,9],[109,7,110,9],[109,10,110,10],[109,11,110,11],[111,0,111,2],[111,5,111,9],[112,0,112,2],[112,4,112,5],[112,6,112,8],[112,10,112,11],[105,10,106,10],[105,11,106,11],[106,2,106,3],[106,8,106,9],[107,7,108,9],[107,10,108,10],[107,11,108,11],[103,10,104,10],[103,11,104,11],[104,2,104,3],[104,8,104,9],[105,0,106,0],[105,2,105,3],[105,4,106,4],[105,5,106,5],[105,6,106,6],[105,8,105,9],[101,10,102,10],[101,11,102,11],[102,2,102,3],[102,8,102,9],[103,0,104,0],[103,2,103,3],[103,4,104,4],[103,5,104,5],[103,6,104,6],[103,8,103,9],[99,10,100,10],[99,11,100,11],[100,2,100,3],[100,8,100,9],[101,0,102,0],[101,2,101,3],[101,4,102,4],[101,5,102,5],[101,6,102,6],[101,8,101,9],[97,10,98,10],[97,11,98,11],[98,2,98,3],[98,8,98,9],[99,0,100,0],[99,2,99,3],[99,4,100,4],[99,5,100,5],[99,6,100,6],[99,8,99,9],[95,10,96,10],[95,11,96,11],[96,2,96,3],[96,8,96,9],[97,0,98,0],[97,2,97,3],[97,4,98,4],[97,5,98,5],[97,6,98,6],[97,8,97,9],[93,10,94,10],[93,11,94,11],[94,2,94,3],[94,8,94,9],[95,0,96,0],[95,2,95,3],[95,4,96,4],[95,5,96,5],[95,6,96,6],[95,8,95,9],[91,10,92,10],[91,11,92,11],[92,2,92,3],[92,8,92,9],[93,0,94,0],[93,2,93,3],[93,4,94,4],[93,5,94,5],[93,6,94,6],[93,8,93,9],[89,10,90,10],[89,11,90,11],[90,2,90,3],[90,8,90,9],[91,0,92,0],[91,2,91,3],[91,4,92,4],[91,5,92,5],[91,6,92,6],[91,8,91,9],[87,10,88,10],[87,11,88,11],[88,2,88,3],[88,8,88,9],[89,0,90,0],[89,2,89,3],[89,4,90,4],[89,5,90,5],[89,6,90,6],[89,8,89,9],[86,0,86,2],[86,6,86,8],[87,0,88,0],[87,2,87,3],[87,4,88,4],[87,5,88,5],[87,6,88,6],[87,8,87,9],[82,7,83,9],[82,10,83,10],[82,11,83,11],[84,0,84,2],[84,5,84,9],[85,0,85,2],[85,4,85,5],[85,6,85,8],[85,10,85,11],[78,10,79,10],[78,11,79,11],[79,2,79,3],[79,8,79,9],[80,7,81,9],[80,10,81,10],[80,11,81,11],[76,10,77,10],[76,11,77,11],[77,2,77,3],[77,8,77,9],[78,0,79,0],[78,2,78,3],[78,4,79,4],[78,5,79,5],[78,6,79,6],[78,8,78,9],[74,10,75,10],[74,11,75,11],[75,2,75,3],[75,8,75,9],[76,0,77,0],[76,2,76,3],[76,4,77,4],[76,5,77,5],[76,6,77,6],[76,8,76,9],[72,10,73,10],[72,11,73,11],[73,2,73,3],[73,8,73,9],[74,0,75,0],[74,2,74,3],[74,4,75,4],[74,5,75,5],[74,6,75,6],[74,8,74,9],[70,10,71,10],[70,11,71,11],[71,2,71,3],[71,8,71,9],[72,0,73,0],[72,2,72,3],[72,4,73,4],[72,5,73,5],[72,6,73,6],[72,8,72,9],[68,10,69,10],[68,11,69,11],[69,2,69,3],[69,8,69,9],[70,0,71,0],[70,2,70,3],[70,4,71,4],[70,5,71,5],[70,6,71,6],[70,8,70,9],[66,10,67,10],[66,11,67,11],[67,2,67,3],[67,8,67,9],[68,0,69,0],[68,2,68,3],[68,4,69,4],[68,5,69,5],[68,6,69,6],[68,8,68,9],[64,10,65,10],[64,11,65,11],[65,2,65,3],[65,8,65,9],[66,0,67,0],[66,2,66,3],[66,4,67,4],[66,5,67,5],[66,6,67,6],[66,8,66,9],[62,10,63,10],[62,11,63,11],[63,2,63,3],[63,8,63,9],[64,0,65,0],[64,2,64,3],[64,4,65,4],[64,5,65,5],[64,6,65,6],[64,8,64,9],[60,10,61,10],[60,11,61,11],[61,2,61,3],[61,8,61,9],[62,0,63,0],[62,2,62,3],[62,4,63,4],[62,5,63,5],[62,6,63,6],[62,8,62,9],[59,0,59,2],[59,6,59,8],[60,0,61,0],[60,2,60,3],[60,4,61,4],[60,5,61,5],[60,6,61,6],[60,8,60,9],[55,7,56,9],[55,10,56,10],[55,11,56,11],[57,0,57,2],[57,5,57,9],[58,0,58,2],[58,4,58,5],[58,6,58,8],[58,10,58,11],[51,10,52,10],[51,11,52,11],[52,2,52,3],[52,8,52,9],[53,7,54,9],[53,10,54,10],[53,11,54,11],[49,10,50,10],[49,11,50,11],[50,2,50,3],[50,8,50,9],[51,0,52,0],[51,2,51,3],[51,4,52,4],[51,5,52,5],[51,6,52,6],[51,8,51,9],[47,10,48,10],[47,11,48,11],[48,2,48,3],[48,8,48,9],[49,0,50,0],[49,2,49,3],[49,4,50,4],[49,5,50,5],[49,6,50,6],[49,8,49,9],[45,10,46,10],[45,11,46,11],[46,2,46,3],[46,8,46,9],[47,0,48,0],[47,2,47,3],[47,4,48,4],[47,5,48,5],[47,6,48,6],[47,8,47,9],[43,10,44,10],[43,11,44,11],[44,2,44,3],[44,8,44,9],[45,0,46,0],[45,2,45,3],[45,4,46,4],[45,5,46,5],[45,6,46,6],[45,8,45,9],[41,10,42,10],[41,11,42,11],[42,2,42,3],[42,8,42,9],[43,0,44,0],[43,2,43,3],[43,4,44,4],[43,5,44,5],[43,6,44,6],[43,8,43,9],[39,10,40,10],[39,11,40,11],[40,2,40,3],[40,8,40,9],[41,0,42,0],[41,2,41,3],[41,4,42,4],[41,5,42,5],[41,6,42,6],[41,8,41,9],[37,10,38,10],[37,11,38,11],[38,2,38,3],[38,8,38,9],[39,0,40,0],[39,2,39,3],[39,4,40,4],[39,5,40,5],[39,6,40,6],[39,8,39,9],[35,10,36,10],[35,11,36,11],[36,2,36,3],[36,8,36,9],[37,0,38,0],[37,2,37,3],[37,4,38,4],[37,5,38,5]],"merged_total":1143,"flags":["merged_cut"]}
[null,null,null,null,"配　送\n事業所",{"$f":"保険会社用!F1","v":0},null,null,null,null,null,{"$f":"入力シート!F1","v":"○○県"}]
["LPガス配送事業者",null,null,{"$f":"保険会社用!D2","v":0},null,null,null,null,null,null,null,{"$f":"入力シート!F2","v":"2015-06-03"}]
[null,null,null,null,null,null,null,null,null,null,1,{"$f":"IF($L$26=0,1,(COUNTIF($L$26,\">0\")+COUNTIF($L$54,\">0\")+COUNTIF($L$81,\">0\")+COUNTIF($L$108,\">0\")+COUNTIF($L$135,\">0\")+COUNTIF($L$162,\">0\")+COUNTIF($L$189,\">0\")+COUNTIF($L$216,\">0\")+COUNTIF($L$243,\">0\")+COUNTIF($L$270,\">0\")))","v":1}]
["LPガス配送",null,null,"名　　　　称","配送契約の内容",null,"LPガス配送",null,null,"名　　　　称","配送契約の内容"]
["受託販売所",null,null,"住　　　　所","配　送　先\n消費者戸数","1か年間の\n配送トン数","受託販売所",null,null,"住　　　　所","配　送　先\n消費者戸数","1か年間の\n配送トン数"]
[1,"名称",{"$f":"保険会社用!C6","v":""},null,{"$f":"保険会社用!E6","v":""},{"$f":"IF(保険会社用!F6>0,保険会社用!F6,\"\")","v":""},11,"名称",{"$f":"保険会社用!I6","v":""},null,{"$f":"保険会社用!K6","v":""},{"$f":"IF(保険会社用!L6>0,保険会社用!L6,\"\")","v":""}]
[null,"住所",{"$f":"保険会社用!C7","v":""},null,null,null,null,"住所",{"$f":"保険会社用!I7","v":""}]
[2,"名称",{"$f":"保険会社用!C8","v":""},null,{"$f":"保険会社用!E8","v":""},{"$f":"IF(保険会社用!F8>0,保険会社用!F8,\"\")","v":""},12,"名称",{"$f":"保険会社用!I8","v":""},null,{"$f":"保険会社用!K8","v":""},{"$f":"IF(保険会社用!L8>0,保険会社用!L8,\"\")","v":""}]
[null,"住所",{"$f":"保険会社用!C9","v":""},null,null,null,null,"住所",{"$f":"保険会社用!I9","v":""}]
[3,"名称",{"$f":"保険会社用!C10","v":""},null,{"$f":"保険会社用!E10","v":""},{"$f":"IF(保険会社用!F10>0,保険会社用!F10,\"\")","v":""},13,"名称",{"$f":"保険会社用!I10","v":""},null,{"$f":"保険会社用!K10","v":""},{"$f":"IF(保険会社用!L10>0,保険会社用!L10,\"\")","v":""}]
[null,"住所",{"$f":"保険会社用!C11","v":""},null,null,null,null,"住所",{"$f":"保険会社用!I11","v":""}]
[4,"名称",{"$f":"保険会社用!C12","v":""},null,{"$f":"保険会社用!E12","v":""},{"$f":"IF(保険会社用!F12>0,保険会社用!F12,\"\")","v":""},14,"名称",{"$f":"保険会社用!I12","v":""},null,{"$f":"保険会社用!K12","v":""},{"$f":"IF(保険会社用!L12>0,保険会社用!L12,\"\")","v":""}]
[null,"住所",{"$f":"保険会社用!C13","v":""},null,null,null,null,"住所",{"$f":"保険会社用!I13","v":""}]
[5,"名称",{"$f":"保険会社用!C14","v":""},null,{"$f":"保険会社用!E14","v":""},{"$f":"IF(保険会社用!F14>0,保険会社用!F14,\"\")","v":""},15,"名称",{"$f":"保険会社用!I14","v":""},null,{"$f":"保険会社用!K14","v":""},{"$f":"IF(保険会社用!L14>0,保険会社用!L14,\"\")","v":""}]
[null,"住所",{"$f":"保険会社用!C15","v":""},null,null,null,null,"住所",{"$f":"保険会社用!I15","v":""}]
[6,"名称",{"$f":"保険会社用!C16","v":""},null,{"$f":"保険会社用!E16","v":""},{"$f":"IF(保険会社用!F16>0,保険会社用!F16,\"\")","v":""},16,"名称",{"$f":"保険会社用!I16","v":""},null,{"$f":"保険会社用!K16","v":""},{"$f":"IF(保険会社用!L16>0,保険会社用!L16,\"\")","v":""}]
[null,"住所",{"$f":"保険会社用!C17","v":""},null,null,null,null,"住所",{"$f":"保険会社用!I17","v":""}]
[7,"名称",{"$f":"保険会社用!C18","v":""},null,{"$f":"保険会社用!E18","v":""},{"$f":"IF(保険会社用!F18>0,保険会社用!F18,\"\")","v":""},17,"名称",{"$f":"保険会社用!I18","v":""},null,{"$f":"保険会社用!K18","v":""},{"$f":"IF(保険会社用!L18>0,保険会社用!L18,\"\")","v":""}]
[null,"住所",{"$f":"保険会社用!C19","v":""},null,null,null,null,"住所",{"$f":"保険会社用!I19","v":""}]
[8,"名称",{"$f":"保険会社用!C20","v":""},null,{"$f":"保険会社用!E20","v":""},{"$f":"IF(保険会社用!F20>0,保険会社用!F20,\"\")","v":""},18,"名称",{"$f":"保険会社用!I20","v":""},null,{"$f":"保険会社用!K20","v":""},{"$f":"IF(保険会社用!L20>0,保険会社用!L20,\"\")","v":""}]
[null,"住所",{"$f":"保険会社用!C21","v":""},null,null,null,null,"住所",{"$f":"保険会社用!I21","v":""}]
[9,"名称",{"$f":"保険会社用!C22","v":""},null,{"$f":"保険会社用!E22","v":""},{"$f":"IF(保険会社用!F22>0,保険会社用!F22,\"\")","v":""},19,"名称",{"$f":"保険会社用!I22","v":""},null,{"$f":"保険会社用!K22","v":""},{"$f":"IF(保険会社用!L22>0,保険会社用!L22,\"\")","v":""}]
[null,"住所",{"$f":"保険会社用!C23","v":""},null,null,null,null,"住所",{"$f":"保険会社用!I23","v":""}]
[10,"名称",{"$f":"保険会社用!C24","v":""},null,{"$f":"保険会社用!E24","v":""},{"$f":"IF(保険会社用!F24>0,保険会社用!F24,\"\")","v":""},20,"名称",{"$f":"保険会社用!I24","v":""},null,{"$f":"保険会社用!K24","v":""},{"$f":"IF(保険会社用!L24>0,保険会社用!L24,\"\")","v":""}]
[null,"住所",{"$f":"保険会社用!C25","v":""},null,null,null,null,"住所",{"$f":"保険会社用!I25","v":""}]
["（注）","1.本名簿には、配送事業者がＬＰガス配送を受託しているＬＰガス販売事業者をすべて記入する。",null,null,null,null,null,"小　　計（このページの合計）",null,null,{"$f":"保険会社用!K26","v":0},{"$f":"保険会社用!L26","v":0}]
[null,"2.ＬＰガス配送受託販売所の名称欄には企業名、販売所名を明記し、住所欄には当該販売所の住所を記入する。"]
[null,"3.保険契約加入依頼の際、依頼書に本名簿（保険会社用、事業団用、都道府県協会用）を添付して提出する。",null,null,null,null,null,"配送事業所ごとの合計",null,null,{"$f":"保険会社用!K28","v":0},{"$f":"保険会社用!L28","v":0}]
[null,"4.支部が事業団に加入依頼書を送付する際、２部（保険会社用、事業団用）を添付する。"]
[null,null,null,null,null,null,null,null,null,null,null,"＊１トン未満切り捨て"]
[null,null,null,null,null,null,null,null,null,null,2,{"$f":"COUNTIF($L$26,\">0\")+COUNTIF($L$54,\">0\")+COUNTIF($L$81,\">0\")+COUNTIF($L$108,\">0\")+COUNTIF($L$135,\">0\")+COUNTIF($L$162,\">0\")+COUNTIF($L$189,\">0\")+COUNTIF($L$216,\">0\")+COUNTIF($L$243,\">0\")+COUNTIF($L$270,\">0\")","v":0}]
["LPガス配送",null,null,"名　　　　称","配送契約の内容",null,"LPガス配送",null,null,"名　　　　称","配送契約の内容"]
["受託販売所",null,null,"住　　　　所","配　送　先\n消費者戸数","1か年間の\n配送トン数","受託販売所",null,null,"住　　　　所","配　送　先\n消費者戸数","1か年間の\n配送トン数"]
[21,"名称",{"$f":"保険会社用!C34","v":""},null,{"$f":"保険会社用!E34","v":""},{"$f":"IF(保険会社用!F34>0,保険会社用!F34,\"\")","v":""},31,"名称",{"$f":"保険会社用!I34","v":""},null,{"$f":"保険会社用!K34","v":""},{"$f":"IF(保険会社用!L34>0,保険会社用!L34,\"\")","v":""}]
[null,"住所",{"$f":"保険会社用!C35","v":""},null,null,null,null,"住所",{"$f":"保険会社用!I35","v":""}]
[22,"名称",{"$f":"保険会社用!C36","v":""},null,{"$f":"保険会社用!E36","v":""},{"$f":"IF(保険会社用!F36>0,保険会社用!F36,\"\")","v":""},32,"名称",{"$f":"保険会社用!I36","v":""},null,{"$f":"保険会社用!K36","v":""},{"$f":"IF(保険会社用!L36>0,保険会社用!L36,\"\")","v":""}]
[null,"住所",{"$f":"保険会社用!C37","v":""},null,null,null,null,"住所",{"$f":"保険会社用!I37","v":""}]
[23,"名称",{"$f":"保険会社用!C38","v":""},null,{"$f":"保険会社用!E38","v":""},{"$f":"IF(保険会社用!F38>0,保険会社用!F38,\"\")","v":""},33,"名称",{"$f":"保険会社用!I38","v":""},null,{"$f":"保険会社用!K38","v":""},{"$f":"IF(保険会社用!L38>0,保険会社用!L38,\"\")","v":""}]
[null,"住所",{"$f":"保険会社用!C39","v":""},null,null,null,null,"住所",{"$f":"保険会社用!I39","v":""}]
[24,"名称",{"$f":"保険会社用!C40","v":""},null,{"$f":"保険会社用!E40","v":""},{"$f":"IF(保険会社用!F40>0,保険会社用!F40,\"\")","v":""},34,"名称",{"$f":"保険会社用!I40","v":""},null,{"$f":"保険会社用!K40","v":""},{"$f":"IF(保険会社用!L40>0,保険会社用!L40,\"\")","v":""}]
[null,"住所",{"$f":"保険会社用!C41","v":""},null,null,null,null,"住所",{"$f":"保険会社用!I41","v":""}]
[25,"名称",{"$f":"保険会社用!C42","v":""},null,{"$f":"保険会社用!E42","v":""},{"$f":"IF(保険会社用!F42>0,保険会社用!F42,\"\")","v":""},35,"名称",{"$f":"保険会社用!I42","v":""},null,{"$f":"保険会社用!K42","v":""},{"$f":"IF(保険会社用!L42>0,保険会社用!L42,\"\")","v":""}]
[null,"住所",{"$f":"保険会社用!C43","v":""},null,null,null,null,"住所",{"$f":"保険会社用!I43","v":""}]
[26,"名称",{"$f":"保険会社用!C44","v":""},null,{"$f":"保険会社用!E44","v":""},{"$f":"IF(保険会社用!F44>0,保険会社用!F44,\"\")","v":""},36,"名称",{"$f":"保険会社用!I44","v":""},null,{"$f":"保険会社用!K44","v":""},{"$f":"IF(保険会社用!L44>0,保険会社用!L44,\"\")","v":""}]
[null,"住所",{"$f":"保険会社用!C45","v":""},null,null,null,null,"住所",{"$f":"保険会社用!I45","v":""}]
[27,"名称",{"$f":"保険会社用!C46","v":""},null,{"$f":"保険会社用!E46","v":""},{"$f":"IF(保険会社用!F46>0,保険会社用!F46,\"\")","v":""},37,"名称",{"$f":"保険会社用!I46","v":""},null,{"$f":"保険会社用!K46","v":""},{"$f":"IF(保険会社用!L46>0,保険会社用!L46,\"\")","v":""}]
[null,"住所",{"$f":"保険会社用!C47","v":""},null,null,null,null,"住所",{"$f":"保険会社用!I47","v":""}]
[28,"名称",{"$f":"保険会社用!C48","v":""},null,{"$f":"保険会社用!E48","v":""},{"$f":"IF(保険会社用!F48>0,保険会社用!F48,\"\")","v":""},38,"名称",{"$f":"保険会社用!I48","v":""},null,{"$f":"保険会社用!K48","v":""},{"$f":"IF(保険会社用!L48>0,保険会社用!L48,\"\")","v":""}]
[null,"住所",{"$f":"保険会社用!C49","v":""},null,null,null,null,"住所",{"$f":"保険会社用!I49","v":""}]
[29,"名称",{"$f":"保険会社用!C50","v":""},null,{"$f":"保険会社用!E50","v":""},{"$f":"IF(保険会社用!F50>0,保険会社用!F50,\"\")","v":""},39,"名称",{"$f":"保険会社用!I50","v":""},null,{"$f":"保険会社用!K50","v":""},{"$f":"IF(保険会社用!L50>0,保険会社用!L50,\"\")","v":""}]
[null,"住所",{"$f":"保険会社用!C51","v":""},null,null,null,null,"住所",{"$f":"保険会社用!I51","v":""}]
[30,"名称",{"$f":"保険会社用!C52","v":""},null,{"$f":"保険会社用!E52","v":""},{"$f":"IF(保険会社用!F52>0,保険会社用!F52,\"\")","v":""},40,"名称",{"$f":"保険会社用!I52","v":""},null,{"$f":"保険会社用!K52","v":""},{"$f":"IF(保険会社用!L52>0,保険会社用!L52,\"\")","v":""}]
[null,"住所",{"$f":"保険会社用!C53","v":""},null,null,null,null,"住所",{"$f":"保険会社用!I53","v":""}]
["（注）","1.本名簿には、配送事業者がＬＰガス配送を受託しているＬＰガス販売事業者をすべて記入する。",null,null,null,null,null,"小　　計（このページの合計）",null,null,{"$f":"保険会社用!K54","v":0},{"$f":"保険会社用!L54","v":0}]
[null,"2.ＬＰガス配送受託販売所の名称欄には企業名、販売所名を明記し、住所欄には当該販売所の住所を記入する。"]
[null,"3.保険契約加入依頼の際、依頼書に本名簿（保険会社用、事業団用、都道府県協会用）を添付して提出する。"]
[null,"4.支部が事業団に加入依頼書を送付する際、２部（保険会社用、事業団用）を添付する。"]
[null,null,null,null,null,null,null,null,null,null,3,{"$f":"COUNTIF($L$26,\">0\")+COUNTIF($L$54,\">0\")+COUNTIF($L$81,\">0\")+COUNTIF($L$108,\">0\")+COUNTIF($L$135,\">0\")+COUNTIF($L$162,\">0\")+COUNTIF($L$189,\">0\")+COUNTIF($L$216,\">0\")+COUNTIF($L$243,\">0\")+COUNTIF($L$270,\">0\")","v":0}]
["LPガス配送",null,null,"名　　　　称","配送契約の内容",null,"LPガス配送",null,null,"名　　　　称","配送契約の内容"]
["受託販売所",null,null,"住　　　　所","配　送　先\n消費者戸数","1か年間の\n配送トン数","受託販売所",null,null,"住　　　　所","配　送　先\n消費者戸数","1か年間の\n配送トン数"]
[41,"名称",{"$f":"保険会社用!C61","v":""},null,{"$f":"保険会社用!E61","v":""},{"$f":"IF(保険会社用!F61>0,保険会社用!F61,\"\")","v":""},51,"名称",{"$f":"保険会社用!I61","v":""},null,{"$f":"保険会社用!K61","v":""},{"$f":"IF(保険会社用!L61>0,保険会社用!L61,\"\")","v":""}]
[null,"住所",{"$f":"保険会社用!C62","v":""},null,null,null,null,"住所",{"$f":"保険会社用!I62","v":""}]
[42,"名称",{"$f":"保険会社用!C63","v":""},null,{"$f":"保険会社用!E63","v":""},{"$f":"IF(保険会社用!F63>0,保険会社用!F63,\"\")","v":""},52,"名称",{"$f":"保険会社用!I63","v":""},null,{"$f":"保険会社用!K63","v":""},{"$f":"IF(保険会社用!L63>0,保険会社用!L63,\"\")","v":""}]
[null,"住所",{"$f":"保険会社用!C64","v":""},null,null,null,null,"住所",{"$f":"保険会社用!I64","v":""}]
[43,"名称",{"$f":"保険会社用!C65","v":""},null,{"$f":"保険会社用!E65","v":""},{"$f":"IF(保険会社用!F65>0,保険会社用!F65,\"\")","v":""},53,"名称",{"$f":"保険会社用!I65","v":""},null,{"$f":"保険会社用!K65","v":""},{"$f":"IF(保険会社用!L65>0,保険会社用!L65,\"\")","v":""}]
[null,"住所",{"$f":"保険会社用!C66","v":""},null,null,null,null,"住所",{"$f":"保険会社用!I66","v":""}]
[44,"名称",{"$f":"保険会社用!C67","v":""},null,{"$f":"保険会社用!E67","v":""},{"$f":"IF(保険会社用!F67>0,保険会社用!F67,\"\")","v":""},54,"名称",{"$f":"保険会社用!I67","v":""},null,{"$f":"保険会社用!K67","v":""},{"$f":"IF(保険会社用!L67>0,保険会社用!L67,\"\")","v":""}]
[null,"住所",{"$f":"保険会社用!C68","v":""},null,null,null,null,"住所",{"$f":"保険会社用!I68","v":""}]
[45,"名称",{"$f":"保険会社用!C69","v":""},null,{"$f":"保険会社用!E69","v":""},{"$f":"IF(保険会社用!F69>0,保険会社用!F69,\"\")","v":""},55,"名称",{"$f":"保険会社用!I69","v":""},null,{"$f":"保険会社用!K69","v":""},{"$f":"IF(保険会社用!L69>0,保険会社用!L69,\"\")","v":""}]
[null,"住所",{"$f":"保険会社用!C70","v":""},null,null,null,null,"住所",{"$f":"保険会社用!I70","v":""}]
[46,"名称",{"$f":"保険会社用!C71","v":""},null,{"$f":"保険会社用!E71","v":""},{"$f":"IF(保険会社用!F71>0,保険会社用!F71,\"\")","v":""},56,"名称",{"$f":"保険会社用!I71","v":""},null,{"$f":"保険会社用!K71","v":""},{"$f":"IF(保険会社用!L71>0,保険会社用!L71,\"\")","v":""}]
[null,"住所",{"$f":"保険会社用!C72","v":""},null,null,null,null,"住所",{"$f":"保険会社用!I72","v":""}]
[47,"名称",{"$f":"保険会社用!C73","v":""},null,{"$f":"保険会社用!E73","v":""},{"$f":"IF(保険会社用!F73>0,保険会社用!F73,\"\")","v":""},57,"名称",{"$f":"保険会社用!I73","v":""},null,{"$f":"保険会社用!K73","v":""},{"$f":"IF(保険会社用!L73>0,保険会社用!L73,\"\")","v":""}]
[null,"住所",{"$f":"保険会社用!C74","v":""},null,null,null,null,"住所",{"$f":"保険会社用!I74","v":""}]
[48,"名称",{"$f":"保険会社用!C75","v":""},null,{"$f":"保険会社用!E75","v":""},{"$f":"IF(保険会社用!F75>0,保険会社用!F75,\"\")","v":""},58,"名称",{"$f":"保険会社用!I75","v":""},null,{"$f":"保険会社用!K75","v":""},{"$f":"IF(保険会社用!L75>0,保険会社用!L75,\"\")","v":""}]
[null,"住所",{"$f":"保険会社用!C76","v":""},null,null,null,null,"住所",{"$f":"保険会社用!I76","v":""}]
[49,"名称",{"$f":"保険会社用!C77","v":""},null,{"$f":"保険会社用!E77","v":""},{"$f":"IF(保険会社用!F77>0,保険会社用!F77,\"\")","v":""},59,"名称",{"$f":"保険会社用!I77","v":""},null,{"$f":"保険会社用!K77","v":""},{"$f":"IF(保険会社用!L77>0,保険会社用!L77,\"\")","v":""}]
[null,"住所",{"$f":"保険会社用!C78","v":""},null,null,null,null,"住所",{"$f":"保険会社用!I78","v":""}]
[50,"名称",{"$f":"保険会社用!C79","v":""},null,{"$f":"保険会社用!E79","v":""},{"$f":"IF(保険会社用!F79>0,保険会社用!F79,\"\")","v":""},60,"名称",{"$f":"保険会社用!I79","v":""},null,{"$f":"保険会社用!K79","v":""},{"$f":"IF(保険会社用!L79>0,保険会社用!L79,\"\")","v":""}]
[null,"住所",{"$f":"保険会社用!C80","v":""},null,null,null,null,"住所"]
["（注）","1.本名簿には、配送事業者がＬＰガス配送を受託しているＬＰガス販売事業者をすべて記入する。",null,null,null,null,null,"小　　計（このページの合計）",null,null,{"$f":"保険会社用!K81","v":0},{"$f":"保険会社用!L81","v":0}]
[null,"2.ＬＰガス配送受託販売所の名称欄には企業名、販売所名を明記し、住所欄には当該販売所の住所を記入する。"]
[null,"3.保険契約加入依頼の際、依頼書に本名簿（保険会社用、事業団用、都道府県協会用）を添付して提出する。"]
[null,"4.支部が事業団に加入依頼書を送付する際、２部（保険会社用、事業団用）を添付する。"]
[null,null,null,null,null,null,null,null,null,null,4,{"$f":"COUNTIF($L$26,\">0\")+COUNTIF($L$54,\">0\")+COUNTIF($L$81,\">0\")+COUNTIF($L$108,\">0\")+COUNTIF($L$135,\">0\")+COUNTIF($L$162,\">0\")+COUNTIF($L$189,\">0\")+COUNTIF($L$216,\">0\")+COUNTIF($L$243,\">0\")+COUNTIF($L$270,\">0\")","v":0}]
["LPガス配送",null,null,"名　　　　称","配送契約の内容",null,"LPガス配送",null,null,"名　　　　称","配送契約の内容"]
["受託販売所",null,null,"住　　　　所","配　送　先\n消費者戸数","1か年間の\n配送トン数","受託販売所",null,null,"住　　　　所","配　送　先\n消費者戸数","1か年間の\n配送トン数"]
[61,"名称",{"$f":"保険会社用!C88","v":""},null,{"$f":"保険会社用!E88","v":""},{"$f":"IF(保険会社用!F88>0,保険会社用!F88,\"\")","v":""},71,"名称",{"$f":"保険会社用!I88","v":""},null,{"$f":"保険会社用!K88","v":""},{"$f":"IF(保険会社用!L88>0,保険会社用!L88,\"\")","v":""}]
[null,"住所",{"$f":"保険会社用!C89","v":""},null,null,null,null,"住所",{"$f":"保険会社用!I89","v":""}]
[62,"名称",{"$f":"保険会社用!C90","v":""},null,{"$f":"保険会社用!E90","v":""},{"$f":"IF(保険会社用!F90>0,保険会社用!F90,\"\")","v":""},72,"名称",{"$f":"保険会社用!I90","v":""},null,{"$f":"保険会社用!K90","v":""},{"$f":"IF(保険会社用!L90>0,保険会社用!L90,\"\")","v":""}]
[null,"住所",{"$f":"保険会社用!C91","v":""},null,null,null,null,"住所",{"$f":"保険会社用!I91","v":""}]
[63,"名称",{"$f":"保険会社用!C92","v":""},null,{"$f":"保険会社用!E92","v":""},{"$f":"IF(保険会社用!F92>0,保険会社用!F92,\"\")","v":""},73,"名称",{"$f":"保険会社用!I92","v":""},null,{"$f":"保険会社用!K92","v":""},{"$f":"IF(保険会社用!L92>0,保険会社用!L92,\"\")","v":""}]
[null,"住所",{"$f":"保険会社用!C93","v":""},null,null,null,null,"住所",{"$f":"保険会社用!I93","v":""}]
[64,"名称",{"$f":"保険会社用!C94","v":""},null,{"$f":"保険会社用!E94","v":""},{"$f":"IF(保険会社用!F94>0,保険会社用!F94,\"\")","v":""},74,"名称",{"$f":"保険会社用!I94","v":""},null,{"$f":"保険会社用!K94","v":""},{"$f":"IF(保険会社用!L94>0,保険会社用!L94,\"\")","v":""}]
[null,"住所",{"$f":"保険会社用!C95","v":""},null,null,null,null,"住所",{"$f":"保険会社用!I95","v":""}]
[65,"名称",{"$f":"保険会社用!C96","v":""},null,{"$f":"保険会社用!E96","v":""},{"$f":"IF(保険会社用!F96>0,保険会社用!F96,\"\")","v":""},75,"名称",{"$f":"保険会社用!I96","v":""},null,{"$f":"保険会社用!K96","v":""},{"$f":"IF(保険会社用!L96>0,保険会社用!L96,\"\")","v":""}]
[null,"住所",{"$f":"保険会社用!C97","v":""},null,null,null,null,"住所",{"$f":"保険会社用!I97","v":""}]
[66,"名称",{"$f":"保険会社用!C98","v":""},null,{"$f":"保険会社用!E98","v":""},{"$f":"IF(保険会社用!F98>0,保険会社用!F98,\"\")","v":""},76,"名称",{"$f":"保険会社用!I98","v":""},null,{"$f":"保険会社用!K98","v":""},{"$f":"IF(保険会社用!L98>0,保険会社用!L98,\"\")","v":""}]
[null,"住所",{"$f":"保険会社用!C99","v":""},null,null,null,null,"住所",{"$f":"保険会社用!I99","v":""}]
[67,"名称",{"$f":"保険会社用!C100","v":""},null,{"$f":"保険会社用!E100","v":""},{"$f":"IF(保険会社用!F100>0,保険会社用!F100,\"\")","v":""},77,"名称",{"$f":"保険会社用!I100","v":""},null,{"$f":"保険会社用!K100","v":""},{"$f":"IF(保険会社用!L100>0,保険会社用!L100,\"\")","v":""}]
[null,"住所",{"$f":"保険会社用!C101","v":""},null,null,null,null,"住所",{"$f":"保険会社用!I101","v":""}]
[68,"名称",{"$f":"保険会社用!C102","v":""},null,{"$f":"保険会社用!E102","v":""},{"$f":"IF(保険会社用!F102>0,保険会社用!F102,\"\")","v":""},78,"名称",{"$f":"保険会社用!I102","v":""},null,{"$f":"保険会社用!K102","v":""},{"$f":"IF(保険会社用!L102>0,保険会社用!L102,\"\")","v":""}]
[null,"住所",{"$f":"保険会社用!C103","v":""},null,null,null,null,"住所",{"$f":"保険会社用!I103","v":""}]
[69,"名称",{"$f":"保険会社用!C104","v":""},null,{"$f":"保険会社用!E104","v":""},{"$f":"IF(保険会社用!F104>0,保険会社用!F104,\"\")","v":""},79,"名称",{"$f":"保険会社用!I104","v":""},null,{"$f":"保険会社用!K104","v":""},{"$f":"IF(保険会社用!L104>0,保険会社用!L104,\"\")","v":""}]
[null,"住所",{"$f":"保険会社用!C105","v":""},null,null,null,null,"住所",{"$f":"保険会社用!I105","v":""}]
[70,"名称",{"$f":"保険会社用!C106","v":""},null,{"$f":"保険会社用!E106","v":""},{"$f":"IF(保険会社用!F106>0,保険会社用!F106,\"\")","v":""},80,"名称",{"$f":"保険会社用!I106","v":""},null,{"$f":"保険会社用!K106","v":""},{"$f":"IF(保険会社用!L106>0,保険会社用!L106,\"\")","v":""}]
[null,"住所",{"$f":"保険会社用!C107","v":""},null,null,null,null,"住所",{"$f":"保険会社用!I107","v":""}]
["（注）","1.本名簿には、配送事業者がＬＰガス配送を受託しているＬＰガス販売事業者をすべて記入する。",null,null,null,null,null,"小　　計（このページの合計）",null,null,{"$f":"保険会社用!K108","v":0},{"$f":"保険会社用!L108","v":0}]
[null,"2.ＬＰガス配送受託販売所の名称欄には企業名、販売所名を明記し、住所欄には当該販売所の住所を記入する。"]
[null,"3.保険契約加入依頼の際、依頼書に本名簿（保険会社用、事業団用、都道府県協会用）を添付して提出する。"]
[null,"4.支部が事業団に加入依頼書を送付する際、２部（保険会社用、事業団用）を添付する。"]
[null,null,null,null,null,null,null,null,null,null,5,{"$f":"COUNTIF($L$26,\">0\")+COUNTIF($L$54,\">0\")+COUNTIF($L$81,\">0\")+COUNTIF($L$108,\">0\")+COUNTIF($L$135,\">0\")+COUNTIF($L$162,\">0\")+COUNTIF($L$189,\">0\")+COUNTIF($L$216,\">0\")+COUNTIF($L$243,\">0\")+COUNTIF($L$270,\">0\")","v":0}]
["LPガス配送",null,null,"名　　　　称","配送契約の内容",null,"LPガス配送",null,null,"名　　　　称","配送契約の内容"]
["受託販売所",null,null,"住　　　　所","配　送　先\n消費者戸数","1か年間の\n配送トン数","受託販売所",null,null,"住　　　　所","配　送　先\n消費者戸数","1か年間の\n配送トン数"]
[81,"名称",{"$f":"保険会社用!C115","v":""},null,{"$f":"保険会社用!E115","v":""},{"$f":"IF(保険会社用!F115>0,保険会社用!F115,\"\")","v":""},91,"名称",{"$f":"保険会社用!I115","v":""},null,{"$f":"保険会社用!K115","v":""},{"$f":"IF(保険会社用!L115>0,保険会社用!L115,\"\")","v":""}]
[null,"住所",{"$f":"保険会社用!C116","v":""},null,null,null,null,"住所",{"$f":"保険会社用!I116","v":""}]
[82,"名称",{"$f":"保険会社用!C117","v":""},null,{"$f":"保険会社用!E117","v":""},{"$f":"IF(保険会社用!F117>0,保険会社用!F117,\"\")","v":""},92,"名称",{"$f":"保険会社用!I117","v":""},null,{"$f":"保険会社用!K117","v":""},{"$f":"IF(保険会社用!L117>0,保険会社用!L117,\"\")","v":""}]
[null,"住所",{"$f":"保険会社用!C118","v":""},null,null,null,null,"住所",{"$f":"保険会社用!I118","v":""}]
[83,"名称",{"$f":"保険会社用!C119","v":""},null,{"$f":"保険会社用!E119","v":""},{"$f":"IF(保険会社用!F119>0,保険会社用!F119,\"\")","v":""},93,"名称",{"$f":"保険会社用!I119","v":""},null,{"$f":"保険会社用!K119","v":""},{"$f":"IF(保険会社用!L119>0,保険会社用!L119,\"\")","v":""}]
[null,"住所",{"$f":"保険会社用!C120","v":""},null,null,null,null,"住所",{"$f":"保険会社用!I120","v":""}]
[84,"名称",{"$f":"保険会社用!C121","v":""},null,{"$f":"保険会社用!E121","v":""},{"$f":"IF(保険会社用!F121>0,保険会社用!F121,\"\")","v":""},94,"名称",{"$f":"保険会社用!I121","v":""},null,{"$f":"保険会社用!K121","v":""},{"$f":"IF(保険会社用!L121>0,保険会社用!L121,\"\")","v":""}]
[null,"住所",{"$f":"保険会社用!C122","v":""},null,null,null,null,"住所",{"$f":"保険会社用!I122","v":""}]
[85,"名称",{"$f":"保険会社用!C123","v":""},null,{"$f":"保険会社用!E123","v":""},{"$f":"IF(保険会社用!F123>0,保険会社用!F123,\"\")","v":""},95,"名称",{"$f":"保険会社用!I123","v":""},null,{"$f":"保険会社用!K123","v":""},{"$f":"IF(保険会社用!L123>0,保険会社用!L123,\"\")","v":""}]
[null,"住所",{"$f":"保険会社用!C124","v":""},null,null,null,null,"住所",{"$f":"保険会社用!I124","v":""}]
[86,"名称",{"$f":"保険会社用!C125","v":""},null,{"$f":"保険会社用!E125","v":""},{"$f":"IF(保険会社用!F125>0,保険会社用!F125,\"\")","v":""},96,"名称",{"$f":"保険会社用!I125","v":""},null,{"$f":"保険会社用!K125","v":""},{"$f":"IF(保険会社用!L125>0,保険会社用!L125,\"\")","v":""}]
[null,"住所",{"$f":"保険会社用!C126","v":""},null,null,null,null,"住所",{"$f":"保険会社用!I126","v":""}]
[87,"名称",{"$f":"保険会社用!C127","v":""},null,{"$f":"保険会社用!E127","v":""},{"$f":"IF(保険会社用!F127>0,保険会社用!F127,\"\")","v":""},97,"名称",{"$f":"保険会社用!I127","v":""},null,{"$f":"保険会社用!K127","v":""},{"$f":"IF(保険会社用!L127>0,保険会社用!L127,\"\")","v":""}]
[null,"住所",{"$f":"保険会社用!C128","v":""},null,null,null,null,"住所",{"$f":"保険会社用!I128","v":""}]
[88,"名称",{"$f":"保険会社用!C129","v":""},null,{"$f":"保険会社用!E129","v":""},{"$f":"IF(保険会社用!F129>0,保険会社用!F129,\"\")","v":""},98,"名称",{"$f":"保険会社用!I129","v":""},null,{"$f":"保険会社用!K129","v":""},{"$f":"IF(保険会社用!L129>0,保険会社用!L129,\"\")","v":""}]
[null,"住所",{"$f":"保険会社用!C130","v":""},null,null,null,null,"住所",{"$f":"保険会社用!I130","v":""}]
[89,"名称",{"$f":"保険会社用!C131","v":""},null,{"$f":"保険会社用!E131","v":""},{"$f":"IF(保険会社用!F131>0,保険会社用!F131,\"\")","v":""},99,"名称",{"$f":"保険会社用!I131","v":""},null,{"$f":"保険会社用!K131","v":""},{"$f":"IF(保険会社用!L131>0,保険会社用!L131,\"\")","v":""}]
[null,"住所",{"$f":"保険会社用!C132","v":""},null,null,null,null,"住所",{"$f":"保険会社用!I132","v":""}]
[90,"名称",{"$f":"保険会社用!C133","v":""},null,{"$f":"保険会社用!E133","v":""},{"$f":"IF(保険会社用!F133>0,保険会社用!F133,\"\")","v":""},100,"名称",{"$f":"保険会社用!I133","v":""},null,{"$f":"保険会社用!K133","v":""},{"$f":"IF(保険会社用!L133>0,保険会社用!L133,\"\")","v":""}]
[null,"住所",{"$f":"保険会社用!C134","v":""},null,null,null,null,"住所",{"$f":"保険会社用!I134","v":""}]
["（注）","1.本名簿には、配送事業者がＬＰガス配送を受託しているＬＰガス販売事業者をすべて記入する。",null,null,null,null,null,"小　　計（このページの合計）",null,null,{"$f":"保険会社用!K135","v":0},{"$f":"保険会社用!L135","v":0}]
[null,"2.ＬＰガス配送受託販売所の名称欄には企業名、販売所名を明記し、住所欄には当該販売所の住所を記入する。"]
[null,"3.保険契約加入依頼の際、依頼書に本名簿（保険会社用、事業団用、都道府県協会用）を添付して提出する。"]
[null,"4.支部が事業団に加入依頼書を送付する際、２部（保険会社用、事業団用）を添付する。"]
[null,null,null,null,null,null,null,null,null,null,6,{"$f":"COUNTIF($L$26,\">0\")+COUNTIF($L$54,\">0\")+COUNTIF($L$81,\">0\")+COUNTIF($L$108,\">0\")+COUNTIF($L$135,\">0\")+COUNTIF($L$162,\">0\")+COUNTIF($L$189,\">0\")+COUNTIF($L$216,\">0\")+COUNTIF($L$243,\">0\")+COUNTIF($L$270,\">0\")","v":0}]
["LPガス配送",null,null,"名　　　　称","配送契約の内容",null,"LPガス配送",null,null,"名　　　　称","配送契約の内容"]
["受託販売所",null,null,"住　　　　所","配　送　先\n消費者戸数","1か年間の\n配送トン数","受託販売所",null,null,"住　　　　所","配　送　先\n消費者戸数","1か年間の\n配送トン数"]
[101,"名称",{"$f":"保険会社用!C142","v":""},null,{"$f":"保険会社用!E142","v":""},{"$f":"IF(保険会社用!F142>0,保険会社用!F142,\"\")","v":""},111,"名称",{"$f":"保険会社用!I142","v":""},null,{"$f":"保険会社用!K142","v":""},{"$f":"IF(保険会社用!L142>0,保険会社用!L142,\"\")","v":""}]
[null,"住所",{"$f":"保険会社用!C143","v":""},null,null,null,null,"住所",{"$f":"保険会社用!I143","v":""}]
[102,"名称",{"$f":"保険会社用!C144","v":""},null,{"$f":"保険会社用!E144","v":""},{"$f":"IF(保険会社用!F144>0,保険会社用!F144,\"\")","v":""},112,"名称",{"$f":"保険会社用!I144","v":""},null,{"$f":"保険会社用!K144","v":""},{"$f":"IF(保険会社用!L144>0,保険会社用!L144,\"\")","v":""}]
[null,"住所",{"$f":"保険会社用!C145","v":""},null,null,null,null,"住所",{"$f":"保険会社用!I145","v":""}]
[103,"名称",{"$f":"保険会社用!C146","v":""},null,{"$f":"保険会社用!E146","v":""},{"$f":"IF(保険会社用!F146>0,保険会社用!F146,\"\")","v":""},113,"名称",{"$f":"保険会社用!I146","v":""},null,{"$f":"保険会社用!K146","v":""},{"$f":"IF(保険会社用!L146>0,保険会社用!L146,\"\")","v":""}]
[null,"住所",{"$f":"保険会社用!C147","v":""},null,null,null,null,"住所",{"$f":"保険会社用!I147","v":""}]
[104,"名称",{"$f":"保険会社用!C148","v":""},null,{"$f":"保険会社用!E148","v":""},{"$f":"IF(保険会社用!F148>0,保険会社用!F148,\"\")","v":""},114,"名称",{"$f":"保険会社用!I148","v":""},null,{"$f":"保険会社用!K148","v":""},{"$f":"IF(保険会社用!L148>0,保険会社用!L148,\"\")","v":""}]
[null,"住所",{"$f":"保険会社用!C149","v":""},null,null,null,null,"住所",{"$f":"保険会社用!I149","v":""}]
[105,"名称",{"$f":"保険会社用!C150","v":""},null,{"$f":"保険会社用!E150","v":""},{"$f":"IF(保険会社用!F150>0,保険会社用!F150,\"\")","v":""},115,"名称",{"$f":"保険会社用!I150","v":""},null,{"$f":"保険会社用!K150","v":""},{"$f":"IF(保険会社用!L150>0,保険会社用!L150,\"\")","v":""}]
[null,"住所",{"$f":"保険会社用!C151","v":""},null,null,null,null,"住所",{"$f":"保険会社用!I151","v":""}]
[106,"名称",{"$f":"保険会社用!C152","v":""},null,{"$f":"保険会社用!E152","v":""},{"$f":"IF(保険会社用!F152>0,保険会社用!F152,\"\")","v":""},116,"名称",{"$f":"保険会社用!I152","v":""},null,{"$f":"保険会社用!K152","v":""},{"$f":"IF(保険会社用!L152>0,保険会社用!L152,\"\")","v":""}]
[null,"住所",{"$f":"保険会社用!C153","v":""},null,null,null,null,"住所",{"$f":"保険会社用!I153","v":""}]
[107,"名称",{"$f":"保険会社用!C154","v":""},null,{"$f":"保険会社用!E154","v":""},{"$f":"IF(保険会社用!F154>0,保険会社用!F154,\"\")","v":""},117,"名称",{"$f":"保険会社用!I154","v":""},null,{"$f":"保険会社用!K154","v":""},{"$f":"IF(保険会社用!L154>0,保険会社用!L154,\"\")","v":""}]
[null,"住所",{"$f":"保険会社用!C155","v":""},null,null,null,null,"住所",{"$f":"保険会社用!I155","v":""}]
[108,"名称",{"$f":"保険会社用!C156","v":""},null,{"$f":"保険会社用!E156","v":""},{"$f":"IF(保険会社用!F156>0,保険会社用!F156,\"\")","v":""},118,"名称",{"$f":"保険会社用!I156","v":""},null,{"$f":"保険会社用!K156","v":""},{"$f":"IF(保険会社用!L156>0,保険会社用!L156,\"\")","v":""}]
[null,"住所",{"$f":"保険会社用!C157","v":""},null,null,null,null,"住所",{"$f":"保険会社用!I157","v":""}]
[109,"名称",{"$f":"保険会社用!C158","v":""},null,{"$f":"保険会社用!E158","v":""},{"$f":"IF(保険会社用!F158>0,保険会社用!F158,\"\")","v":""},119,"名称",{"$f":"保険会社用!I158","v":""},null,{"$f":"保険会社用!K158","v":""},{"$f":"IF(保険会社用!L158>0,保険会社用!L158,\"\")","v":""}]
[null,"住所",{"$f":"保険会社用!C159","v":""},null,null,null,null,"住所",{"$f":"保険会社用!I159","v":""}]
[110,"名称",{"$f":"保険会社用!C160","v":""},null,{"$f":"保険会社用!E160","v":""},{"$f":"IF(保険会社用!F160>0,保険会社用!F160,\"\")","v":""},120,"名称",{"$f":"保険会社用!I160","v":""},null,{"$f":"保険会社用!K160","v":""},{"$f":"IF(保険会社用!L160>0,保険会社用!L160,\"\")","v":""}]
[null,"住所",{"$f":"保険会社用!C161","v":""},null,null,null,null,"住所",{"$f":"保険会社用!I161","v":""}]
["（注）","1.本名簿には、配送事業者がＬＰガス配送を受託しているＬＰガス販売事業者をすべて記入する。",null,null,null,null,null,"小　　計（このページの合計）",null,null,{"$f":"保険会社用!K162","v":0},{"$f":"保険会社用!L162","v":0}]
[null,"2.ＬＰガス配送受託販売所の名称欄には企業名、販売所名を明記し、住所欄には当該販売所の住所を記入する。"]
[null,"3.保険契約加入依頼の際、依頼書に本名簿（保険会社用、事業団用、都道府県協会用）を添付して提出する。"]
[null,"4.支部が事業団に加入依頼書を送付する際、２部（保険会社用、事業団用）を添付する。"]
[null,null,null,null,null,null,null,null,null,null,7,{"$f":"COUNTIF($L$26,\">0\")+COUNTIF($L$54,\">0\")+COUNTIF($L$81,\">0\")+COUNTIF($L$108,\">0\")+COUNTIF($L$135,\">0\")+COUNTIF($L$162,\">0\")+COUNTIF($L$189,\">0\")+COUNTIF($L$216,\">0\")+COUNTIF($L$243,\">0\")+COUNTIF($L$270,\">0\")","v":0}]
["LPガス配送",null,null,"名　　　　称","配送契約の内容",null,"LPガス配送",null,null,"名　　　　称","配送契約の内容"]
["受託販売所",null,null,"住　　　　所","配　送　先\n消費者戸数","1か年間の\n配送トン数","受託販売所",null,null,"住　　　　所","配　送　先\n消費者戸数","1か年間の\n配送トン数"]
[121,"名称",{"$f":"保険会社用!C169","v":""},null,{"$f":"保険会社用!E169","v":""},{"$f":"IF(保険会社用!F169>0,保険会社用!F169,\"\")","v":""},131,"名称",{"$f":"保険会社用!I169","v":""},null,{"$f":"保険会社用!K169","v":""},{"$f":"IF(保険会社用!L169>0,保険会社用!L169,\"\")","v":""}]
[null,"住所",{"$f":"保険会社用!C170","v":""},null,null,null,null,"住所",{"$f":"保険会社用!I170","v":""}]
[122,"名称",{"$f":"保険会社用!C171","v":""},null,{"$f":"保険会社用!E171","v":""},{"$f":"IF(保険会社用!F171>0,保険会社用!F171,\"\")","v":""},132,"名称",{"$f":"保険会社用!I171","v":""},null,{"$f":"保険会社用!K171","v":""},{"$f":"IF(保険会社用!L171>0,保険会社用!L171,\"\")","v":""}]
[null,"住所",{"$f":"保険会社用!C172","v":""},null,null,null,null,"住所",{"$f":"保険会社用!I172","v":""}]
[123,"名称",{"$f":"保険会社用!C173","v":""},null,{"$f":"保険会社用!E173","v":""},{"$f":"IF(保険会社用!F173>0,保険会社用!F173,\"\")","v":""},133,"名称",{"$f":"保険会社用!I173","v":""},null,{"$f":"保険会社用!K173","v":""},{"$f":"IF(保険会社用!L173>0,保険会社用!L173,\"\")","v":""}]
[null,"住所",{"$f":"保険会社用!C174","v":""},null,null,null,null,"住所",{"$f":"保険会社用!I174","v":""}]
[124,"名称",{"$f":"保険会社用!C175","v":""},null,{"$f":"保険会社用!E175","v":""},{"$f":"IF(保険会社用!F175>0,保険会社用!F175,\"\")","v":""},134,"名称",{"$f":"保険会社用!I175","v":""},null,{"$f":"保険会社用!K175","v":""},{"$f":"IF(保険会社用!L175>0,保険会社用!L175,\"\")","v":""}]
[null,"住所",{"$f":"保険会社用!C176","v":""},null,null,null,null,"住所",{"$f":"保険会社用!I176","v":""}]
[125,"名称",{"$f":"保険会社用!C177","v":""},null,{"$f":"保険会社用!E177","v":""},{"$f":"IF(保険会社用!F177>0,保険会社用!F177,\"\")","v":""},135,"名称",{"$f":"保険会社用!I177","v":""},null,{"$f":"保険会社用!K177","v":""},{"$f":"IF(保険会社用!L177>0,保険会社用!L177,\"\")","v":""}]
[null,"住所",{"$f":"保険会社用!C178","v":""},null,null,null,null,"住所",{"$f":"保険会社用!I178","v":""}]
[126,"名称",{"$f":"保険会社用!C179","v":""},null,{"$f":"保険会社用!E179","v":""},{"$f":"IF(保険会社用!F179>0,保険会社用!F179,\"\")","v":""},136,"名称",{"$f":"保険会社用!I179","v":""},null,{"$f":"保険会社用!K179","v":""},{"$f":"IF(保険会社用!L179>0,保険会社用!L179,\"\")","v":""}]
[null,"住所",{"$f":"保険会社用!C180","v":""},null,null,null,null,"住所",{"$f":"保険会社用!I180","v":""}]
[127,"名称",{"$f":"保険会社用!C181","v":""},null,{"$f":"保険会社用!E181","v":""},{"$f":"IF(保険会社用!F181>0,保険会社用!F181,\"\")","v":""},137,"名称",{"$f":"保険会社用!I181","v":""},null,{"$f":"保険会社用!K181","v":""},{"$f":"IF(保険会社用!L181>0,保険会社用!L181,\"\")","v":""}]
[null,"住所",{"$f":"保険会社用!C182","v":""},null,null,null,null,"住所",{"$f":"保険会社用!I182","v":""}]
[128,"名称",{"$f":"保険会社用!C183","v":""},null,{"$f":"保険会社用!E183","v":""},{"$f":"IF(保険会社用!F183>0,保険会社用!F183,\"\")","v":""},138,"名称",{"$f":"保険会社用!I183","v":""},null,{"$f":"保険会社用!K183","v":""},{"$f":"IF(保険会社用!L183>0,保険会社用!L183,\"\")","v":""}]
[null,"住所",{"$f":"保険会社用!C184","v":""},null,null,null,null,"住所",{"$f":"保険会社用!I184","v":""}]
[129,"名称",{"$f":"保険会社用!C185","v":""},null,{"$f":"保険会社用!E185","v":""},{"$f":"IF(保険会社用!F185>0,保険会社用!F185,\"\")","v":""},139,"名称",{"$f":"保険会社用!I185","v":""},null,{"$f":"保険会社用!K185","v":""},{"$f":"IF(保険会社用!L185>0,保険会社用!L185,\"\")","v":""}]
[null,"住所",{"$f":"保険会社用!C186","v":""},null,null,null,null,"住所",{"$f":"保険会社用!I186","v":""}]
[130,"名称",{"$f":"保険会社用!C187","v":""},null,{"$f":"保険会社用!E187","v":""},{"$f":"IF(保険会社用!F187>0,保険会社用!F187,\"\")","v":""},140,"名称",{"$f":"保険会社用!I187","v":""},null,{"$f":"保険会社用!K187","v":""},{"$f":"IF(保険会社用!L187>0,保険会社用!L187,\"\")","v":""}]
[null,"住所",{"$f":"保険会社用!C188","v":""},null,null,null,null,"住所",{"$f":"保険会社用!I188","v":""}]
["（注）","1.本名簿には、配送事業者がＬＰガス配送を受託しているＬＰガス販売事業者をすべて記入する。",null,null,null,null,null,"小　　計（このページの合計）",null,null,{"$f":"保険会社用!K189","v":0},{"$f":"保険会社用!L189","v":0}]
[null,"2.ＬＰガス配送受託販売所の名称欄には企業名、販売所名を明記し、住所欄には当該販売所の住所を記入する。"]
[null,"3.保険契約加入依頼の際、依頼書に本名簿（保険会社用、事業団用、都道府県協会用）を添付して提出する。"]
[null,"4.支部が事業団に加入依頼書を送付する際、２部（保険会社用、事業団用）を添付する。"]
[null,null,null,null,null,null,null,null,null,null,8,{"$f":"COUNTIF($L$26,\">0\")+COUNTIF($L$54,\">0\")+COUNTIF($L$81,\">0\")+COUNTIF($L$108,\">0\")+COUNTIF($L$135,\">0\")+COUNTIF($L$162,\">0\")+COUNTIF($L$189,\">0\")+COUNTIF($L$216,\">0\")+COUNTIF($L$243,\">0\")+COUNTIF($L$270,\">0\")","v":0}]
["LPガス配送",null,null,"名　　　　称","配送契約の内容",null,"LPガス配送",null,null,"名　　　　称","配送契約の内容"]
["受託販売所",null,null,"住　　　　所","配　送　先\n消費者戸数","1か年間の\n配送トン数","受託販売所",null,null,"住　　　　所","配　送　先\n消費者戸数","1か年間の\n配送トン数"]
[141,"名称",{"$f":"保険会社用!C196","v":""},null,{"$f":"保険会社用!E196","v":""},{"$f":"IF(保険会社用!F196>0,保険会社用!F196,\"\")","v":""},151,"名称",{"$f":"保険会社用!I196","v":""},null,{"$f":"保険会社用!K196","v":""},{"$f":"IF(保険会社用!L196>0,保険会社用!L196,\"\")","v":""}]
[null,"住所",{"$f":"保険会社用!C197","v":""},null,null,null,null,"住所",{"$f":"保険会社用!I197","v":""}]
[142,"名称",{"$f":"保険会社用!C198","v":""},null,{"$f":"保険会社用!E198","v":""},{"$f":"IF(保険会社用!F198>0,保険会社用!F198,\"\")","v":""},152,"名称",{"$f":"保険会社用!I198","v":""},null,{"$f":"保険会社用!K198","v":""},{"$f":"IF(保険会社用!L198>0,保険会社用!L198,\"\")","v":""}]
[null,"住所",{"$f":"保険会社用!C199","v":""},null,null,null,null,"住所",{"$f":"保険会社用!I199","v":""}]
[143,"名称",{"$f":"保険会社用!C200","v":""},null,{"$f":"保険会社用!E200","v":""},{"$f":"IF(保険会社用!F200>0,保険会社用!F200,\"\")","v":""},153,"名称",{"$f":"保険会社用!I200","v":""},null,{"$f":"保険会社用!K200","v":""},{"$f":"IF(保険会社用!L200>0,保険会社用!L200,\"\")","v":""}]
[null,"住所",{"$f":"保険会社用!C201","v":""},null,null,null,null,"住所",{"$f":"保険会社用!I201","v":""}]
[144,"名称",{"$f":"保険会社用!C202","v":""},null,{"$f":"保険会社用!E202","v":""},{"$f":"IF(保険会社用!F202>0,保険会社用!F202,\"\")","v":""},154,"名称",{"$f":"保険会社用!I202","v":""},null,{"$f":"保険会社用!K202","v":""},{"$f":"IF(保険会社用!L202>0,保険会社用!L202,\"\")","v":""}]
[null,"住所",{"$f":"保険会社用!C203","v":""},null,null,null,null,"住所",{"$f":"保険会社用!I203","v":""}]
[145,"名称",{"$f":"保険会社用!C204","v":""},null,{"$f":"保険会社用!E204","v":""},{"$f":"IF(保険会社用!F204>0,保険会社用!F204,\"\")","v":""},155,"名称",{"$f":"保険会社用!I204","v":""},null,{"$f":"保険会社用!K204","v":""},{"$f":"IF(保険会社用!L204>0,保険会社用!L204,\"\")","v":""}]
[null,"住所",{"$f":"保険会社用!C205","v":""},null,null,null,null,"住所",{"$f":"保険会社用!I205","v":""}]
[146,"名称",{"$f":"保険会社用!C206","v":""},null,{"$f":"保険会社用!E206","v":""},{"$f":"IF(保険会社用!F206>0,保険会社用!F206,\"\")","v":""},156,"名称",{"$f":"保険会社用!I206","v":""},null,{"$f":"保険会社用!K206","v":""},{"$f":"IF(保険会社用!L206>0,保険会社用!L206,\"\")","v":""}]
[null,"住所",{"$f":"保険会社用!C207","v":""},null,null,null,null,"住所",{"$f":"保険会社用!I207","v":""}]
[147,"名称",{"$f":"保険会社用!C208","v":""},null,{"$f":"保険会社用!E208","v":""},{"$f":"IF(保険会社用!F208>0,保険会社用!F208,\"\")","v":""},157,"名称",{"$f":"保険会社用!I208","v":""},null,{"$f":"保険会社用!K208","v":""},{"$f":"IF(保険会社用!L208>0,保険会社用!L208,\"\")","v":""}]
[null,"住所",{"$f":"保険会社用!C209","v":""},null,null,null,null,"住所",{"$f":"保険会社用!I209","v":""}]
[148,"名称",{"$f":"保険会社用!C210","v":""},null,{"$f":"保険会社用!E210","v":""},{"$f":"IF(保険会社用!F210>0,保険会社用!F210,\"\")","v":""},158,"名称",{"$f":"保険会社用!I210","v":""},null,{"$f":"保険会社用!K210","v":""},{"$f":"IF(保険会社用!L210>0,保険会社用!L210,\"\")","v":""}]
[null,"住所",{"$f":"保険会社用!C211","v":""},null,null,null,null,"住所",{"$f":"保険会社用!I211","v":""}]
[149,"名称",{"$f":"保険会社用!C212","v":""},null,{"$f":"保険会社用!E212","v":""},{"$f":"IF(保険会社用!F212>0,保険会社用!F212,\"\")","v":""},159,"名称",{"$f":"保険会社用!I212","v":""},null,{"$f":"保険会社用!K212","v":""},{"$f":"IF(保険会社用!L212>0,保険会社用!L212,\"\")","v":""}]
[null,"住所",{"$f":"保険会社用!C213","v":""},null,null,null,null,"住所",{"$f":"保険会社用!I213","v":""}]
[150,"名称",{"$f":"保険会社用!C214","v":""},null,{"$f":"保険会社用!E214","v":""},{"$f":"IF(保険会社用!F214>0,保険会社用!F214,\"\")","v":""},160,"名称",{"$f":"保険会社用!I214","v":""},null,{"$f":"保険会社用!K214","v":""},{"$f":"IF(保険会社用!L214>0,保険会社用!L214,\"\")","v":""}]
[null,"住所",{"$f":"保険会社用!C215","v":""},null,null,null,null,"住所",{"$f":"保険会社用!I215","v":""}]
["（注）","1.本名簿には、配送事業者がＬＰガス配送を受託しているＬＰガス販売事業者をすべて記入する。",null,null,null,null,null,"小　　計（このページの合計）",null,null,{"$f":"保険会社用!K216","v":0},{"$f":"保険会社用!L216","v":0}]
[null,"2.ＬＰガス配送受託販売所の名称欄には企業名、販売所名を明記し、住所欄には当該販売所の住所を記入する。"]
[null,"3.保険契約加入依頼の際、依頼書に本名簿（保険会社用、事業団用、都道府県協会用）を添付して提出する。"]
[null,"4.支部が事業団に加入依頼書を送付する際、２部（保険会社用、事業団用）を添付する。"]
[null,null,null,null,null,null,null,null,null,null,9,{"$f":"COUNTIF($L$26,\">0\")+COUNTIF($L$54,\">0\")+COUNTIF($L$81,\">0\")+COUNTIF($L$108,\">0\")+COUNTIF($L$135,\">0\")+COUNTIF($L$162,\">0\")+COUNTIF($L$189,\">0\")+COUNTIF($L$216,\">0\")+COUNTIF($L$243,\">0\")+COUNTIF($L$270,\">0\")","v":0}]
["LPガス配送",null,null,"名　　　　称","配送契約の内容",null,"LPガス配送",null,null,"名　　　　称","配送契約の内容"]
["受託販売所",null,null,"住　　　　所","配　送　先\n消費者戸数","1か年間の\n配送トン数","受託販売所",null,null,"住　　　　所","配　送　先\n消費者戸数","1か年間の\n配送トン数"]
[161,"名称",{"$f":"保険会社用!C223","v":""},null,{"$f":"保険会社用!E223","v":""},{"$f":"IF(保険会社用!F223>0,保険会社用!F223,\"\")","v":""},171,"名称",{"$f":"保険会社用!I223","v":""},null,{"$f":"保険会社用!K223","v":""},{"$f":"IF(保険会社用!L223>0,保険会社用!L223,\"\")","v":""}]
[null,"住所",{"$f":"保険会社用!C224","v":""},null,null,null,null,"住所",{"$f":"保険会社用!I224","v":""}]
[162,"名称",{"$f":"保険会社用!C225","v":""},null,{"$f":"保険会社用!E225","v":""},{"$f":"IF(保険会社用!F225>0,保険会社用!F225,\"\")","v":""},172,"名称",{"$f":"保険会社用!I225","v":""},null,{"$f":"保険会社用!K225","v":""},{"$f":"IF(保険会社用!L225>0,保険会社用!L225,\"\")","v":""}]
[null,"住所",{"$f":"保険会社用!C226","v":""},null,null,null,null,"住所",{"$f":"保険会社用!I226","v":""}]
[163,"名称",{"$f":"保険会社用!C227","v":""},null,{"$f":"保険会社用!E227","v":""},{"$f":"IF(保険会社用!F227>0,保険会社用!F227,\"\")","v":""},173,"名称",{"$f":"保険会社用!I227","v":""},null,{"$f":"保険会社用!K227","v":""},{"$f":"IF(保険会社用!L227>0,保険会社用!L227,\"\")","v":""}]
[null,"住所",{"$f":"保険会社用!C228","v":""},null,null,null,null,"住所",{"$f":"保険会社用!I228","v":""}]
[164,"名称",{"$f":"保険会社用!C229","v":""},null,{"$f":"保険会社用!E229","v":""},{"$f":"IF(保険会社用!F229>0,保険会社用!F229,\"\")","v":""},174,"名称",{"$f":"保険会社用!I229","v":""},null,{"$f":"保険会社用!K229","v":""},{"$f":"IF(保険会社用!L229>0,保険会社用!L229,\"\")","v":""}]
[null,"住所",{"$f":"保険会社用!C230","v":""},null,null,null,null,"住所",{"$f":"保険会社用!I230","v":""}]
[165,"名称",{"$f":"保険会社用!C231","v":""},null,{"$f":"保険会社用!E231","v":""},{"$f":"IF(保険会社用!F231>0,保険会社用!F231,\"\")","v":""},175,"名称",{"$f":"保険会社用!I231","v":""},null,{"$f":"保険会社用!K231","v":""},{"$f":"IF(保険会社用!L231>0,保険会社用!L231,\"\")","v":""}]
[null,"住所",{"$f":"保険会社用!C232","v":""},null,null,null,null,"住所",{"$f":"保険会社用!I232","v":""}]
[166,"名称",{"$f":"保険会社用!C233","v":""},null,{"$f":"保険会社用!E233","v":""},{"$f":"IF(保険会社用!F233>0,保険会社用!F233,\"\")","v":""},176,"名称",{"$f":"保険会社用!I233","v":""},null,{"$f":"保険会社用!K233","v":""},{"$f":"IF(保険会社用!L233>0,保険会社用!L233,\"\")","v":""}]
[null,"住所",{"$f":"保険会社用!C234","v":""},null,null,null,null,"住所",{"$f":"保険会社用!I234","v":""}]
[167,"名称",{"$f":"保険会社用!C235","v":""},null,{"$f":"保険会社用!E235","v":""},{"$f":"IF(保険会社用!F235>0,保険会社用!F235,\"\")","v":""},177,"名称",{"$f":"保険会社用!I235","v":""},null,{"$f":"保険会社用!K235","v":""},{"$f":"IF(保険会社用!L235>0,保険会社用!L235,\"\")","v":""}]
[null,"住所",{"$f":"保険会社用!C236","v":""},null,null,null,null,"住所",{"$f":"保険会社用!I236","v":""}]
[168,"名称",{"$f":"保険会社用!C237","v":""},null,{"$f":"保険会社用!E237","v":""},{"$f":"IF(保険会社用!F237>0,保険会社用!F237,\"\")","v":""},178,"名称",{"$f":"保険会社用!I237","v":""},null,{"$f":"保険会社用!K237","v":""},{"$f":"IF(保険会社用!L237>0,保険会社用!L237,\"\")","v":""}]
[null,"住所",{"$f":"保険会社用!C238","v":""},null,null,null,null,"住所",{"$f":"保険会社用!I238","v":""}]
[169,"名称",{"$f":"保険会社用!C239","v":""},null,{"$f":"保険会社用!E239","v":""},{"$f":"IF(保険会社用!F239>0,保険会社用!F239,\"\")","v":""},179,"名称",{"$f":"保険会社用!I239","v":""},null,{"$f":"保険会社用!K239","v":""},{"$f":"IF(保険会社用!L239>0,保険会社用!L239,\"\")","v":""}]
[null,"住所",{"$f":"保険会社用!C240","v":""},null,null,null,null,"住所",{"$f":"保険会社用!I240","v":""}]
[170,"名称",{"$f":"保険会社用!C241","v":""},null,{"$f":"保険会社用!E241","v":""},{"$f":"IF(保険会社用!F241>0,保険会社用!F241,\"\")","v":""},180,"名称",{"$f":"保険会社用!I241","v":""},null,{"$f":"保険会社用!K241","v":""},{"$f":"IF(保険会社用!L241>0,保険会社用!L241,\"\")","v":""}]
[null,"住所",{"$f":"保険会社用!C242","v":""},null,null,null,null,"住所",{"$f":"保険会社用!I242","v":""}]
["（注）","1.本名簿には、配送事業者がＬＰガス配送を受託しているＬＰガス販売事業者をすべて記入する。",null,null,null,null,null,"小　　計（このページの合計）",null,null,{"$f":"保険会社用!K243","v":0},{"$f":"保険会社用!L243","v":0}]
[null,"2.ＬＰガス配送受託販売所の名称欄には企業名、販売所名を明記し、住所欄には当該販売所の住所を記入する。"]
[null,"3.保険契約加入依頼の際、依頼書に本名簿（保険会社用、事業団用、都道府県協会用）を添付して提出する。"]
[null,"4.支部が事業団に加入依頼書を送付する際、２部（保険会社用、事業団用）を添付する。"]
[null,null,null,null,null,null,null,null,null,null,10,{"$f":"COUNTIF($L$26,\">0\")+COUNTIF($L$54,\">0\")+COUNTIF($L$81,\">0\")+COUNTIF($L$108,\">0\")+COUNTIF($L$135,\">0\")+COUNTIF($L$162,\">0\")+COUNTIF($L$189,\">0\")+COUNTIF($L$216,\">0\")+COUNTIF($L$243,\">0\")+COUNTIF($L$270,\">0\")","v":0},2]
["LPガス配送",null,null,"名　　　　称","配送契約の内容",null,"LPガス配送",null,null,"名　　　　称","配送契約の内容"]
["受託販売所",null,null,"住　　　　所","配　送　先\n消費者戸数","1か年間の\n配送トン数","受託販売所",null,null,"住　　　　所","配　送　先\n消費者戸数","1か年間の\n配送トン数"]
[181,"名称",{"$f":"保険会社用!C250","v":""},null,{"$f":"保険会社用!E250","v":""},{"$f":"IF(保険会社用!F250>0,保険会社用!F250,\"\")","v":""},191,"名称",{"$f":"保険会社用!I250","v":""},null,{"$f":"保険会社用!K250","v":""},{"$f":"IF(保険会社用!L250>0,保険会社用!L250,\"\")","v":""}]
[null,"住所",{"$f":"保険会社用!C251","v":""},null,null,null,null,"住所",{"$f":"保険会社用!I251","v":""}]
[182,"名称",{"$f":"保険会社用!C252","v":""},null,{"$f":"保険会社用!E252","v":""},{"$f":"IF(保険会社用!F252>0,保険会社用!F252,\"\")","v":""},192,"名称",{"$f":"保険会社用!I252","v":""},null,{"$f":"保険会社用!K252","v":""},{"$f":"IF(保険会社用!L252>0,保険会社用!L252,\"\")","v":""}]
[null,"住所",{"$f":"保険会社用!C253","v":""},null,null,null,null,"住所",{"$f":"保険会社用!I253","v":""}]
[183,"名称",{"$f":"保険会社用!C254","v":""},null,{"$f":"保険会社用!E254","v":""},{"$f":"IF(保険会社用!F254>0,保険会社用!F254,\"\")","v":""},193,"名称",{"$f":"保険会社用!I254","v":""},null,{"$f":"保険会社用!K254","v":""},{"$f":"IF(保険会社用!L254>0,保険会社用!L254,\"\")","v":""}]
[null,"住所",{"$f":"保険会社用!C255","v":""},null,null,null,null,"住所",{"$f":"保険会社用!I255","v":""}]
[184,"名称",{"$f":"保険会社用!C256","v":""},null,{"$f":"保険会社用!E256","v":""},{"$f":"IF(保険会社用!F256>0,保険会社用!F256,\"\")","v":""},194,"名称",{"$f":"保険会社用!I256","v":""},null,{"$f":"保険会社用!K256","v":""},{"$f":"IF(保険会社用!L256>0,保険会社用!L256,\"\")","v":""}]
[null,"住所",{"$f":"保険会社用!C257","v":""},null,null,null,null,"住所",{"$f":"保険会社用!I257","v":""}]
[185,"名称",{"$f":"保険会社用!C258","v":""},null,{"$f":"保険会社用!E258","v":""},{"$f":"IF(保険会社用!F258>0,保険会社用!F258,\"\")","v":""},195,"名称",{"$f":"保険会社用!I258","v":""},null,{"$f":"保険会社用!K258","v":""},{"$f":"IF(保険会社用!L258>0,保険会社用!L258,\"\")","v":""}]
[null,"住所",{"$f":"保険会社用!C259","v":""},null,null,null,null,"住所",{"$f":"保険会社用!I259","v":""}]
[186,"名称",{"$f":"保険会社用!C260","v":""},null,{"$f":"保険会社用!E260","v":""},{"$f":"IF(保険会社用!F260>0,保険会社用!F260,\"\")","v":""},196,"名称",{"$f":"保険会社用!I260","v":""},null,{"$f":"保険会社用!K260","v":""},{"$f":"IF(保険会社用!L260>0,保険会社用!L260,\"\")","v":""}]
[null,"住所",{"$f":"保険会社用!C261","v":""},null,null,null,null,"住所",{"$f":"保険会社用!I261","v":""}]
[187,"名称",{"$f":"保険会社用!C262","v":""},null,{"$f":"保険会社用!E262","v":""},{"$f":"IF(保険会社用!F262>0,保険会社用!F262,\"\")","v":""},197,"名称",{"$f":"保険会社用!I262","v":""},null,{"$f":"保険会社用!K262","v":""},{"$f":"IF(保険会社用!L262>0,保険会社用!L262,\"\")","v":""}]
[null,"住所",{"$f":"保険会社用!C263","v":""},null,null,null,null,"住所",{"$f":"保険会社用!I263","v":""}]
[188,"名称",{"$f":"保険会社用!C264","v":""},null,{"$f":"保険会社用!E264","v":""},{"$f":"IF(保険会社用!F264>0,保険会社用!F264,\"\")","v":""},198,"名称",{"$f":"保険会社用!I264","v":""},null,{"$f":"保険会社用!K264","v":""},{"$f":"IF(保険会社用!L264>0,保険会社用!L264,\"\")","v":""}]
[null,"住所",{"$f":"保険会社用!C265","v":""},null,null,null,null,"住所",{"$f":"保険会社用!I265","v":""}]
[189,"名称",{"$f":"保険会社用!C266","v":""},null,{"$f":"保険会社用!E266","v":""},{"$f":"IF(保険会社用!F266>0,保険会社用!F266,\"\")","v":""},199,"名称",{"$f":"保険会社用!I266","v":""},null,{"$f":"保険会社用!K266","v":""},{"$f":"IF(保険会社用!L266>0,保険会社用!L266,\"\")","v":""}]
[null,"住所",{"$f":"保険会社用!C267","v":""},null,null,null,null,"住所",{"$f":"保険会社用!I267","v":""}]
[190,"名称",{"$f":"保険会社用!C268","v":""},null,{"$f":"保険会社用!E268","v":""},{"$f":"IF(保険会社用!F268>0,保険会社用!F268,\"\")","v":""},200,"名称",{"$f":"保険会社用!I268","v":""},null,{"$f":"保険会社用!K268","v":""},{"$f":"IF(保険会社用!L268>0,保険会社用!L268,\"\")","v":""}]
[null,"住所",{"$f":"保険会社用!C269","v":""},null,null,null,null,"住所",{"$f":"保険会社用!I269","v":""}]
["（注）","1.本名簿には、配送事業者がＬＰガス配送を受託しているＬＰガス販売事業者をすべて記入する。",null,null,null,null,null,"小　　計（このページの合計）",null,null,{"$f":"保険会社用!K270","v":0},{"$f":"保険会社用!L270","v":0}]
[null,"2.ＬＰガス配送受託販売所の名称欄には企業名、販売所名を明記し、住所欄には当該販売所の住所を記入する。"]
[null,"3.保険契約加入依頼の際、依頼書に本名簿（保険会社用、事業団用、都道府県協会用）を添付して提出する。"]
[null,"4.支部が事業団に加入依頼書を送付する際、２部（保険会社用、事業団用）を添付する。"]

{"sheet":"協会用","index":3,"n_rows":273,"n_cols":13,"rows_kept":273,"cut":false,"hidden":false,"merged":[[271,7,272,9],[271,10,272,10],[271,11,272,11],[267,10,268,10],[267,11,268,11],[268,2,268,3],[268,8,268,9],[269,7,270,9],[269,10,270,10],[269,11,270,11],[265,10,266,10],[265,11,266,11],[266,2,266,3],[266,8,266,9],[267,0,268,0],[267,2,267,3],[267,4,268,4],[267,5,268,5],[267,6,268,6],[267,8,267,9],[263,10,264,10],[263,11,264,11],[264,2,264,3],[264,8,264,9],[265,0,266,0],[265,2,265,3],[265,4,266,4],[265,5,266,5],[265,6,266,6],[265,8,265,9],[261,10,262,10],[261,11,262,11],[262,2,262,3],[262,8,262,9],[263,0,264,0],[263,2,263,3],[263,4,264,4],[263,5,264,5],[263,6,264,6],[263,8,263,9],[259,10,260,10],[259,11,260,11],[260,2,260,3],[260,8,260,9],[261,0,262,0],[261,2,261,3],[261,4,262,4],[261,5,262,5],[261,6,262,6],[261,8,261,9],[257,10,258,10],[257,11,258,11],[258,2,258,3],[258,8,258,9],[259,0,260,0],[259,2,259,3],[259,4,260,4],[259,5,260,5],[259,6,260,6],[259,8,259,9],[255,10,256,10],[255,11,256,11],[256,2,256,3],[256,8,256,9],[257,0,258,0],[257,2,257,3],[257,4,258,4],[257,5,258,5],[257,6,258,6],[257,8,257,9],[253,10,254,10],[253,11,254,11],[254,2,254,3],[254,8,254,9],[255,0,256,0],[255,2,255,3],[255,4,256,4],[255,5,256,5],[255,6,256,6],[255,8,255,9],[251,10,252,10],[251,11,252,11],[252,2,252,3],[252,8,252,9],[253,0,254,0],[253,2,253,3],[253,4,254,4],[253,5,254,5],[253,6,254,6],[253,8,253,9],[249,10,250,10],[249,11,250,11],[250,2,250,3],[250,8,250,9],[251,0,252,0],[251,2,251,3],[251,4,252,4],[251,5,252,5],[251,6,252,6],[251,8,251,9],[248,0,248,2],[248,6,248,8],[249,0,250,0],[249,2,249,3],[249,4,250,4],[249,5,250,5],[249,6,250,6],[249,8,249,9],[244,7,245,9],[244,10,245,10],[244,11,245,11],[246,0,246,2],[246,5,246,9],[247,0,247,2],[247,4,247,5],[247,6,247,8],[247,10,247,11],[240,10,241,10],[240,11,241,11],[241,2,241,3],[241,8,241,9],[242,7,243,9],[242,10,243,10],[242,11,243,11],[238,10,239,10],[238,11,239,11],[239,2,239,3],[239,8,239,9],[240,0,241,0],[240,2,240,3],[240,4,241,4],[240,5,241,5],[240,6,241,6],[240,8,240,9],[236,10,237,10],[236,11,237,11],[237,2,237,3],[237,8,237,9],[238,0,239,0],[238,2,238,3],[238,4,239,4],[238,5,239,5],[238,6,239,6],[238,8,238,9],[234,10,235,10],[234,11,235,11],[235,2,235,3],[235,8,235,9],[236,0,237,0],[236,2,236,3],[236,4,237,4],[236,5,237,5],[236,6,237,6],[236,8,236,9],[232,10,233,10],[232,11,233,11],[233,2,233,3],[233,8,233,9],[234,0,235,0],[234,2,234,3],[234,4,235,4],[234,5,235,5],[234,6,235,6],[234,8,234,9],[230,10,231,10],[230,11,231,11],[231,2,231,3],[231,8,231,9],[232,0,233,0],[232,2,232,3],[232,4,233,4],[232,5,233,5],[232,6,233,6],[232,8,232,9],[228,10,229,10],[228,11,229,11],[229,2,229,3],[229,8,229,9],[230,0,231,0],[230,2,230,3],[230,4,231,4],[230,5,231,5],[230,6,231,6],[230,8,230,9],[226,10,227,10],[226,11,227,11],[227,2,227,3],[227,8,227,9],[228,0,229,0],[228,2,228,3],[228,4,229,4],[228,5,229,5],[228,6,229,6],[228,8,228,9],[224,10,225,10],[224,11,225,11],[225,2,225,3],[225,8,225,9],[226,0,227,0],[226,2,226,3],[226,4,227,4],[226,5,227,5],[226,6,227,6],[226,8,226,9],[222,10,223,10],[222,11,223,11],[223,2,223,3],[223,8,223,9],[224,0,225,0],[224,2,224,3],[224,4,225,4],[224,5,225,5],[224,6,225,6],[224,8,224,9],[221,0,221,2],[221,6,221,8],[222,0,223,0],[222,2,222,3],[222,4,223,4],[222,5,223,5],[222,6,223,6],[222,8,222,9],[217,7,218,9],[217,10,218,10],[217,11,218,11],[219,0,219,2],[219,5,219,9],[220,0,220,2],[220,4,220,5],[220,6,220,8],[220,10,220,11],[213,10,214,10],[213,11,214,11],[214,2,214,3],[214,8,214,9],[215,7,216,9],[215,10,216,10],[215,11,216,11],[211,10,212,10],[211,11,212,11],[212,2,212,3],[212,8,212,9],[213,0,214,0],[213,2,213,3],[213,4,214,4],[213,5,214,5],[213,6,214,6],[213,8,213,9],[209,10,210,10],[209,11,210,11],[210,2,210,3],[210,8,210,9],[211,0,212,0],[211,2,211,3],[211,4,212,4],[211,5,212,5],[211,6,212,6],[211,8,211,9],[207,10,208,10],[207,11,208,11],[208,2,208,3],[208,8,208,9],[209,0,210,0],[209,2,209,3],[209,4,210,4],[209,5,210,5],[209,6,210,6],[209,8,209,9],[205,10,206,10],[205,11,206,11],[206,2,206,3],[206,8,206,9],[207,0,208,0],[207,2,207,3],[207,4,208,4],[207,5,208,5],[207,6,208,6],[207,8,207,9],[203,10,204,10],[203,11,204,11],[204,2,204,3],[204,8,204,9],[205,0,206,0],[205,2,205,3],[205,4,206,4],[205,5,206,5],[205,6,206,6],[205,8,205,9],[201,10,202,10],[201,11,202,11],[202,2,202,3],[202,8,202,9],[203,0,204,0],[203,2,203,3],[203,4,204,4],[203,5,204,5],[203,6,204,6],[203,8,203,9],[199,10,200,10],[199,11,200,11],[200,2,200,3],[200,8,200,9],[201,0,202,0],[201,2,201,3],[201,4,202,4],[201,5,202,5],[201,6,202,6],[201,8,201,9],[197,10,198,10],[197,11,198,11],[198,2,198,3],[198,8,198,9],[199,0,200,0],[199,2,199,3],[199,4,200,4],[199,5,200,5],[199,6,200,6],[199,8,199,9],[195,10,196,10],[195,11,196,11],[196,2,196,3],[196,8,196,9],[197,0,198,0],[197,2,197,3],[197,4,198,4],[197,5,198,5],[197,6,198,6],[197,8,197,9],[194,0,194,2],[194,6,194,8],[195,0,196,0],[195,2,195,3],[195,4,196,4],[195,5,196,5],[195,6,196,6],[195,8,195,9],[190,7,191,9],[190,10,191,10],[190,11,191,11],[192,0,192,2],[192,5,192,9],[193,0,193,2],[193,4,193,5],[193,6,193,8],[193,10,193,11],[186,10,187,10],[186,11,187,11],[187,2,187,3],[187,8,187,9],[188,7,189,9],[188,10,189,10],[188,11,189,11],[184,10,185,10],[184,11,185,11],[185,2,185,3],[185,8,185,9],[186,0,187,0],[186,2,186,3],[186,4,187,4],[186,5,187,5],[186,6,187,6],[186,8,186,9],[182,10,183,10],[182,11,183,11],[183,2,183,3],[183,8,183,9],[184,0,185,0],[184,2,184,3],[184,4,185,4],[184,5,185,5],[184,6,185,6],[184,8,184,9],[180,10,181,10],[180,11,181,11],[181,2,181,3],[181,8,181,9],[182,0,183,0],[182,2,182,3],[182,4,183,4],[182,5,183,5],[182,6,183,6],[182,8,182,9],[178,10,179,10],[178,11,179,11],[179,2,179,3],[179,8,179,9],[180,0,181,0],[180,2,180,3],[180,4,181,4],[180,5,181,5],[180,6,181,6],[180,8,180,9],[176,10,177,10],[176,11,177,11],[177,2,177,3],[177,8,177,9],[178,0,179,0],[178,2,178,3],[178,4,179,4],[178,5,179,5],[178,6,179,6],[178,8,178,9],[174,10,175,10],[174,11,175,11],[175,2,175,3],[175,8,175,9],[176,0,177,0],[176,2,176,3],[176,4,177,4],[176,5,177,5],[176,6,177,6],[176,8,176,9],[172,10,173,10],[172,11,173,11],[173,2,173,3],[173,8,173,9],[174,0,175,0],[174,2,174,3],[174,4,175,4],[174,5,175,5],[174,6,175,6],[174,8,174,9],[170,10,171,10],[170,11,171,11],[171,2,171,3],[171,8,171,9],[172,0,173,0],[172,2,172,3],[172,4,173,4],[172,5,173,5],[172,6,173,6],[172,8,172,9],[168,10,169,10],[168,11,169,11],[169,2,169,3],[169,8,169,9],[170,0,171,0],[170,2,170,3],[170,4,171,4],[170,5,171,5],[170,6,171,6],[170,8,170,9],[167,0,167,2],[167,6,167,8],[168,0,169,0],[168,2,168,3],[168,4,169,4],[168,5,169,5],[168,6,169,6],[168,8,168,9],[163,7,164,9],[163,10,164,10],[163,11,164,11],[165,0,165,2],[165,5,165,9],[166,0,166,2],[166,4,166,5],[166,6,166,8],[166,10,166,11],[159,10,160,10],[159,11,160,11],[160,2,160,3],[160,8,160,9],[161,7,162,9],[161,10,162,10],[161,11,162,11],[157,10,158,10],[157,11,158,11],[158,2,158,3],[158,8,158,9],[159,0,160,0],[159,2,159,3],[159,4,160,4],[159,5,160,5],[159,6,160,6],[159,8,159,9],[155,10,156,10],[155,11,156,11],[156,2,156,3],[156,8,156,9],[157,0,158,0],[157,2,157,3],[157,4,158,4],[157,5,158,5],[157,6,158,6],[157,8,157,9],[153,10,154,10],[153,11,154,11],[154,2,154,3],[154,8,154,9],[155,0,156,0],[155,2,155,3],[155,4,156,4],[155,5,156,5],[155,6,156,6],[155,8,155,9],[151,10,152,10],[151,11,152,11],[152,2,152,3],[152,8,152,9],[153,0,154,0],[153,2,153,3],[153,4,154,4],[153,5,154,5],[153,6,154,6],[153,8,153,9],[149,10,150,10],[149,11,150,11],[150,2,150,3],[150,8,150,9],[151,0,152,0],[151,2,151,3],[151,4,152,4],[151,5,152,5],[151,6,152,6],[151,8,151,9],[147,10,148,10],[147,11,148,11],[148,2,148,3],[148,8,148,9],[149,0,150,0],[149,2,149,3],[149,4,150,4],[149,5,150,5],[149,6,150,6],[149,8,149,9],[145,10,146,10],[145,11,146,11],[146,2,146,3],[146,8,146,9],[147,0,148,0],[147,2,147,3],[147,4,148,4],[147,5,148,5],[147,6,148,6],[147,8,147,9],[143,10,144,10],[143,11,144,11],[144,2,144,3],[144,8,144,9],[145,0,146,0],[145,2,145,3],[145,4,146,4],[145,5,146,5],[145,6,146,6],[145,8,145,9],[141,10,142,10],[141,11,142,11],[142,2,142,3],[142,8,142,9],[143,0,144,0],[143,2,143,3],[143,4,144,4],[143,5,144,5],[143,6,144,6],[143,8,143,9],[140,0,140,2],[140,6,140,8],[141,0,142,0],[141,2,141,3],[141,4,142,4],[141,5,142,5],[141,6,142,6],[141,8,141,9],[136,7,137,9],[136,10,137,10],[136,11,137,11],[138,0,138,2],[138,5,138,9],[139,0,139,2],[139,4,139,5],[139,6,139,8],[139,10,139,11],[132,10,133,10],[132,11,133,11],[133,2,133,3],[133,8,133,9],[134,7,135,9],[134,10,135,10],[134,11,135,11],[130,10,131,10],[130,11,131,11],[131,2,131,3],[131,8,131,9],[132,0,133,0],[132,2,132,3],[132,4,133,4],[132,5,133,5],[132,6,133,6],[132,8,132,9],[128,10,129,10],[128,11,129,11],[129,2,129,3],[129,8,129,9],[130,0,131,0],[130,2,130,3],[130,4,131,4],[130,5,131,5],[130,6,131,6],[130,8,130,9],[126,10,127,10],[126,11,127,11],[127,2,127,3],[127,8,127,9],[128,0,129,0],[128,2,128,3],[128,4,129,4],[128,5,129,5],[128,6,129,6],[128,8,128,9],[124,10,125,10],[124,11,125,11],[125,2,125,3],[125,8,125,9],[126,0,127,0],[126,2,126,3],[126,4,127,4],[126,5,127,5],[126,6,127,6],[126,8,126,9],[122,10,123,10],[122,11,123,11],[123,2,123,3],[123,8,123,9],[124,0,125,0],[124,2,124,3],[124,4,125,4],[124,5,125,5],[124,6,125,6],[124,8,124,9],[120,10,121,10],[120,11,121,11],[121,2,121,3],[121,8,121,9],[122,0,123,0],[122,2,122,3],[122,4,123,4],[122,5,123,5],[122,6,123,6],[122,8,122,9],[118,10,119,10],[118,11,119,11],[119,2,119,3],[119,8,119,9],[120,0,121,0],[120,2,120,3],[120,4,121,4],[120,5,121,5],[120,6,121,6],[120,8,120,9],[116,10,117,10],[116,11,117,11],[117,2,117,3],[117,8,117,9],[118,0,119,0],[118,2,118,3],[118,4,119,4],[118,5,119,5],[118,6,119,6],[118,8,118,9],[114,10,115,10],[114,11,115,11],[115,2,115,3],[115,8,115,9],[116,0,117,0],[116,2,116,3],[116,4,117,4],[116,5,117,5],[116,6,117,6],[116,8,116,9],[113,0,113,2],[113,6,113,8],[114,0,115,0],[114,2,114,3],[114,4,115,4],[114,5,115,5],[114,6,115,6],[114,8,114,9],[109,7,110,9],[109,10,110,10],[109,11,110,11],[111,0,111,2],[111,5,111,9],[112,0,112,2],[112,4,112,5],[112,6,112,8],[112,10,112,11],[105,10,106,10],[105,11,106,11],[106,2,106,3],[106,8,106,9],[107,7,108,9],[107,10,108,10],[107,11,108,11],[103,10,104,10],[103,11,104,11],[104,2,104,3],[104,8,104,9],[105,0,106,0],[105,2,105,3],[105,4,106,4],[105,5,106,5],[105,6,106,6],[105,8,105,9],[101,10,102,10],[101,11,102,11],[102,2,102,3],[102,8,102,9],[103,0,104,0],[103,2,103,3],[103,4,104,4],[103,5,104,5],[103,6,104,6],[103,8,103,9],[99,10,100,10],[99,11,100,11],[100,2,100,3],[100,8,100,9],[101,0,102,0],[101,2,101,3],[101,4,102,4],[101,5,102,5],[101,6,102,6],[101,8,101,9],[97,10,98,10],[97,11,98,11],[98,2,98,3],[98,8,98,9],[99,0,100,0],[99,2,99,3],[99,4,100,4],[99,5,100,5],[99,6,100,6],[99,8,99,9],[95,10,96,10],[95,11,96,11],[96,2,96,3],[96,8,96,9],[97,0,98,0],[97,2,97,3],[97,4,98,4],[97,5,98,5],[97,6,98,6],[97,8,97,9],[93,10,94,10],[93,11,94,11],[94,2,94,3],[94,8,94,9],[95,0,96,0],[95,2,95,3],[95,4,96,4],[95,5,96,5],[95,6,96,6],[95,8,95,9],[91,10,92,10],[91,11,92,11],[92,2,92,3],[92,8,92,9],[93,0,94,0],[93,2,93,3],[93,4,94,4],[93,5,94,5],[93,6,94,6],[93,8,93,9],[89,10,90,10],[89,11,90,11],[90,2,90,3],[90,8,90,9],[91,0,92,0],[91,2,91,3],[91,4,92,4],[91,5,92,5],[91,6,92,6],[91,8,91,9],[87,10,88,10],[87,11,88,11],[88,2,88,3],[88,8,88,9],[89,0,90,0],[89,2,89,3],[89,4,90,4],[89,5,90,5],[89,6,90,6],[89,8,89,9],[86,0,86,2],[86,6,86,8],[87,0,88,0],[87,2,87,3],[87,4,88,4],[87,5,88,5],[87,6,88,6],[87,8,87,9],[82,7,83,9],[82,10,83,10],[82,11,83,11],[84,0,84,2],[84,5,84,9],[85,0,85,2],[85,4,85,5],[85,6,85,8],[85,10,85,11],[78,10,79,10],[78,11,79,11],[79,2,79,3],[79,8,79,9],[80,7,81,9],[80,10,81,10],[80,11,81,11],[76,10,77,10],[76,11,77,11],[77,2,77,3],[77,8,77,9],[78,0,79,0],[78,2,78,3],[78,4,79,4],[78,5,79,5],[78,6,79,6],[78,8,78,9],[74,10,75,10],[74,11,75,11],[75,2,75,3],[75,8,75,9],[76,0,77,0],[76,2,76,3],[76,4,77,4],[76,5,77,5],[76,6,77,6],[76,8,76,9],[72,10,73,10],[72,11,73,11],[73,2,73,3],[73,8,73,9],[74,0,75,0],[74,2,74,3],[74,4,75,4],[74,5,75,5],[74,6,75,6],[74,8,74,9],[70,10,71,10],[70,11,71,11],[71,2,71,3],[71,8,71,9],[72,0,73,0],[72,2,72,3],[72,4,73,4],[72,5,73,5],[72,6,73,6],[72,8,72,9],[68,10,69,10],[68,11,69,11],[69,2,69,3],[69,8,69,9],[70,0,71,0],[70,2,70,3],[70,4,71,4],[70,5,71,5],[70,6,71,6],[70,8,70,9],[66,10,67,10],[66,11,67,11],[67,2,67,3],[67,8,67,9],[68,0,69,0],[68,2,68,3],[68,4,69,4],[68,5,69,5],[68,6,69,6],[68,8,68,9],[64,10,65,10],[64,11,65,11],[65,2,65,3],[65,8,65,9],[66,0,67,0],[66,2,66,3],[66,4,67,4],[66,5,67,5],[66,6,67,6],[66,8,66,9],[62,10,63,10],[62,11,63,11],[63,2,63,3],[63,8,63,9],[64,0,65,0],[64,2,64,3],[64,4,65,4],[64,5,65,5],[64,6,65,6],[64,8,64,9],[60,10,61,10],[60,11,61,11],[61,2,61,3],[61,8,61,9],[62,0,63,0],[62,2,62,3],[62,4,63,4],[62,5,63,5],[62,6,63,6],[62,8,62,9],[59,0,59,2],[59,6,59,8],[60,0,61,0],[60,2,60,3],[60,4,61,4],[60,5,61,5],[60,6,61,6],[60,8,60,9],[55,7,56,9],[55,10,56,10],[55,11,56,11],[57,0,57,2],[57,5,57,9],[58,0,58,2],[58,4,58,5],[58,6,58,8],[58,10,58,11],[51,10,52,10],[51,11,52,11],[52,2,52,3],[52,8,52,9],[53,7,54,9],[53,10,54,10],[53,11,54,11],[49,10,50,10],[49,11,50,11],[50,2,50,3],[50,8,50,9],[51,0,52,0],[51,2,51,3],[51,4,52,4],[51,5,52,5],[51,6,52,6],[51,8,51,9],[47,10,48,10],[47,11,48,11],[48,2,48,3],[48,8,48,9],[49,0,50,0],[49,2,49,3],[49,4,50,4],[49,5,50,5],[49,6,50,6],[49,8,49,9],[45,10,46,10],[45,11,46,11],[46,2,46,3],[46,8,46,9],[47,0,48,0],[47,2,47,3],[47,4,48,4],[47,5,48,5],[47,6,48,6],[47,8,47,9],[43,10,44,10],[43,11,44,11],[44,2,44,3],[44,8,44,9],[45,0,46,0],[45,2,45,3],[45,4,46,4],[45,5,46,5],[45,6,46,6],[45,8,45,9],[41,10,42,10],[41,11,42,11],[42,2,42,3],[42,8,42,9],[43,0,44,0],[43,2,43,3],[43,4,44,4],[43,5,44,5],[43,6,44,6],[43,8,43,9],[39,10,40,10],[39,11,40,11],[40,2,40,3],[40,8,40,9],[41,0,42,0],[41,2,41,3],[41,4,42,4],[41,5,42,5],[41,6,42,6],[41,8,41,9],[37,10,38,10],[37,11,38,11],[38,2,38,3],[38,8,38,9],[39,0,40,0],[39,2,39,3],[39,4,40,4],[39,5,40,5],[39,6,40,6],[39,8,39,9],[35,10,36,10],[35,11,36,11],[36,2,36,3],[36,8,36,9],[37,0,38,0],[37,2,37,3],[37,4,38,4],[37,5,38,5]],"merged_total":1143,"flags":["merged_cut"]}
[null,null,null,null,"配　送\n事業所",{"$f":"保険会社用!F1","v":0},null,null,null,null,null,{"$f":"入力シート!F1","v":"○○県"}]
["LPガス配送事業者",null,null,{"$f":"保険会社用!D2","v":0},null,null,null,null,null,null,null,{"$f":"入力シート!F2","v":"2015-06-03"}]
[null,null,null,null,null,null,null,null,null,null,1,{"$f":"IF($L$26=0,1,(COUNTIF($L$26,\">0\")+COUNTIF($L$54,\">0\")+COUNTIF($L$81,\">0\")+COUNTIF($L$108,\">0\")+COUNTIF($L$135,\">0\")+COUNTIF($L$162,\">0\")+COUNTIF($L$189,\">0\")+COUNTIF($L$216,\">0\")+COUNTIF($L$243,\">0\")+COUNTIF($L$270,\">0\")))","v":1},4]
["LPガス配送",null,null,"名　　　　称","配送契約の内容",null,"LPガス配送",null,null,"名　　　　称","配送契約の内容"]
["受託販売所",null,null,"住　　　　所","配　送　先\n消費者戸数","1か年間の\n配送トン数","受託販売所",null,null,"住　　　　所","配　送　先\n消費者戸数","1か年間の\n配送トン数"]
[1,"名称",{"$f":"保険会社用!C6","v":""},null,{"$f":"保険会社用!E6","v":""},{"$f":"IF(保険会社用!F6>0,保険会社用!F6,\"\")","v":""},11,"名称",{"$f":"保険会社用!I6","v":""},null,{"$f":"保険会社用!K6","v":""},{"$f":"IF(保険会社用!L6>0,保険会社用!L6,\"\")","v":""}]
[null,"住所",{"$f":"保険会社用!C7","v":""},null,null,null,null,"住所",{"$f":"保険会社用!I7","v":""}]
[2,"名称",{"$f":"保険会社用!C8","v":""},null,{"$f":"保険会社用!E8","v":""},{"$f":"IF(保険会社用!F8>0,保険会社用!F8,\"\")","v":""},12,"名称",{"$f":"保険会社用!I8","v":""},null,{"$f":"保険会社用!K8","v":""},{"$f":"IF(保険会社用!L8>0,保険会社用!L8,\"\")","v":""}]
[null,"住所",{"$f":"保険会社用!C9","v":""},null,null,null,null,"住所",{"$f":"保険会社用!I9","v":""}]
[3,"名称",{"$f":"保険会社用!C10","v":""},null,{"$f":"保険会社用!E10","v":""},{"$f":"IF(保険会社用!F10>0,保険会社用!F10,\"\")","v":""},13,"名称",{"$f":"保険会社用!I10","v":""},null,{"$f":"保険会社用!K10","v":""},{"$f":"IF(保険会社用!L10>0,保険会社用!L10,\"\")","v":""}]
[null,"住所",{"$f":"保険会社用!C11","v":""},null,null,null,null,"住所",{"$f":"保険会社用!I11","v":""}]
[4,"名称",{"$f":"保険会社用!C12","v":""},null,{"$f":"保険会社用!E12","v":""},{"$f":"IF(保険会社用!F12>0,保険会社用!F12,\"\")","v":""},14,"名称",{"$f":"保険会社用!I12","v":""},null,{"$f":"保険会社用!K12","v":""},{"$f":"IF(保険会社用!L12>0,保険会社用!L12,\"\")","v":""}]
[null,"住所",{"$f":"保険会社用!C13","v":""},null,null,null,null,"住所",{"$f":"保険会社用!I13","v":""}]
[5,"名称",{"$f":"保険会社用!C14","v":""},null,{"$f":"保険会社用!E14","v":""},{"$f":"IF(保険会社用!F14>0,保険会社用!F14,\"\")","v":""},15,"名称",{"$f":"保険会社用!I14","v":""},null,{"$f":"保険会社用!K14","v":""},{"$f":"IF(保険会社用!L14>0,保険会社用!L14,\"\")","v":""}]
[null,"住所",{"$f":"保険会社用!C15","v":""},null,null,null,null,"住所",{"$f":"保険会社用!I15","v":""}]
[6,"名称",{"$f":"保険会社用!C16","v":""},null,{"$f":"保険会社用!E16","v":""},{"$f":"IF(保険会社用!F16>0,保険会社用!F16,\"\")","v":""},16,"名称",{"$f":"保険会社用!I16","v":""},null,{"$f":"保険会社用!K16","v":""},{"$f":"IF(保険会社用!L16>0,保険会社用!L16,\"\")","v":""}]
[null,"住所",{"$f":"保険会社用!C17","v":""},null,null,null,null,"住所",{"$f":"保険会社用!I17","v":""}]
[7,"名称",{"$f":"保険会社用!C18","v":""},null,{"$f":"保険会社用!E18","v":""},{"$f":"IF(保険会社用!F18>0,保険会社用!F18,\"\")","v":""},17,"名称",{"$f":"保険会社用!I18","v":""},null,{"$f":"保険会社用!K18","v":""},{"$f":"IF(保険会社用!L18>0,保険会社用!L18,\"\")","v":""}]
[null,"住所",{"$f":"保険会社用!C19","v":""},null,null,null,null,"住所",{"$f":"保険会社用!I19","v":""}]
[8,"名称",{"$f":"保険会社用!C20","v":""},null,{"$f":"保険会社用!E20","v":""},{"$f":"IF(保険会社用!F20>0,保険会社用!F20,\"\")","v":""},18,"名称",{"$f":"保険会社用!I20","v":""},null,{"$f":"保険会社用!K20","v":""},{"$f":"IF(保険会社用!L20>0,保険会社用!L20,\"\")","v":""}]
[null,"住所",{"$f":"保険会社用!C21","v":""},null,null,null,null,"住所",{"$f":"保険会社用!I21","v":""}]
[9,"名称",{"$f":"保険会社用!C22","v":""},null,{"$f":"保険会社用!E22","v":""},{"$f":"IF(保険会社用!F22>0,保険会社用!F22,\"\")","v":""},19,"名称",{"$f":"保険会社用!I22","v":""},null,{"$f":"保険会社用!K22","v":""},{"$f":"IF(保険会社用!L22>0,保険会社用!L22,\"\")","v":""}]
[null,"住所",{"$f":"保険会社用!C23","v":""},null,null,null,null,"住所",{"$f":"保険会社用!I23","v":""}]
[10,"名称",{"$f":"保険会社用!C24","v":""},null,{"$f":"保険会社用!E24","v":""},{"$f":"IF(保険会社用!F24>0,保険会社用!F24,\"\")","v":""},20,"名称",{"$f":"保険会社用!I24","v":""},null,{"$f":"保険会社用!K24","v":""},{"$f":"IF(保険会社用!L24>0,保険会社用!L24,\"\")","v":""}]
[null,"住所",{"$f":"保険会社用!C25","v":""},null,null,null,null,"住所",{"$f":"保険会社用!I25","v":""}]
["（注）","1.本名簿には、配送事業者がＬＰガス配送を受託しているＬＰガス販売事業者をすべて記入する。",null,null,null,null,null,"小　　計（このページの合計）",null,null,{"$f":"保険会社用!K26","v":0},{"$f":"保険会社用!L26","v":0}]
[null,"2.ＬＰガス配送受託販売所の名称欄には企業名、販売所名を明記し、住所欄には当該販売所の住所を記入する。"]
[null,"3.保険契約加入依頼の際、依頼書に本名簿（保険会社用、事業団用、都道府県協会用）を添付して提出する。",null,null,null,null,null,"配送事業所ごとの合計",null,null,{"$f":"保険会社用!K28","v":0},{"$f":"保険会社用!L28","v":0}]
[null,"4.支部が事業団に加入依頼書を送付する際、２部（保険会社用、事業団用）を添付する。"]
[null,null,null,null,null,null,null,null,null,null,null,"＊１トン未満切り捨て"]
[null,null,null,null,null,null,null,null,null,null,2,{"$f":"COUNTIF($L$26,\">0\")+COUNTIF($L$54,\">0\")+COUNTIF($L$81,\">0\")+COUNTIF($L$108,\">0\")+COUNTIF($L$135,\">0\")+COUNTIF($L$162,\">0\")+COUNTIF($L$189,\">0\")+COUNTIF($L$216,\">0\")+COUNTIF($L$243,\">0\")+COUNTIF($L$270,\">0\")","v":0}]
["LPガス配送",null,null,"名　　　　称","配送契約の内容",null,"LPガス配送",null,null,"名　　　　称","配送契約の内容"]
["受託販売所",null,null,"住　　　　所","配　送　先\n消費者戸数","1か年間の\n配送トン数","受託販売所",null,null,"住　　　　所","配　送　先\n消費者戸数","1か年間の\n配送トン数"]
[21,"名称",{"$f":"保険会社用!C34","v":""},null,{"$f":"保険会社用!E34","v":""},{"$f":"IF(保険会社用!F34>0,保険会社用!F34,\"\")","v":""},31,"名称",{"$f":"保険会社用!I34","v":""},null,{"$f":"保険会社用!K34","v":""},{"$f":"IF(保険会社用!L34>0,保険会社用!L34,\"\")","v":""}]
[null,"住所",{"$f":"保険会社用!C35","v":""},null,null,null,null,"住所",{"$f":"保険会社用!I35","v":""}]
[22,"名称",{"$f":"保険会社用!C36","v":""},null,{"$f":"保険会社用!E36","v":""},{"$f":"IF(保険会社用!F36>0,保険会社用!F36,\"\")","v":""},32,"名称",{"$f":"保険会社用!I36","v":""},null,{"$f":"保険会社用!K36","v":""},{"$f":"IF(保険会社用!L36>0,保険会社用!L36,\"\")","v":""}]
[null,"住所",{"$f":"保険会社用!C37","v":""},null,null,null,null,"住所",{"$f":"保険会社用!I37","v":""}]
[23,"名称",{"$f":"保険会社用!C38","v":""},null,{"$f":"保険会社用!E38","v":""},{"$f":"IF(保険会社用!F38>0,保険会社用!F38,\"\")","v":""},33,"名称",{"$f":"保険会社用!I38","v":""},null,{"$f":"保険会社用!K38","v":""},{"$f":"IF(保険会社用!L38>0,保険会社用!L38,\"\")","v":""}]
[null,"住所",{"$f":"保険会社用!C39","v":""},null,null,null,null,"住所",{"$f":"保険会社用!I39","v":""}]
[24,"名称",{"$f":"保険会社用!C40","v":""},null,{"$f":"保険会社用!E40","v":""},{"$f":"IF(保険会社用!F40>0,保険会社用!F40,\"\")","v":""},34,"名称",{"$f":"保険会社用!I40","v":""},null,{"$f":"保険会社用!K40","v":""},{"$f":"IF(保険会社用!L40>0,保険会社用!L40,\"\")","v":""}]
[null,"住所",{"$f":"保険会社用!C41","v":""},null,null,null,null,"住所",{"$f":"保険会社用!I41","v":""}]
[25,"名称",{"$f":"保険会社用!C42","v":""},null,{"$f":"保険会社用!E42","v":""},{"$f":"IF(保険会社用!F42>0,保険会社用!F42,\"\")","v":""},35,"名称",{"$f":"保険会社用!I42","v":""},null,{"$f":"保険会社用!K42","v":""},{"$f":"IF(保険会社用!L42>0,保険会社用!L42,\"\")","v":""}]
[null,"住所",{"$f":"保険会社用!C43","v":""},null,null,null,null,"住所",{"$f":"保険会社用!I43","v":""}]
[26,"名称",{"$f":"保険会社用!C44","v":""},null,{"$f":"保険会社用!E44","v":""},{"$f":"IF(保険会社用!F44>0,保険会社用!F44,\"\")","v":""},36,"名称",{"$f":"保険会社用!I44","v":""},null,{"$f":"保険会社用!K44","v":""},{"$f":"IF(保険会社用!L44>0,保険会社用!L44,\"\")","v":""}]
[null,"住所",{"$f":"保険会社用!C45","v":""},null,null,null,null,"住所",{"$f":"保険会社用!I45","v":""}]
[27,"名称",{"$f":"保険会社用!C46","v":""},null,{"$f":"保険会社用!E46","v":""},{"$f":"IF(保険会社用!F46>0,保険会社用!F46,\"\")","v":""},37,"名称",{"$f":"保険会社用!I46","v":""},null,{"$f":"保険会社用!K46","v":""},{"$f":"IF(保険会社用!L46>0,保険会社用!L46,\"\")","v":""}]
[null,"住所",{"$f":"保険会社用!C47","v":""},null,null,null,null,"住所",{"$f":"保険会社用!I47","v":""}]
[28,"名称",{"$f":"保険会社用!C48","v":""},null,{"$f":"保険会社用!E48","v":""},{"$f":"IF(保険会社用!F48>0,保険会社用!F48,\"\")","v":""},38,"名称",{"$f":"保険会社用!I48","v":""},null,{"$f":"保険会社用!K48","v":""},{"$f":"IF(保険会社用!L48>0,保険会社用!L48,\"\")","v":""}]
[null,"住所",{"$f":"保険会社用!C49","v":""},null,null,null,null,"住所",{"$f":"保険会社用!I49","v":""}]
[29,"名称",{"$f":"保険会社用!C50","v":""},null,{"$f":"保険会社用!E50","v":""},{"$f":"IF(保険会社用!F50>0,保険会社用!F50,\"\")","v":""},39,"名称",{"$f":"保険会社用!I50","v":""},null,{"$f":"保険会社用!K50","v":""},{"$f":"IF(保険会社用!L50>0,保険会社用!L50,\"\")","v":""}]
[null,"住所",{"$f":"保険会社用!C51","v":""},null,null,null,null,"住所",{"$f":"保険会社用!I51","v":""}]
[30,"名称",{"$f":"保険会社用!C52","v":""},null,{"$f":"保険会社用!E52","v":""},{"$f":"IF(保険会社用!F52>0,保険会社用!F52,\"\")","v":""},40,"名称",{"$f":"保険会社用!I52","v":""},null,{"$f":"保険会社用!K52","v":""},{"$f":"IF(保険会社用!L52>0,保険会社用!L52,\"\")","v":""}]
[null,"住所",{"$f":"保険会社用!C53","v":""},null,null,null,null,"住所",{"$f":"保険会社用!I53","v":""}]
["（注）","1.本名簿には、配送事業者がＬＰガス配送を受託しているＬＰガス販売事業者をすべて記入する。",null,null,null,null,null,"小　　計（このページの合計）",null,null,{"$f":"保険会社用!K54","v":0},{"$f":"保険会社用!L54","v":0}]
[null,"2.ＬＰガス配送受託販売所の名称欄には企業名、販売所名を明記し、住所欄には当該販売所の住所を記入する。"]
[null,"3.保険契約加入依頼の際、依頼書に本名簿（保険会社用、事業団用、都道府県協会用）を添付して提出する。"]
[null,"4.支部が事業団に加入依頼書を送付する際、２部（保険会社用、事業団用）を添付する。"]
[null,null,null,null,null,null,null,null,null,null,3,{"$f":"COUNTIF($L$26,\">0\")+COUNTIF($L$54,\">0\")+COUNTIF($L$81,\">0\")+COUNTIF($L$108,\">0\")+COUNTIF($L$135,\">0\")+COUNTIF($L$162,\">0\")+COUNTIF($L$189,\">0\")+COUNTIF($L$216,\">0\")+COUNTIF($L$243,\">0\")+COUNTIF($L$270,\">0\")","v":0}]
["LPガス配送",null,null,"名　　　　称","配送契約の内容",null,"LPガス配送",null,null,"名　　　　称","配送契約の内容"]
["受託販売所",null,null,"住　　　　所","配　送　先\n消費者戸数","1か年間の\n配送トン数","受託販売所",null,null,"住　　　　所","配　送　先\n消費者戸数","1か年間の\n配送トン数"]
[41,"名称",{"$f":"保険会社用!C61","v":""},null,{"$f":"保険会社用!E61","v":""},{"$f":"IF(保険会社用!F61>0,保険会社用!F61,\"\")","v":""},51,"名称",{"$f":"保険会社用!I61","v":""},null,{"$f":"保険会社用!K61","v":""},{"$f":"IF(保険会社用!L61>0,保険会社用!L61,\"\")","v":""}]
[null,"住所",{"$f":"事業団用!C62","v":""},null,null,null,null,"住所",{"$f":"保険会社用!I62","v":""}]
[42,"名称",{"$f":"保険会社用!C63","v":""},null,{"$f":"保険会社用!E63","v":""},{"$f":"IF(保険会社用!F63>0,保険会社用!F63,\"\")","v":""},52,"名称",{"$f":"保険会社用!I63","v":""},null,{"$f":"保険会社用!K63","v":""},{"$f":"IF(保険会社用!L63>0,保険会社用!L63,\"\")","v":""}]
[null,"住所",{"$f":"事業団用!C64","v":""},null,null,null,null,"住所",{"$f":"保険会社用!I64","v":""}]
[43,"名称",{"$f":"保険会社用!C65","v":""},null,{"$f":"保険会社用!E65","v":""},{"$f":"IF(保険会社用!F65>0,保険会社用!F65,\"\")","v":""},53,"名称",{"$f":"保険会社用!I65","v":""},null,{"$f":"保険会社用!K65","v":""},{"$f":"IF(保険会社用!L65>0,保険会社用!L65,\"\")","v":""}]
[null,"住所",{"$f":"事業団用!C66","v":""},null,null,null,null,"住所",{"$f":"保険会社用!I66","v":""}]
[44,"名称",{"$f":"保険会社用!C67","v":""},null,{"$f":"保険会社用!E67","v":""},{"$f":"IF(保険会社用!F67>0,保険会社用!F67,\"\")","v":""},54,"名称",{"$f":"保険会社用!I67","v":""},null,{"$f":"保険会社用!K67","v":""},{"$f":"IF(保険会社用!L67>0,保険会社用!L67,\"\")","v":""}]
[null,"住所",{"$f":"事業団用!C68","v":""},null,null,null,null,"住所",{"$f":"保険会社用!I68","v":""}]
[45,"名称",{"$f":"保険会社用!C69","v":""},null,{"$f":"保険会社用!E69","v":""},{"$f":"IF(保険会社用!F69>0,保険会社用!F69,\"\")","v":""},55,"名称",{"$f":"保険会社用!I69","v":""},null,{"$f":"保険会社用!K69","v":""},{"$f":"IF(保険会社用!L69>0,保険会社用!L69,\"\")","v":""}]
[null,"住所",{"$f":"事業団用!C70","v":""},null,null,null,null,"住所",{"$f":"保険会社用!I70","v":""}]
[46,"名称",{"$f":"保険会社用!C71","v":""},null,{"$f":"保険会社用!E71","v":""},{"$f":"IF(保険会社用!F71>0,保険会社用!F71,\"\")","v":""},56,"名称",{"$f":"保険会社用!I71","v":""},null,{"$f":"保険会社用!K71","v":""},{"$f":"IF(保険会社用!L71>0,保険会社用!L71,\"\")","v":""}]
[null,"住所",{"$f":"事業団用!C72","v":""},null,null,null,null,"住所",{"$f":"保険会社用!I72","v":""}]
[47,"名称",{"$f":"保険会社用!C73","v":""},null,{"$f":"保険会社用!E73","v":""},{"$f":"IF(保険会社用!F73>0,保険会社用!F73,\"\")","v":""},57,"名称",{"$f":"保険会社用!I73","v":""},null,{"$f":"保険会社用!K73","v":""},{"$f":"IF(保険会社用!L73>0,保険会社用!L73,\"\")","v":""}]
[null,"住所",{"$f":"事業団用!C74","v":""},null,null,null,null,"住所",{"$f":"保険会社用!I74","v":""}]
[48,"名称",{"$f":"保険会社用!C75","v":""},null,{"$f":"保険会社用!E75","v":""},{"$f":"IF(保険会社用!F75>0,保険会社用!F75,\"\")","v":""},58,"名称",{"$f":"保険会社用!I75","v":""},null,{"$f":"保険会社用!K75","v":""},{"$f":"IF(保険会社用!L75>0,保険会社用!L75,\"\")","v":""}]
[null,"住所",{"$f":"事業団用!C76","v":""},null,null,null,null,"住所",{"$f":"保険会社用!I76","v":""}]
[49,"名称",{"$f":"保険会社用!C77","v":""},null,{"$f":"保険会社用!E77","v":""},{"$f":"IF(保険会社用!F77>0,保険会社用!F77,\"\")","v":""},59,"名称",{"$f":"保険会社用!I77","v":""},null,{"$f":"保険会社用!K77","v":""},{"$f":"IF(保険会社用!L77>0,保険会社用!L77,\"\")","v":""}]
[null,"住所",{"$f":"事業団用!C78","v":""},null,null,null,null,"住所",{"$f":"保険会社用!I78","v":""}]
[50,"名称",{"$f":"保険会社用!C79","v":""},null,{"$f":"保険会社用!E79","v":""},{"$f":"IF(保険会社用!F79>0,保険会社用!F79,\"\")","v":""},60,"名称",{"$f":"保険会社用!I79","v":""},null,{"$f":"保険会社用!K79","v":""},{"$f":"IF(保険会社用!L79>0,保険会社用!L79,\"\")","v":""}]
[null,"住所",{"$f":"事業団用!C80","v":""},null,null,null,null,"住所",{"$f":"保険会社用!I80","v":""}]
["（注）","1.本名簿には、配送事業者がＬＰガス配送を受託しているＬＰガス販売事業者をすべて記入する。",null,null,null,null,null,"小　　計（このページの合計）",null,null,{"$f":"保険会社用!K81","v":0},{"$f":"保険会社用!L81","v":0}]
[null,"2.ＬＰガス配送受託販売所の名称欄には企業名、販売所名を明記し、住所欄には当該販売所の住所を記入する。"]
[null,"3.保険契約加入依頼の際、依頼書に本名簿（保険会社用、事業団用、都道府県協会用）を添付して提出する。"]
[null,"4.支部が事業団に加入依頼書を送付する際、２部（保険会社用、事業団用）を添付する。"]
[null,null,null,null,null,null,null,null,null,null,4,{"$f":"COUNTIF($L$26,\">0\")+COUNTIF($L$54,\">0\")+COUNTIF($L$81,\">0\")+COUNTIF($L$108,\">0\")+COUNTIF($L$135,\">0\")+COUNTIF($L$162,\">0\")+COUNTIF($L$189,\">0\")+COUNTIF($L$216,\">0\")+COUNTIF($L$243,\">0\")+COUNTIF($L$270,\">0\")","v":0}]
["LPガス配送",null,null,"名　　　　称","配送契約の内容",null,"LPガス配送",null,null,"名　　　　称","配送契約の内容"]
["受託販売所",null,null,"住　　　　所","配　送　先\n消費者戸数","1か年間の\n配送トン数","受託販売所",null,null,"住　　　　所","配　送　先\n消費者戸数","1か年間の\n配送トン数"]
[61,"名称",{"$f":"保険会社用!C88","v":""},null,{"$f":"保険会社用!E88","v":""},{"$f":"IF(保険会社用!F88>0,保険会社用!F88,\"\")","v":""},71,"名称",{"$f":"保険会社用!I88","v":""},null,{"$f":"保険会社用!K88","v":""},{"$f":"IF(保険会社用!L88>0,保険会社用!L88,\"\")","v":""}]
[null,"住所",{"$f":"保険会社用!C89","v":""},null,null,null,null,"住所",{"$f":"保険会社用!I89","v":""}]
[62,"名称",{"$f":"保険会社用!C90","v":""},null,{"$f":"保険会社用!E90","v":""},{"$f":"IF(保険会社用!F90>0,保険会社用!F90,\"\")","v":""},72,"名称",{"$f":"保険会社用!I90","v":""},null,{"$f":"保険会社用!K90","v":""},{"$f":"IF(保険会社用!L90>0,保険会社用!L90,\"\")","v":""}]
[null,"住所",{"$f":"保険会社用!C91","v":""},null,null,null,null,"住所",{"$f":"保険会社用!I91","v":""}]
[63,"名称",{"$f":"保険会社用!C92","v":""},null,{"$f":"保険会社用!E92","v":""},{"$f":"IF(保険会社用!F92>0,保険会社用!F92,\"\")","v":""},73,"名称",{"$f":"保険会社用!I92","v":""},null,{"$f":"保険会社用!K92","v":""},{"$f":"IF(保険会社用!L92>0,保険会社用!L92,\"\")","v":""}]
[null,"住所",{"$f":"保険会社用!C93","v":""},null,null,null,null,"住所",{"$f":"保険会社用!I93","v":""}]
[64,"名称",{"$f":"保険会社用!C94","v":""},null,{"$f":"保険会社用!E94","v":""},{"$f":"IF(保険会社用!F94>0,保険会社用!F94,\"\")","v":""},74,"名称",{"$f":"保険会社用!I94","v":""},null,{"$f":"保険会社用!K94","v":""},{"$f":"IF(保険会社用!L94>0,保険会社用!L94,\"\")","v":""}]
[null,"住所",{"$f":"保険会社用!C95","v":""},null,null,null,null,"住所",{"$f":"保険会社用!I95","v":""}]
[65,"名称",{"$f":"保険会社用!C96","v":""},null,{"$f":"保険会社用!E96","v":""},{"$f":"IF(保険会社用!F96>0,保険会社用!F96,\"\")","v":""},75,"名称",{"$f":"保険会社用!I96","v":""},null,{"$f":"保険会社用!K96","v":""},{"$f":"IF(保険会社用!L96>0,保険会社用!L96,\"\")","v":""}]
[null,"住所",{"$f":"保険会社用!C97","v":""},null,null,null,null,"住所",{"$f":"保険会社用!I97","v":""}]
[66,"名称",{"$f":"保険会社用!C98","v":""},null,{"$f":"保険会社用!E98","v":""},{"$f":"IF(保険会社用!F98>0,保険会社用!F98,\"\")","v":""},76,"名称",{"$f":"保険会社用!I98","v":""},null,{"$f":"保険会社用!K98","v":""},{"$f":"IF(保険会社用!L98>0,保険会社用!L98,\"\")","v":""}]
[null,"住所",{"$f":"保険会社用!C99","v":""},null,null,null,null,"住所",{"$f":"保険会社用!I99","v":""}]
[67,"名称",{"$f":"保険会社用!C100","v":""},null,{"$f":"保険会社用!E100","v":""},{"$f":"IF(保険会社用!F100>0,保険会社用!F100,\"\")","v":""},77,"名称",{"$f":"保険会社用!I100","v":""},null,{"$f":"保険会社用!K100","v":""},{"$f":"IF(保険会社用!L100>0,保険会社用!L100,\"\")","v":""}]
[null,"住所",{"$f":"保険会社用!C101","v":""},null,null,null,null,"住所",{"$f":"保険会社用!I101","v":""}]
[68,"名称",{"$f":"保険会社用!C102","v":""},null,{"$f":"保険会社用!E102","v":""},{"$f":"IF(保険会社用!F102>0,保険会社用!F102,\"\")","v":""},78,"名称",{"$f":"保険会社用!I102","v":""},null,{"$f":"保険会社用!K102","v":""},{"$f":"IF(保険会社用!L102>0,保険会社用!L102,\"\")","v":""}]
[null,"住所",{"$f":"保険会社用!C103","v":""},null,null,null,null,"住所",{"$f":"保険会社用!I103","v":""}]
[69,"名称",{"$f":"保険会社用!C104","v":""},null,{"$f":"保険会社用!E104","v":""},{"$f":"IF(保険会社用!F104>0,保険会社用!F104,\"\")","v":""},79,"名称",{"$f":"保険会社用!I104","v":""},null,{"$f":"保険会社用!K104","v":""},{"$f":"IF(保険会社用!L104>0,保険会社用!L104,\"\")","v":""}]
[null,"住所",{"$f":"保険会社用!C105","v":""},null,null,null,null,"住所",{"$f":"保険会社用!I105","v":""}]
[70,"名称",{"$f":"保険会社用!C106","v":""},null,{"$f":"保険会社用!E106","v":""},{"$f":"IF(保険会社用!F106>0,保険会社用!F106,\"\")","v":""},80,"名称",{"$f":"保険会社用!I106","v":""},null,{"$f":"保険会社用!K106","v":""},{"$f":"IF(保険会社用!L106>0,保険会社用!L106,\"\")","v":""}]
[null,"住所",{"$f":"保険会社用!C107","v":""},null,null,null,null,"住所",{"$f":"保険会社用!I107","v":""}]
["（注）","1.本名簿には、配送事業者がＬＰガス配送を受託しているＬＰガス販売事業者をすべて記入する。",null,null,null,null,null,"小　　計（このページの合計）",null,null,{"$f":"保険会社用!K108","v":0},{"$f":"保険会社用!L108","v":0}]
[null,"2.ＬＰガス配送受託販売所の名称欄には企業名、販売所名を明記し、住所欄には当該販売所の住所を記入する。"]
[null,"3.保険契約加入依頼の際、依頼書に本名簿（保険会社用、事業団用、都道府県協会用）を添付して提出する。"]
[null,"4.支部が事業団に加入依頼書を送付する際、２部（保険会社用、事業団用）を添付する。"]
[null,null,null,null,null,null,null,null,null,null,5,{"$f":"COUNTIF($L$26,\">0\")+COUNTIF($L$54,\">0\")+COUNTIF($L$81,\">0\")+COUNTIF($L$108,\">0\")+COUNTIF($L$135,\">0\")+COUNTIF($L$162,\">0\")+COUNTIF($L$189,\">0\")+COUNTIF($L$216,\">0\")+COUNTIF($L$243,\">0\")+COUNTIF($L$270,\">0\")","v":0}]
["LPガス配送",null,null,"名　　　　称","配送契約の内容",null,"LPガス配送",null,null,"名　　　　称","配送契約の内容"]
["受託販売所",null,null,"住　　　　所","配　送　先\n消費者戸数","1か年間の\n配送トン数","受託販売所",null,null,"住　　　　所","配　送　先\n消費者戸数","1か年間の\n配送トン数"]
[81,"名称",{"$f":"保険会社用!C115","v":""},null,{"$f":"保険会社用!E115","v":""},{"$f":"IF(保険会社用!F115>0,保険会社用!F115,\"\")","v":""},91,"名称",{"$f":"保険会社用!I115","v":""},null,{"$f":"保険会社用!K115","v":""},{"$f":"IF(保険会社用!L115>0,保険会社用!L115,\"\")","v":""}]
[null,"住所",{"$f":"保険会社用!C116","v":""},null,null,null,null,"住所",{"$f":"保険会社用!I116","v":""}]
[82,"名称",{"$f":"保険会社用!C117","v":""},null,{"$f":"保険会社用!E117","v":""},{"$f":"IF(保険会社用!F117>0,保険会社用!F117,\"\")","v":""},92,"名称",{"$f":"保険会社用!I117","v":""},null,{"$f":"保険会社用!K117","v":""},{"$f":"IF(保険会社用!L117>0,保険会社用!L117,\"\")","v":""}]
[null,"住所",{"$f":"保険会社用!C118","v":""},null,null,null,null,"住所",{"$f":"保険会社用!I118","v":""}]
[83,"名称",{"$f":"保険会社用!C119","v":""},null,{"$f":"保険会社用!E119","v":""},{"$f":"IF(保険会社用!F119>0,保険会社用!F119,\"\")","v":""},93,"名称",{"$f":"保険会社用!I119","v":""},null,{"$f":"保険会社用!K119","v":""},{"$f":"IF(保険会社用!L119>0,保険会社用!L119,\"\")","v":""}]
[null,"住所",{"$f":"保険会社用!C120","v":""},null,null,null,null,"住所",{"$f":"保険会社用!I120","v":""}]
[84,"名称",{"$f":"保険会社用!C121","v":""},null,{"$f":"保険会社用!E121","v":""},{"$f":"IF(保険会社用!F121>0,保険会社用!F121,\"\")","v":""},94,"名称",{"$f":"保険会社用!I121","v":""},null,{"$f":"保険会社用!K121","v":""},{"$f":"IF(保険会社用!L121>0,保険会社用!L121,\"\")","v":""}]
[null,"住所",{"$f":"保険会社用!C122","v":""},null,null,null,null,"住所",{"$f":"保険会社用!I122","v":""}]
[85,"名称",{"$f":"保険会社用!C123","v":""},null,{"$f":"保険会社用!E123","v":""},{"$f":"IF(保険会社用!F123>0,保険会社用!F123,\"\")","v":""},95,"名称",{"$f":"保険会社用!I123","v":""},null,{"$f":"保険会社用!K123","v":""},{"$f":"IF(保険会社用!L123>0,保険会社用!L123,\"\")","v":""}]
[null,"住所",{"$f":"保険会社用!C124","v":""},null,null,null,null,"住所",{"$f":"保険会社用!I124","v":""}]
[86,"名称",{"$f":"保険会社用!C125","v":""},null,{"$f":"保険会社用!E125","v":""},{"$f":"IF(保険会社用!F125>0,保険会社用!F125,\"\")","v":""},96,"名称",{"$f":"保険会社用!I125","v":""},null,{"$f":"保険会社用!K125","v":""},{"$f":"IF(保険会社用!L125>0,保険会社用!L125,\"\")","v":""}]
[null,"住所",{"$f":"保険会社用!C126","v":""},null,null,null,null,"住所",{"$f":"保険会社用!I126","v":""}]
[87,"名称",{"$f":"保険会社用!C127","v":""},null,{"$f":"保険会社用!E127","v":""},{"$f":"IF(保険会社用!F127>0,保険会社用!F127,\"\")","v":""},97,"名称",{"$f":"保険会社用!I127","v":""},null,{"$f":"保険会社用!K127","v":""},{"$f":"IF(保険会社用!L127>0,保険会社用!L127,\"\")","v":""}]
[null,"住所",{"$f":"保険会社用!C128","v":""},null,null,null,null,"住所",{"$f":"保険会社用!I128","v":""}]
[88,"名称",{"$f":"保険会社用!C129","v":""},null,{"$f":"保険会社用!E129","v":""},{"$f":"IF(保険会社用!F129>0,保険会社用!F129,\"\")","v":""},98,"名称",{"$f":"保険会社用!I129","v":""},null,{"$f":"保険会社用!K129","v":""},{"$f":"IF(保険会社用!L129>0,保険会社用!L129,\"\")","v":""}]
[null,"住所",{"$f":"保険会社用!C130","v":""},null,null,null,null,"住所",{"$f":"保険会社用!I130","v":""}]
[89,"名称",{"$f":"保険会社用!C131","v":""},null,{"$f":"保険会社用!E131","v":""},{"$f":"IF(保険会社用!F131>0,保険会社用!F131,\"\")","v":""},99,"名称",{"$f":"保険会社用!I131","v":""},null,{"$f":"保険会社用!K131","v":""},{"$f":"IF(保険会社用!L131>0,保険会社用!L131,\"\")","v":""}]
[null,"住所",{"$f":"保険会社用!C132","v":""},null,null,null,null,"住所",{"$f":"保険会社用!I132","v":""}]
[90,"名称",{"$f":"保険会社用!C133","v":""},null,{"$f":"保険会社用!E133","v":""},{"$f":"IF(保険会社用!F133>0,保険会社用!F133,\"\")","v":""},100,"名称",{"$f":"保険会社用!I133","v":""},null,{"$f":"保険会社用!K133","v":""},{"$f":"IF(保険会社用!L133>0,保険会社用!L133,\"\")","v":""}]
[null,"住所",{"$f":"保険会社用!C134","v":""},null,null,null,null,"住所",{"$f":"保険会社用!I134","v":""}]
["（注）","1.本名簿には、配送事業者がＬＰガス配送を受託しているＬＰガス販売事業者をすべて記入する。",null,null,null,null,null,"小　　計（このページの合計）",null,null,{"$f":"保険会社用!K135","v":0},{"$f":"保険会社用!L135","v":0}]
[null,"2.ＬＰガス配送受託販売所の名称欄には企業名、販売所名を明記し、住所欄には当該販売所の住所を記入する。"]
[null,"3.保険契約加入依頼の際、依頼書に本名簿（保険会社用、事業団用、都道府県協会用）を添付して提出する。"]
[null,"4.支部が事業団に加入依頼書を送付する際、２部（保険会社用、事業団用）を添付する。"]
[null,null,null,null,null,null,null,null,null,null,6,{"$f":"COUNTIF($L$26,\">0\")+COUNTIF($L$54,\">0\")+COUNTIF($L$81,\">0\")+COUNTIF($L$108,\">0\")+COUNTIF($L$135,\">0\")+COUNTIF($L$162,\">0\")+COUNTIF($L$189,\">0\")+COUNTIF($L$216,\">0\")+COUNTIF($L$243,\">0\")+COUNTIF($L$270,\">0\")","v":0}]
["LPガス配送",null,null,"名　　　　称","配送契約の内容",null,"LPガス配送",null,null,"名　　　　称","配送契約の内容"]
["受託販売所",null,null,"住　　　　所","配　送　先\n消費者戸数","1か年間の\n配送トン数","受託販売所",null,null,"住　　　　所","配　送　先\n消費者戸数","1か年間の\n配送トン数"]
[101,"名称",{"$f":"保険会社用!C142","v":""},null,{"$f":"保険会社用!E142","v":""},{"$f":"IF(保険会社用!F142>0,保険会社用!F142,\"\")","v":""},111,"名称",{"$f":"保険会社用!I142","v":""},null,{"$f":"保険会社用!K142","v":""},{"$f":"IF(保険会社用!L142>0,保険会社用!L142,\"\")","v":""}]
[null,"住所",{"$f":"保険会社用!C143","v":""},null,null,null,null,"住所",{"$f":"保険会社用!I143","v":""}]
[102,"名称",{"$f":"保険会社用!C144","v":""},null,{"$f":"保険会社用!E144","v":""},{"$f":"IF(保険会社用!F144>0,保険会社用!F144,\"\")","v":""},112,"名称",{"$f":"保険会社用!I144","v":""},null,{"$f":"保険会社用!K144","v":""},{"$f":"IF(保険会社用!L144>0,保険会社用!L144,\"\")","v":""}]
[null,"住所",{"$f":"保険会社用!C145","v":""},null,null,null,null,"住所",{"$f":"保険会社用!I145","v":""}]
[103,"名称",{"$f":"保険会社用!C146","v":""},null,{"$f":"保険会社用!E146","v":""},{"$f":"IF(保険会社用!F146>0,保険会社用!F146,\"\")","v":""},113,"名称",{"$f":"保険会社用!I146","v":""},null,{"$f":"保険会社用!K146","v":""},{"$f":"IF(保険会社用!L146>0,保険会社用!L146,\"\")","v":""}]
[null,"住所",{"$f":"保険会社用!C147","v":""},null,null,null,null,"住所",{"$f":"保険会社用!I147","v":""}]
[104,"名称",{"$f":"保険会社用!C148","v":""},null,{"$f":"保険会社用!E148","v":""},{"$f":"IF(保険会社用!F148>0,保険会社用!F148,\"\")","v":""},114,"名称",{"$f":"保険会社用!I148","v":""},null,{"$f":"保険会社用!K148","v":""},{"$f":"IF(保険会社用!L148>0,保険会社用!L148,\"\")","v":""}]
[null,"住所",{"$f":"保険会社用!C149","v":""},null,null,null,null,"住所",{"$f":"保険会社用!I149","v":""}]
[105,"名称",{"$f":"保険会社用!C150","v":""},null,{"$f":"保険会社用!E150","v":""},{"$f":"IF(保険会社用!F150>0,保険会社用!F150,\"\")","v":""},115,"名称",{"$f":"保険会社用!I150","v":""},null,{"$f":"保険会社用!K150","v":""},{"$f":"IF(保険会社用!L150>0,保険会社用!L150,\"\")","v":""}]
[null,"住所",{"$f":"保険会社用!C151","v":""},null,null,null,null,"住所",{"$f":"保険会社用!I151","v":""}]
[106,"名称",{"$f":"保険会社用!C152","v":""},null,{"$f":"保険会社用!E152","v":""},{"$f":"IF(保険会社用!F152>0,保険会社用!F152,\"\")","v":""},116,"名称",{"$f":"保険会社用!I152","v":""},null,{"$f":"保険会社用!K152","v":""},{"$f":"IF(保険会社用!L152>0,保険会社用!L152,\"\")","v":""}]
[null,"住所",{"$f":"保険会社用!C153","v":""},null,null,null,null,"住所",{"$f":"保険会社用!I153","v":""}]
[107,"名称",{"$f":"保険会社用!C154","v":""},null,{"$f":"保険会社用!E154","v":""},{"$f":"IF(保険会社用!F154>0,保険会社用!F154,\"\")","v":""},117,"名称",{"$f":"保険会社用!I154","v":""},null,{"$f":"保険会社用!K154","v":""},{"$f":"IF(保険会社用!L154>0,保険会社用!L154,\"\")","v":""}]
[null,"住所",{"$f":"保険会社用!C155","v":""},null,null,null,null,"住所",{"$f":"保険会社用!I155","v":""}]
[108,"名称",{"$f":"保険会社用!C156","v":""},null,{"$f":"保険会社用!E156","v":""},{"$f":"IF(保険会社用!F156>0,保険会社用!F156,\"\")","v":""},118,"名称",{"$f":"保険会社用!I156","v":""},null,{"$f":"保険会社用!K156","v":""},{"$f":"IF(保険会社用!L156>0,保険会社用!L156,\"\")","v":""}]
[null,"住所",{"$f":"保険会社用!C157","v":""},null,null,null,null,"住所",{"$f":"保険会社用!I157","v":""}]
[109,"名称",{"$f":"保険会社用!C158","v":""},null,{"$f":"保険会社用!E158","v":""},{"$f":"IF(保険会社用!F158>0,保険会社用!F158,\"\")","v":""},119,"名称",{"$f":"保険会社用!I158","v":""},null,{"$f":"保険会社用!K158","v":""},{"$f":"IF(保険会社用!L158>0,保険会社用!L158,\"\")","v":""}]
[null,"住所",{"$f":"保険会社用!C159","v":""},null,null,null,null,"住所",{"$f":"保険会社用!I159","v":""}]
[110,"名称",{"$f":"保険会社用!C160","v":""},null,{"$f":"保険会社用!E160","v":""},{"$f":"IF(保険会社用!F160>0,保険会社用!F160,\"\")","v":""},120,"名称",{"$f":"保険会社用!I160","v":""},null,{"$f":"保険会社用!K160","v":""},{"$f":"IF(保険会社用!L160>0,保険会社用!L160,\"\")","v":""}]
[null,"住所",{"$f":"保険会社用!C161","v":""},null,null,null,null,"住所",{"$f":"保険会社用!I161","v":""}]
["（注）","1.本名簿には、配送事業者がＬＰガス配送を受託しているＬＰガス販売事業者をすべて記入する。",null,null,null,null,null,"小　　計（このページの合計）",null,null,{"$f":"保険会社用!K162","v":0},{"$f":"保険会社用!L162","v":0}]
[null,"2.ＬＰガス配送受託販売所の名称欄には企業名、販売所名を明記し、住所欄には当該販売所の住所を記入する。"]
[null,"3.保険契約加入依頼の際、依頼書に本名簿（保険会社用、事業団用、都道府県協会用）を添付して提出する。"]
[null,"4.支部が事業団に加入依頼書を送付する際、２部（保険会社用、事業団用）を添付する。"]
[null,null,null,null,null,null,null,null,null,null,7,{"$f":"COUNTIF($L$26,\">0\")+COUNTIF($L$54,\">0\")+COUNTIF($L$81,\">0\")+COUNTIF($L$108,\">0\")+COUNTIF($L$135,\">0\")+COUNTIF($L$162,\">0\")+COUNTIF($L$189,\">0\")+COUNTIF($L$216,\">0\")+COUNTIF($L$243,\">0\")+COUNTIF($L$270,\">0\")","v":0}]
["LPガス配送",null,null,"名　　　　称","配送契約の内容",null,"LPガス配送",null,null,"名　　　　称","配送契約の内容"]
["受託販売所",null,null,"住　　　　所","配　送　先\n消費者戸数","1か年間の\n配送トン数","受託販売所",null,null,"住　　　　所","配　送　先\n消費者戸数","1か年間の\n配送トン数"]
[121,"名称",{"$f":"保険会社用!C169","v":""},null,{"$f":"保険会社用!E169","v":""},{"$f":"IF(保険会社用!F169>0,保険会社用!F169,\"\")","v":""},131,"名称",{"$f":"保険会社用!I169","v":""},null,{"$f":"保険会社用!K169","v":""},{"$f":"IF(保険会社用!L169>0,保険会社用!L169,\"\")","v":""}]
[null,"住所",{"$f":"保険会社用!C170","v":""},null,null,null,null,"住所",{"$f":"保険会社用!I170","v":""}]
[122,"名称",{"$f":"保険会社用!C171","v":""},null,{"$f":"保険会社用!E171","v":""},{"$f":"IF(保険会社用!F171>0,保険会社用!F171,\"\")","v":""},132,"名称",{"$f":"保険会社用!I171","v":""},null,{"$f":"保険会社用!K171","v":""},{"$f":"IF(保険会社用!L171>0,保険会社用!L171,\"\")","v":""}]
[null,"住所",{"$f":"保険会社用!C172","v":""},null,null,null,null,"住所",{"$f":"保険会社用!I172","v":""}]
[123,"名称",{"$f":"保険会社用!C173","v":""},null,{"$f":"保険会社用!E173","v":""},{"$f":"IF(保険会社用!F173>0,保険会社用!F173,\"\")","v":""},133,"名称",{"$f":"保険会社用!I173","v":""},null,{"$f":"保険会社用!K173","v":""},{"$f":"IF(保険会社用!L173>0,保険会社用!L173,\"\")","v":""}]
[null,"住所",{"$f":"保険会社用!C174","v":""},null,null,null,null,"住所",{"$f":"保険会社用!I174","v":""}]
[124,"名称",{"$f":"保険会社用!C175","v":""},null,{"$f":"保険会社用!E175","v":""},{"$f":"IF(保険会社用!F175>0,保険会社用!F175,\"\")","v":""},134,"名称",{"$f":"保険会社用!I175","v":""},null,{"$f":"保険会社用!K175","v":""},{"$f":"IF(保険会社用!L175>0,保険会社用!L175,\"\")","v":""}]
[null,"住所",{"$f":"保険会社用!C176","v":""},null,null,null,null,"住所",{"$f":"保険会社用!I176","v":""}]
[125,"名称",{"$f":"保険会社用!C177","v":""},null,{"$f":"保険会社用!E177","v":""},{"$f":"IF(保険会社用!F177>0,保険会社用!F177,\"\")","v":""},135,"名称",{"$f":"保険会社用!I177","v":""},null,{"$f":"保険会社用!K177","v":""},{"$f":"IF(保険会社用!L177>0,保険会社用!L177,\"\")","v":""}]
[null,"住所",{"$f":"保険会社用!C178","v":""},null,null,null,null,"住所",{"$f":"保険会社用!I178","v":""}]
[126,"名称",{"$f":"保険会社用!C179","v":""},null,{"$f":"保険会社用!E179","v":""},{"$f":"IF(保険会社用!F179>0,保険会社用!F179,\"\")","v":""},136,"名称",{"$f":"保険会社用!I179","v":""},null,{"$f":"保険会社用!K179","v":""},{"$f":"IF(保険会社用!L179>0,保険会社用!L179,\"\")","v":""}]
[null,"住所",{"$f":"保険会社用!C180","v":""},null,null,null,null,"住所",{"$f":"保険会社用!I180","v":""}]
[127,"名称",{"$f":"保険会社用!C181","v":""},null,{"$f":"保険会社用!E181","v":""},{"$f":"IF(保険会社用!F181>0,保険会社用!F181,\"\")","v":""},137,"名称",{"$f":"保険会社用!I181","v":""},null,{"$f":"保険会社用!K181","v":""},{"$f":"IF(保険会社用!L181>0,保険会社用!L181,\"\")","v":""}]
[null,"住所",{"$f":"保険会社用!C182","v":""},null,null,null,null,"住所",{"$f":"保険会社用!I182","v":""}]
[128,"名称",{"$f":"保険会社用!C183","v":""},null,{"$f":"保険会社用!E183","v":""},{"$f":"IF(保険会社用!F183>0,保険会社用!F183,\"\")","v":""},138,"名称",{"$f":"保険会社用!I183","v":""},null,{"$f":"保険会社用!K183","v":""},{"$f":"IF(保険会社用!L183>0,保険会社用!L183,\"\")","v":""}]
[null,"住所",{"$f":"保険会社用!C184","v":""},null,null,null,null,"住所",{"$f":"保険会社用!I184","v":""}]
[129,"名称",{"$f":"保険会社用!C185","v":""},null,{"$f":"保険会社用!E185","v":""},{"$f":"IF(保険会社用!F185>0,保険会社用!F185,\"\")","v":""},139,"名称",{"$f":"保険会社用!I185","v":""},null,{"$f":"保険会社用!K185","v":""},{"$f":"IF(保険会社用!L185>0,保険会社用!L185,\"\")","v":""}]
[null,"住所",{"$f":"保険会社用!C186","v":""},null,null,null,null,"住所",{"$f":"保険会社用!I186","v":""}]
[130,"名称",{"$f":"保険会社用!C187","v":""},null,{"$f":"保険会社用!E187","v":""},{"$f":"IF(保険会社用!F187>0,保険会社用!F187,\"\")","v":""},140,"名称",{"$f":"保険会社用!I187","v":""},null,{"$f":"保険会社用!K187","v":""},{"$f":"IF(保険会社用!L187>0,保険会社用!L187,\"\")","v":""}]
[null,"住所",{"$f":"保険会社用!C188","v":""},null,null,null,null,"住所",{"$f":"保険会社用!I188","v":""}]
["（注）","1.本名簿には、配送事業者がＬＰガス配送を受託しているＬＰガス販売事業者をすべて記入する。",null,null,null,null,null,"小　　計（このページの合計）",null,null,{"$f":"保険会社用!K189","v":0},{"$f":"保険会社用!L189","v":0}]
[null,"2.ＬＰガス配送受託販売所の名称欄には企業名、販売所名を明記し、住所欄には当該販売所の住所を記入する。"]
[null,"3.保険契約加入依頼の際、依頼書に本名簿（保険会社用、事業団用、都道府県協会用）を添付して提出する。"]
[null,"4.支部が事業団に加入依頼書を送付する際、２部（保険会社用、事業団用）を添付する。"]
[null,null,null,null,null,null,null,null,null,null,8,{"$f":"COUNTIF($L$26,\">0\")+COUNTIF($L$54,\">0\")+COUNTIF($L$81,\">0\")+COUNTIF($L$108,\">0\")+COUNTIF($L$135,\">0\")+COUNTIF($L$162,\">0\")+COUNTIF($L$189,\">0\")+COUNTIF($L$216,\">0\")+COUNTIF($L$243,\">0\")+COUNTIF($L$270,\">0\")","v":0}]
["LPガス配送",null,null,"名　　　　称","配送契約の内容",null,"LPガス配送",null,null,"名　　　　称","配送契約の内容"]
["受託販売所",null,null,"住　　　　所","配　送　先\n消費者戸数","1か年間の\n配送トン数","受託販売所",null,null,"住　　　　所","配　送　先\n消費者戸数","1か年間の\n配送トン数"]
[141,"名称",{"$f":"保険会社用!C196","v":""},null,{"$f":"保険会社用!E196","v":""},{"$f":"IF(保険会社用!F196>0,保険会社用!F196,\"\")","v":""},151,"名称",{"$f":"保険会社用!I196","v":""},null,{"$f":"保険会社用!K196","v":""},{"$f":"IF(保険会社用!L196>0,保険会社用!L196,\"\")","v":""}]
[null,"住所",{"$f":"保険会社用!C197","v":""},null,null,null,null,"住所",{"$f":"保険会社用!I197","v":""}]
[142,"名称",{"$f":"保険会社用!C198","v":""},null,{"$f":"保険会社用!E198","v":""},{"$f":"IF(保険会社用!F198>0,保険会社用!F198,\"\")","v":""},152,"名称",{"$f":"保険会社用!I198","v":""},null,{"$f":"保険会社用!K198","v":""},{"$f":"IF(保険会社用!L198>0,保険会社用!L198,\"\")","v":""}]
[null,"住所",{"$f":"保険会社用!C199","v":""},null,null,null,null,"住所",{"$f":"保険会社用!I199","v":""}]
[143,"名称",{"$f":"保険会社用!C200","v":""},null,{"$f":"保険会社用!E200","v":""},{"$f":"IF(保険会社用!F200>0,保険会社用!F200,\"\")","v":""},153,"名称",{"$f":"保険会社用!I200","v":""},null,{"$f":"保険会社用!K200","v":""},{"$f":"IF(保険会社用!L200>0,保険会社用!L200,\"\")","v":""}]
[null,"住所",{"$f":"保険会社用!C201","v":""},null,null,null,null,"住所",{"$f":"保険会社用!I201","v":""}]
[144,"名称",{"$f":"保険会社用!C202","v":""},null,{"$f":"保険会社用!E202","v":""},{"$f":"IF(保険会社用!F202>0,保険会社用!F202,\"\")","v":""},154,"名称",{"$f":"保険会社用!I202","v":""},null,{"$f":"保険会社用!K202","v":""},{"$f":"IF(保険会社用!L202>0,保険会社用!L202,\"\")","v":""}]
[null,"住所",{"$f":"保険会社用!C203","v":""},null,null,null,null,"住所",{"$f":"保険会社用!I203","v":""}]
[145,"名称",{"$f":"保険会社用!C204","v":""},null,{"$f":"保険会社用!E204","v":""},{"$f":"IF(保険会社用!F204>0,保険会社用!F204,\"\")","v":""},155,"名称",{"$f":"保険会社用!I204","v":""},null,{"$f":"保険会社用!K204","v":""},{"$f":"IF(保険会社用!L204>0,保険会社用!L204,\"\")","v":""}]
[null,"住所",{"$f":"保険会社用!C205","v":""},null,null,null,null,"住所",{"$f":"保険会社用!I205","v":""}]
[146,"名称",{"$f":"保険会社用!C206","v":""},null,{"$f":"保険会社用!E206","v":""},{"$f":"IF(保険会社用!F206>0,保険会社用!F206,\"\")","v":""},156,"名称",{"$f":"保険会社用!I206","v":""},null,{"$f":"保険会社用!K206","v":""},{"$f":"IF(保険会社用!L206>0,保険会社用!L206,\"\")","v":""}]
[null,"住所",{"$f":"保険会社用!C207","v":""},null,null,null,null,"住所",{"$f":"保険会社用!I207","v":""}]
[147,"名称",{"$f":"保険会社用!C208","v":""},null,{"$f":"保険会社用!E208","v":""},{"$f":"IF(保険会社用!F208>0,保険会社用!F208,\"\")","v":""},157,"名称",{"$f":"保険会社用!I208","v":""},null,{"$f":"保険会社用!K208","v":""},{"$f":"IF(保険会社用!L208>0,保険会社用!L208,\"\")","v":""}]
[null,"住所",{"$f":"保険会社用!C209","v":""},null,null,null,null,"住所",{"$f":"保険会社用!I209","v":""}]
[148,"名称",{"$f":"保険会社用!C210","v":""},null,{"$f":"保険会社用!E210","v":""},{"$f":"IF(保険会社用!F210>0,保険会社用!F210,\"\")","v":""},158,"名称",{"$f":"保険会社用!I210","v":""},null,{"$f":"保険会社用!K210","v":""},{"$f":"IF(保険会社用!L210>0,保険会社用!L210,\"\")","v":""}]
[null,"住所",{"$f":"保険会社用!C211","v":""},null,null,null,null,"住所",{"$f":"保険会社用!I211","v":""}]
[149,"名称",{"$f":"保険会社用!C212","v":""},null,{"$f":"保険会社用!E212","v":""},{"$f":"IF(保険会社用!F212>0,保険会社用!F212,\"\")","v":""},159,"名称",{"$f":"保険会社用!I212","v":""},null,{"$f":"保険会社用!K212","v":""},{"$f":"IF(保険会社用!L212>0,保険会社用!L212,\"\")","v":""}]
[null,"住所",{"$f":"保険会社用!C213","v":""},null,null,null,null,"住所",{"$f":"保険会社用!I213","v":""}]
[150,"名称",{"$f":"保険会社用!C214","v":""},null,{"$f":"保険会社用!E214","v":""},{"$f":"IF(保険会社用!F214>0,保険会社用!F214,\"\")","v":""},160,"名称",{"$f":"保険会社用!I214","v":""},null,{"$f":"保険会社用!K214","v":""},{"$f":"IF(保険会社用!L214>0,保険会社用!L214,\"\")","v":""}]
[null,"住所",{"$f":"保険会社用!C215","v":""},null,null,null,null,"住所",{"$f":"保険会社用!I215","v":""}]
["（注）","1.本名簿には、配送事業者がＬＰガス配送を受託しているＬＰガス販売事業者をすべて記入する。",null,null,null,null,null,"小　　計（このページの合計）",null,null,{"$f":"保険会社用!K216","v":0},{"$f":"保険会社用!L216","v":0}]
[null,"2.ＬＰガス配送受託販売所の名称欄には企業名、販売所名を明記し、住所欄には当該販売所の住所を記入する。"]
[null,"3.保険契約加入依頼の際、依頼書に本名簿（保険会社用、事業団用、都道府県協会用）を添付して提出する。"]
[null,"4.支部が事業団に加入依頼書を送付する際、２部（保険会社用、事業団用）を添付する。"]
[null,null,null,null,null,null,null,null,null,null,9,{"$f":"COUNTIF($L$26,\">0\")+COUNTIF($L$54,\">0\")+COUNTIF($L$81,\">0\")+COUNTIF($L$108,\">0\")+COUNTIF($L$135,\">0\")+COUNTIF($L$162,\">0\")+COUNTIF($L$189,\">0\")+COUNTIF($L$216,\">0\")+COUNTIF($L$243,\">0\")+COUNTIF($L$270,\">0\")","v":0}]
["LPガス配送",null,null,"名　　　　称","配送契約の内容",null,"LPガス配送",null,null,"名　　　　称","配送契約の内容"]
["受託販売所",null,null,"住　　　　所","配　送　先\n消費者戸数","1か年間の\n配送トン数","受託販売所",null,null,"住　　　　所","配　送　先\n消費者戸数","1か年間の\n配送トン数"]
[161,"名称",{"$f":"保険会社用!C223","v":""},null,{"$f":"保険会社用!E223","v":""},{"$f":"IF(保険会社用!F223>0,保険会社用!F223,\"\")","v":""},171,"名称",{"$f":"保険会社用!I223","v":""},null,{"$f":"保険会社用!K223","v":""},{"$f":"IF(保険会社用!L223>0,保険会社用!L223,\"\")","v":""}]
[null,"住所",{"$f":"保険会社用!C224","v":""},null,null,null,null,"住所",{"$f":"保険会社用!I224","v":""}]
[162,"名称",{"$f":"保険会社用!C225","v":""},null,{"$f":"保険会社用!E225","v":""},{"$f":"IF(保険会社用!F225>0,保険会社用!F225,\"\")","v":""},172,"名称",{"$f":"保険会社用!I225","v":""},null,{"$f":"保険会社用!K225","v":""},{"$f":"IF(保険会社用!L225>0,保険会社用!L225,\"\")","v":""}]
[null,"住所",{"$f":"保険会社用!C226","v":""},null,null,null,null,"住所",{"$f":"保険会社用!I226","v":""}]
[163,"名称",{"$f":"保険会社用!C227","v":""},null,{"$f":"保険会社用!E227","v":""},{"$f":"IF(保険会社用!F227>0,保険会社用!F227,\"\")","v":""},173,"名称",{"$f":"保険会社用!I227","v":""},null,{"$f":"保険会社用!K227","v":""},{"$f":"IF(保険会社用!L227>0,保険会社用!L227,\"\")","v":""}]
[null,"住所",{"$f":"保険会社用!C228","v":""},null,null,null,null,"住所",{"$f":"保険会社用!I228","v":""}]
[164,"名称",{"$f":"保険会社用!C229","v":""},null,{"$f":"保険会社用!E229","v":""},{"$f":"IF(保険会社用!F229>0,保険会社用!F229,\"\")","v":""},174,"名称",{"$f":"保険会社用!I229","v":""},null,{"$f":"保険会社用!K229","v":""},{"$f":"IF(保険会社用!L229>0,保険会社用!L229,\"\")","v":""}]
[null,"住所",{"$f":"保険会社用!C230","v":""},null,null,null,null,"住所",{"$f":"保険会社用!I230","v":""}]
[165,"名称",{"$f":"保険会社用!C231","v":""},null,{"$f":"保険会社用!E231","v":""},{"$f":"IF(保険会社用!F231>0,保険会社用!F231,\"\")","v":""},175,"名称",{"$f":"保険会社用!I231","v":""},null,{"$f":"保険会社用!K231","v":""},{"$f":"IF(保険会社用!L231>0,保険会社用!L231,\"\")","v":""}]
[null,"住所",{"$f":"保険会社用!C232","v":""},null,null,null,null,"住所",{"$f":"保険会社用!I232","v":""}]
[166,"名称",{"$f":"保険会社用!C233","v":""},null,{"$f":"保険会社用!E233","v":""},{"$f":"IF(保険会社用!F233>0,保険会社用!F233,\"\")","v":""},176,"名称",{"$f":"保険会社用!I233","v":""},null,{"$f":"保険会社用!K233","v":""},{"$f":"IF(保険会社用!L233>0,保険会社用!L233,\"\")","v":""}]
[null,"住所",{"$f":"保険会社用!C234","v":""},null,null,null,null,"住所",{"$f":"保険会社用!I234","v":""}]
[167,"名称",{"$f":"保険会社用!C235","v":""},null,{"$f":"保険会社用!E235","v":""},{"$f":"IF(保険会社用!F235>0,保険会社用!F235,\"\")","v":""},177,"名称",{"$f":"保険会社用!I235","v":""},null,{"$f":"保険会社用!K235","v":""},{"$f":"IF(保険会社用!L235>0,保険会社用!L235,\"\")","v":""}]
[null,"住所",{"$f":"保険会社用!C236","v":""},null,null,null,null,"住所",{"$f":"保険会社用!I236","v":""}]
[168,"名称",{"$f":"保険会社用!C237","v":""},null,{"$f":"保険会社用!E237","v":""},{"$f":"IF(保険会社用!F237>0,保険会社用!F237,\"\")","v":""},178,"名称",{"$f":"保険会社用!I237","v":""},null,{"$f":"保険会社用!K237","v":""},{"$f":"IF(保険会社用!L237>0,保険会社用!L237,\"\")","v":""}]
[null,"住所",{"$f":"保険会社用!C238","v":""},null,null,null,null,"住所",{"$f":"保険会社用!I238","v":""}]
[169,"名称",{"$f":"保険会社用!C239","v":""},null,{"$f":"保険会社用!E239","v":""},{"$f":"IF(保険会社用!F239>0,保険会社用!F239,\"\")","v":""},179,"名称",{"$f":"保険会社用!I239","v":""},null,{"$f":"保険会社用!K239","v":""},{"$f":"IF(保険会社用!L239>0,保険会社用!L239,\"\")","v":""}]
[null,"住所",{"$f":"保険会社用!C240","v":""},null,null,null,null,"住所",{"$f":"保険会社用!I240","v":""}]
[170,"名称",{"$f":"保険会社用!C241","v":""},null,{"$f":"保険会社用!E241","v":""},{"$f":"IF(保険会社用!F241>0,保険会社用!F241,\"\")","v":""},180,"名称",{"$f":"保険会社用!I241","v":""},null,{"$f":"保険会社用!K241","v":""},{"$f":"IF(保険会社用!L241>0,保険会社用!L241,\"\")","v":""}]
[null,"住所",{"$f":"保険会社用!C242","v":""},null,null,null,null,"住所",{"$f":"保険会社用!I242","v":""}]
["（注）","1.本名簿には、配送事業者がＬＰガス配送を受託しているＬＰガス販売事業者をすべて記入する。",null,null,null,null,null,"小　　計（このページの合計）",null,null,{"$f":"保険会社用!K243","v":0},{"$f":"保険会社用!L243","v":0}]
[null,"2.ＬＰガス配送受託販売所の名称欄には企業名、販売所名を明記し、住所欄には当該販売所の住所を記入する。"]
[null,"3.保険契約加入依頼の際、依頼書に本名簿（保険会社用、事業団用、都道府県協会用）を添付して提出する。"]
[null,"4.支部が事業団に加入依頼書を送付する際、２部（保険会社用、事業団用）を添付する。"]
[null,null,null,null,null,null,null,null,null,null,10,{"$f":"COUNTIF($L$26,\">0\")+COUNTIF($L$54,\">0\")+COUNTIF($L$81,\">0\")+COUNTIF($L$108,\">0\")+COUNTIF($L$135,\">0\")+COUNTIF($L$162,\">0\")+COUNTIF($L$189,\">0\")+COUNTIF($L$216,\">0\")+COUNTIF($L$243,\">0\")+COUNTIF($L$270,\">0\")","v":0}]
["LPガス配送",null,null,"名　　　　称","配送契約の内容",null,"LPガス配送",null,null,"名　　　　称","配送契約の内容"]
["受託販売所",null,null,"住　　　　所","配　送　先\n消費者戸数","1か年間の\n配送トン数","受託販売所",null,null,"住　　　　所","配　送　先\n消費者戸数","1か年間の\n配送トン数"]
[181,"名称",{"$f":"保険会社用!C250","v":""},null,{"$f":"保険会社用!E250","v":""},{"$f":"IF(保険会社用!F250>0,保険会社用!F250,\"\")","v":""},191,"名称",{"$f":"保険会社用!I250","v":""},null,{"$f":"保険会社用!K250","v":""},{"$f":"IF(保険会社用!L250>0,保険会社用!L250,\"\")","v":""}]
[null,"住所",{"$f":"保険会社用!C251","v":""},null,null,null,null,"住所",{"$f":"保険会社用!I251","v":""}]
[182,"名称",{"$f":"保険会社用!C252","v":""},null,{"$f":"保険会社用!E252","v":""},{"$f":"IF(保険会社用!F252>0,保険会社用!F252,\"\")","v":""},192,"名称",{"$f":"保険会社用!I252","v":""},null,{"$f":"保険会社用!K252","v":""},{"$f":"IF(保険会社用!L252>0,保険会社用!L252,\"\")","v":""}]
[null,"住所",{"$f":"保険会社用!C253","v":""},null,null,null,null,"住所",{"$f":"保険会社用!I253","v":""}]
[183,"名称",{"$f":"保険会社用!C254","v":""},null,{"$f":"保険会社用!E254","v":""},{"$f":"IF(保険会社用!F254>0,保険会社用!F254,\"\")","v":""},193,"名称",{"$f":"保険会社用!I254","v":""},null,{"$f":"保険会社用!K254","v":""},{"$f":"IF(保険会社用!L254>0,保険会社用!L254,\"\")","v":""}]
[null,"住所",{"$f":"保険会社用!C255","v":""},null,null,null,null,"住所",{"$f":"保険会社用!I255","v":""}]
[184,"名称",{"$f":"保険会社用!C256","v":""},null,{"$f":"保険会社用!E256","v":""},{"$f":"IF(保険会社用!F256>0,保険会社用!F256,\"\")","v":""},194,"名称",{"$f":"保険会社用!I256","v":""},null,{"$f":"保険会社用!K256","v":""},{"$f":"IF(保険会社用!L256>0,保険会社用!L256,\"\")","v":""}]
[null,"住所",{"$f":"保険会社用!C257","v":""},null,null,null,null,"住所",{"$f":"保険会社用!I257","v":""}]
[185,"名称",{"$f":"保険会社用!C258","v":""},null,{"$f":"保険会社用!E258","v":""},{"$f":"IF(保険会社用!F258>0,保険会社用!F258,\"\")","v":""},195,"名称",{"$f":"保険会社用!I258","v":""},null,{"$f":"保険会社用!K258","v":""},{"$f":"IF(保険会社用!L258>0,保険会社用!L258,\"\")","v":""}]
[null,"住所",{"$f":"保険会社用!C259","v":""},null,null,null,null,"住所",{"$f":"保険会社用!I259","v":""}]
[186,"名称",{"$f":"保険会社用!C260","v":""},null,{"$f":"保険会社用!E260","v":""},{"$f":"IF(保険会社用!F260>0,保険会社用!F260,\"\")","v":""},196,"名称",{"$f":"保険会社用!I260","v":""},null,{"$f":"保険会社用!K260","v":""},{"$f":"IF(保険会社用!L260>0,保険会社用!L260,\"\")","v":""}]
[null,"住所",{"$f":"保険会社用!C261","v":""},null,null,null,null,"住所",{"$f":"保険会社用!I261","v":""}]
[187,"名称",{"$f":"保険会社用!C262","v":""},null,{"$f":"保険会社用!E262","v":""},{"$f":"IF(保険会社用!F262>0,保険会社用!F262,\"\")","v":""},197,"名称",{"$f":"保険会社用!I262","v":""},null,{"$f":"保険会社用!K262","v":""},{"$f":"IF(保険会社用!L262>0,保険会社用!L262,\"\")","v":""}]
[null,"住所",{"$f":"保険会社用!C263","v":""},null,null,null,null,"住所",{"$f":"保険会社用!I263","v":""}]
[188,"名称",{"$f":"保険会社用!C264","v":""},null,{"$f":"保険会社用!E264","v":""},{"$f":"IF(保険会社用!F264>0,保険会社用!F264,\"\")","v":""},198,"名称",{"$f":"保険会社用!I264","v":""},null,{"$f":"保険会社用!K264","v":""},{"$f":"IF(保険会社用!L264>0,保険会社用!L264,\"\")","v":""}]
[null,"住所",{"$f":"保険会社用!C265","v":""},null,null,null,null,"住所",{"$f":"保険会社用!I265","v":""}]
[189,"名称",{"$f":"保険会社用!C266","v":""},null,{"$f":"保険会社用!E266","v":""},{"$f":"IF(保険会社用!F266>0,保険会社用!F266,\"\")","v":""},199,"名称",{"$f":"保険会社用!I266","v":""},null,{"$f":"保険会社用!K266","v":""},{"$f":"IF(保険会社用!L266>0,保険会社用!L266,\"\")","v":""}]
[null,"住所",{"$f":"保険会社用!C267","v":""},null,null,null,null,"住所",{"$f":"保険会社用!I267","v":""}]
[190,"名称",{"$f":"保険会社用!C268","v":""},null,{"$f":"保険会社用!E268","v":""},{"$f":"IF(保険会社用!F268>0,保険会社用!F268,\"\")","v":""},200,"名称",{"$f":"保険会社用!I268","v":""},null,{"$f":"保険会社用!K268","v":""},{"$f":"IF(保険会社用!L268>0,保険会社用!L268,\"\")","v":""}]
[null,"住所",{"$f":"保険会社用!C269","v":""},null,null,null,null,"住所",{"$f":"保険会社用!I269","v":""}]
["（注）","1.本名簿には、配送事業者がＬＰガス配送を受託しているＬＰガス販売事業者をすべて記入する。",null,null,null,null,null,"小　　計（このページの合計）",null,null,{"$f":"保険会社用!K270","v":0},{"$f":"保険会社用!L270","v":0}]
[null,"2.ＬＰガス配送受託販売所の名称欄には企業名、販売所名を明記し、住所欄には当該販売所の住所を記入する。"]
[null,"3.保険契約加入依頼の際、依頼書に本名簿（保険会社用、事業団用、都道府県協会用）を添付して提出する。"]
[null,"4.支部が事業団に加入依頼書を送付する際、２部（保険会社用、事業団用）を添付する。"]

{"sheet":"加入者控","index":4,"n_rows":273,"n_cols":12,"rows_kept":273,"cut":false,"hidden":false,"merged":[[0,4,1,4],[0,5,1,9],[1,0,1,2],[2,0,2,2],[2,5,2,9],[3,0,3,2],[3,4,3,5],[3,6,3,8],[5,11,6,11],[6,2,6,3],[6,8,6,9],[7,0,8,0],[7,2,7,3],[7,4,8,4],[7,5,8,5],[7,6,8,6],[7,8,7,9],[7,10,8,10],[3,10,3,11],[4,0,4,2],[4,6,4,8],[5,0,6,0],[5,2,5,3],[5,4,6,4],[5,5,6,5],[5,6,6,6],[5,8,5,9],[5,10,6,10],[9,11,10,11],[10,2,10,3],[10,8,10,9],[11,0,12,0],[11,2,11,3],[11,4,12,4],[11,5,12,5],[11,6,12,6],[11,8,11,9],[11,10,12,10],[7,11,8,11],[8,2,8,3],[8,8,8,9],[9,0,10,0],[9,2,9,3],[9,4,10,4],[9,5,10,5],[9,6,10,6],[9,8,9,9],[9,10,10,10],[13,11,14,11],[14,2,14,3],[14,8,14,9],[15,0,16,0],[15,2,15,3],[15,4,16,4],[15,5,16,5],[15,6,16,6],[15,8,15,9],[15,10,16,10],[11,11,12,11],[12,2,12,3],[12,8,12,9],[13,0,14,0],[13,2,13,3],[13,4,14,4],[13,5,14,5],[13,6,14,6],[13,8,13,9],[13,10,14,10],[17,11,18,11],[18,2,18,3],[18,8,18,9],[19,0,20,0],[19,2,19,3],[19,4,20,4],[19,5,20,5],[19,6,20,6],[19,8,19,9],[19,10,20,10],[15,11,16,11],[16,2,16,3],[16,8,16,9],[17,0,18,0],[17,2,17,3],[17,4,18,4],[17,5,18,5],[17,6,18,6],[17,8,17,9],[17,10,18,10],[23,11,24,11],[24,2,24,3],[24,8,24,9],[25,7,26,9],[25,10,26,10],[25,11,26,11],[21,11,22,11],[22,2,22,3],[22,8,22,9],[23,0,24,0],[23,2,23,3],[23,4,24,4],[23,5,24,5],[23,6,24,6],[23,8,23,9],[23,10,24,10],[19,11,20,11],[20,2,20,3],[20,8,20,9],[21,0,22,0],[21,2,21,3],[21,4,22,4],[21,5,22,5],[21,6,22,6],[21,8,21,9],[21,10,22,10],[32,0,32,2],[32,6,32,8],[33,0,34,0],[33,2,33,3],[33,4,34,4],[33,5,34,5],[33,6,34,6],[33,8,33,9],[27,7,28,9],[27,10,28,10],[27,11,28,11],[30,0,30,2],[30,5,30,9],[31,0,31,2],[31,4,31,5],[31,6,31,8],[31,10,31,11],[35,10,36,10],[35,11,36,11],[36,2,36,3],[36,8,36,9],[37,0,38,0],[37,2,37,3],[37,4,38,4],[37,5,38,5],[37,6,38,6],[37,8,37,9],[33,10,34,10],[33,11,34,11],[34,2,34,3],[34,8,34,9],[35,0,36,0],[35,2,35,3],[35,4,36,4],[35,5,36,5],[35,6,36,6],[35,8,35,9],[39,10,40,10],[39,11,40,11],[40,2,40,3],[40,8,40,9],[41,0,42,0],[41,2,41,3],[41,4,42,4],[41,5,42,5],[41,6,42,6],[41,8,41,9],[37,10,38,10],[37,11,38,11],[38,2,38,3],[38,8,38,9],[39,0,40,0],[39,2,39,3],[39,4,40,4],[39,5,40,5],[39,6,40,6],[39,8,39,9],[43,10,44,10],[43,11,44,11],[44,2,44,3],[44,8,44,9],[45,0,46,0],[45,2,45,3],[45,4,46,4],[45,5,46,5],[45,6,46,6],[45,8,45,9],[41,10,42,10],[41,11,42,11],[42,2,42,3],[42,8,42,9],[43,0,44,0],[43,2,43,3],[43,4,44,4],[43,5,44,5],[43,6,44,6],[43,8,43,9],[47,10,48,10],[47,11,48,11],[48,2,48,3],[48,8,48,9],[49,0,50,0],[49,2,49,3],[49,4,50,4],[49,5,50,5],[49,6,50,6],[49,8,49,9],[45,10,46,10],[45,11,46,11],[46,2,46,3],[46,8,46,9],[47,0,48,0],[47,2,47,3],[47,4,48,4],[47,5,48,5],[47,6,48,6],[47,8,47,9],[51,10,52,10],[51,11,52,11],[52,2,52,3],[52,8,52,9],[53,7,54,9],[53,10,54,10],[53,11,54,11],[49,10,50,10],[49,11,50,11],[50,2,50,3],[50,8,50,9],[51,0,52,0],[51,2,51,3],[51,4,52,4],[51,5,52,5],[51,6,52,6],[51,8,51,9],[59,0,59,2],[59,6,59,8],[60,0,61,0],[60,2,60,3],[60,4,61,4],[60,5,61,5],[60,6,61,6],[60,8,60,9],[55,7,56,9],[55,10,56,10],[55,11,56,11],[57,0,57,2],[57,5,57,9],[58,0,58,2],[58,4,58,5],[58,6,58,8],[58,10,58,11],[62,10,63,10],[62,11,63,11],[63,2,63,3],[63,8,63,9],[64,0,65,0],[64,2,64,3],[64,4,65,4],[64,5,65,5],[64,6,65,6],[64,8,64,9],[60,10,61,10],[60,11,61,11],[61,2,61,3],[61,8,61,9],[62,0,63,0],[62,2,62,3],[62,4,63,4],[62,5,63,5],[62,6,63,6],[62,8,62,9],[66,10,67,10],[66,11,67,11],[67,2,67,3],[67,8,67,9],[68,0,69,0],[68,2,68,3],[68,4,69,4],[68,5,69,5],[68,6,69,6],[68,8,68,9],[64,10,65,10],[64,11,65,11],[65,2,65,3],[65,8,65,9],[66,0,67,0],[66,2,66,3],[66,4,67,4],[66,5,67,5],[66,6,67,6],[66,8,66,9],[70,10,71,10],[70,11,71,11],[71,2,71,3],[71,8,71,9],[72,0,73,0],[72,2,72,3],[72,4,73,4],[72,5,73,5],[72,6,73,6],[72,8,72,9],[68,10,69,10],[68,11,69,11],[69,2,69,3],[69,8,69,9],[70,0,71,0],[70,2,70,3],[70,4,71,4],[70,5,71,5],[70,6,71,6],[70,8,70,9],[74,10,75,10],[74,11,75,11],[75,2,75,3],[75,8,75,9],[76,0,77,0],[76,2,76,3],[76,4,77,4],[76,5,77,5],[76,6,77,6],[76,8,76,9],[72,10,73,10],[72,11,73,11],[73,2,73,3],[73,8,73,9],[74,0,75,0],[74,2,74,3],[74,4,75,4],[74,5,75,5],[74,6,75,6],[74,8,74,9],[78,10,79,10],[78,11,79,11],[79,2,79,3],[79,8,79,9],[80,7,81,9],[80,10,81,10],[80,11,81,11],[76,10,77,10],[76,11,77,11],[77,2,77,3],[77,8,77,9],[78,0,79,0],[78,2,78,3],[78,4,79,4],[78,5,79,5],[78,6,79,6],[78,8,78,9],[86,0,86,2],[86,6,86,8],[87,0,88,0],[87,2,87,3],[87,4,88,4],[87,5,88,5],[87,6,88,6],[87,8,87,9],[82,7,83,9],[82,10,83,10],[82,11,83,11],[84,0,84,2],[84,5,84,9],[85,0,85,2],[85,4,85,5],[85,6,85,8],[85,10,85,11],[89,10,90,10],[89,11,90,11],[90,2,90,3],[90,8,90,9],[91,0,92,0],[91,2,91,3],[91,4,92,4],[91,5,92,5],[91,6,92,6],[91,8,91,9],[87,10,88,10],[87,11,88,11],[88,2,88,3],[88,8,88,9],[89,0,90,0],[89,2,89,3],[89,4,90,4],[89,5,90,5],[89,6,90,6],[89,8,89,9],[93,10,94,10],[93,11,94,11],[94,2,94,3],[94,8,94,9],[95,0,96,0],[95,2,95,3],[95,4,96,4],[95,5,96,5],[95,6,96,6],[95,8,95,9],[91,10,92,10],[91,11,92,11],[92,2,92,3],[92,8,92,9],[93,0,94,0],[93,2,93,3],[93,4,94,4],[93,5,94,5],[93,6,94,6],[93,8,93,9],[97,10,98,10],[97,11,98,11],[98,2,98,3],[98,8,98,9],[99,0,100,0],[99,2,99,3],[99,4,100,4],[99,5,100,5],[99,6,100,6],[99,8,99,9],[95,10,96,10],[95,11,96,11],[96,2,96,3],[96,8,96,9],[97,0,98,0],[97,2,97,3],[97,4,98,4],[97,5,98,5],[97,6,98,6],[97,8,97,9],[101,10,102,10],[101,11,102,11],[102,2,102,3],[102,8,102,9],[103,0,104,0],[103,2,103,3],[103,4,104,4],[103,5,104,5],[103,6,104,6],[103,8,103,9],[99,10,100,10],[99,11,100,11],[100,2,100,3],[100,8,100,9],[101,0,102,0],[101,2,101,3],[101,4,102,4],[101,5,102,5],[101,6,102,6],[101,8,101,9],[105,10,106,10],[105,11,106,11],[106,2,106,3],[106,8,106,9],[107,7,108,9],[107,10,108,10],[107,11,108,11],[103,10,104,10],[103,11,104,11],[104,2,104,3],[104,8,104,9],[105,0,106,0],[105,2,105,3],[105,4,106,4],[105,5,106,5],[105,6,106,6],[105,8,105,9],[113,0,113,2],[113,6,113,8],[114,0,115,0],[114,2,114,3],[114,4,115,4],[114,5,115,5],[114,6,115,6],[114,8,114,9],[109,7,110,9],[109,10,110,10],[109,11,110,11],[111,0,111,2],[111,5,111,9],[112,0,112,2],[112,4,112,5],[112,6,112,8],[112,10,112,11],[116,10,117,10],[116,11,117,11],[117,2,117,3],[117,8,117,9],[118,0,119,0],[118,2,118,3],[118,4,119,4],[118,5,119,5],[118,6,119,6],[118,8,118,9],[114,10,115,10],[114,11,115,11],[115,2,115,3],[115,8,115,9],[116,0,117,0],[116,2,116,3],[116,4,117,4],[116,5,117,5],[116,6,117,6],[116,8,116,9],[120,10,121,10],[120,11,121,11],[121,2,121,3],[121,8,121,9],[122,0,123,0],[122,2,122,3],[122,4,123,4],[122,5,123,5],[122,6,123,6],[122,8,122,9],[118,10,119,10],[118,11,119,11],[119,2,119,3],[119,8,119,9],[120,0,121,0],[120,2,120,3],[120,4,121,4],[120,5,121,5],[120,6,121,6],[120,8,120,9],[124,10,125,10],[124,11,125,11],[125,2,125,3],[125,8,125,9],[126,0,127,0],[126,2,126,3],[126,4,127,4],[126,5,127,5],[126,6,127,6],[126,8,126,9],[122,10,123,10],[122,11,123,11],[123,2,123,3],[123,8,123,9],[124,0,125,0],[124,2,124,3],[124,4,125,4],[124,5,125,5],[124,6,125,6],[124,8,124,9],[128,10,129,10],[128,11,129,11],[129,2,129,3],[129,8,129,9],[130,0,131,0],[130,2,130,3],[130,4,131,4],[130,5,131,5],[130,6,131,6],[130,8,130,9],[126,10,127,10],[126,11,127,11],[127,2,127,3],[127,8,127,9],[128,0,129,0],[128,2,128,3],[128,4,129,4],[128,5,129,5],[128,6,129,6],[128,8,128,9],[132,10,133,10],[132,11,133,11],[133,2,133,3],[133,8,133,9],[134,7,135,9],[134,10,135,10],[134,11,135,11],[130,10,131,10],[130,11,131,11],[131,2,131,3],[131,8,131,9],[132,0,133,0],[132,2,132,3],[132,4,133,4],[132,5,133,5],[132,6,133,6],[132,8,132,9],[140,0,140,2],[140,6,140,8],[141,0,142,0],[141,2,141,3],[141,4,142,4],[141,5,142,5],[141,6,142,6],[141,8,141,9],[136,7,137,9],[136,10,137,10],[136,11,137,11],[138,0,138,2],[138,5,138,9],[139,0,139,2],[139,4,139,5],[139,6,139,8],[139,10,139,11],[143,10,144,10],[143,11,144,11],[144,2,144,3],[144,8,144,9],[145,0,146,0],[145,2,145,3],[145,4,146,4],[145,5,146,5],[145,6,146,6],[145,8,145,9],[141,10,142,10],[141,11,142,11],[142,2,142,3],[142,8,142,9],[143,0,144,0],[143,2,143,3],[143,4,144,4],[143,5,144,5],[143,6,144,6],[143,8,143,9],[147,10,148,10],[147,11,148,11],[148,2,148,3],[148,8,148,9],[149,0,150,0],[149,2,149,3],[149,4,150,4],[149,5,150,5],[149,6,150,6],[149,8,149,9],[145,10,146,10],[145,11,146,11],[146,2,146,3],[146,8,146,9],[147,0,148,0],[147,2,147,3],[147,4,148,4],[147,5,148,5],[147,6,148,6],[147,8,147,9],[151,10,152,10],[151,11,152,11],[152,2,152,3],[152,8,152,9],[153,0,154,0],[153,2,153,3],[153,4,154,4],[153,5,154,5],[153,6,154,6],[153,8,153,9],[149,10,150,10],[149,11,150,11],[150,2,150,3],[150,8,150,9],[151,0,152,0],[151,2,151,3],[151,4,152,4],[151,5,152,5],[151,6,152,6],[151,8,151,9],[155,10,156,10],[155,11,156,11],[156,2,156,3],[156,8,156,9],[157,0,158,0],[157,2,157,3],[157,4,158,4],[157,5,158,5],[157,6,158,6],[157,8,157,9],[153,10,154,10],[153,11,154,11],[154,2,154,3],[154,8,154,9],[155,0,156,0],[155,2,155,3],[155,4,156,4],[155,5,156,5],[155,6,156,6],[155,8,155,9],[159,10,160,10],[159,11,160,11],[160,2,160,3],[160,8,160,9],[161,7,162,9],[161,10,162,10],[161,11,162,11],[157,10,158,10],[157,11,158,11],[158,2,158,3],[158,8,158,9],[159,0,160,0],[159,2,159,3],[159,4,160,4],[159,5,160,5],[159,6,160,6],[159,8,159,9],[167,0,167,2],[167,6,167,8],[168,0,169,0],[168,2,168,3],[168,4,169,4],[168,5,169,5],[168,6,169,6],[168,8,168,9],[163,7,164,9],[163,10,164,10],[163,11,164,11],[165,0,165,2],[165,5,165,9],[166,0,166,2],[166,4,166,5],[166,6,166,8],[166,10,166,11],[170,10,171,10],[170,11,171,11],[171,2,171,3],[171,8,171,9],[172,0,173,0],[172,2,172,3],[172,4,173,4],[172,5,173,5],[172,6,173,6],[172,8,172,9],[168,10,169,10],[168,11,169,11],[169,2,169,3],[169,8,169,9],[170,0,171,0],[170,2,170,3],[170,4,171,4],[170,5,171,5],[170,6,171,6],[170,8,170,9],[174,10,175,10],[174,11,175,11],[175,2,175,3],[175,8,175,9],[176,0,177,0],[176,2,176,3],[176,4,177,4],[176,5,177,5],[176,6,177,6],[176,8,176,9],[172,10,173,10],[172,11,173,11],[173,2,173,3],[173,8,173,9],[174,0,175,0],[174,2,174,3],[174,4,175,4],[174,5,175,5],[174,6,175,6],[174,8,174,9],[178,10,179,10],[178,11,179,11],[179,2,179,3],[179,8,179,9],[180,0,181,0],[180,2,180,3],[180,4,181,4],[180,5,181,5],[180,6,181,6],[180,8,180,9],[176,10,177,10],[176,11,177,11],[177,2,177,3],[177,8,177,9],[178,0,179,0],[178,2,178,3],[178,4,179,4],[178,5,179,5],[178,6,179,6],[178,8,178,9],[182,10,183,10],[182,11,183,11],[183,2,183,3],[183,8,183,9],[184,0,185,0],[184,2,184,3],[184,4,185,4],[184,5,185,5],[184,6,185,6],[184,8,184,9],[180,10,181,10],[180,11,181,11],[181,2,181,3],[181,8,181,9],[182,0,183,0],[182,2,182,3],[182,4,183,4],[182,5,183,5],[182,6,183,6],[182,8,182,9],[186,10,187,10],[186,11,187,11],[187,2,187,3],[187,8,187,9],[188,7,189,9],[188,10,189,10],[188,11,189,11],[184,10,185,10],[184,11,185,11],[185,2,185,3],[185,8,185,9],[186,0,187,0],[186,2,186,3],[186,4,187,4],[186,5,187,5],[186,6,187,6],[186,8,186,9],[194,0,194,2],[194,6,194,8],[195,0,196,0],[195,2,195,3],[195,4,196,4],[195,5,196,5],[195,6,196,6],[195,8,195,9],[190,7,191,9],[190,10,191,10],[190,11,191,11],[192,0,192,2],[192,5,192,9],[193,0,193,2],[193,4,193,5],[193,6,193,8],[193,10,193,11],[197,10,198,10],[197,11,198,11],[198,2,198,3],[198,8,198,9],[199,0,200,0],[199,2,199,3],[199,4,200,4],[199,5,200,5],[199,6,200,6],[199,8,199,9],[195,10,196,10],[195,11,196,11],[196,2,196,3],[196,8,196,9],[197,0,198,0],[197,2,197,3],[197,4,198,4],[197,5,198,5],[197,6,198,6],[197,8,197,9],[201,10,202,10],[201,11,202,11],[202,2,202,3],[202,8,202,9],[203,0,204,0],[203,2,203,3],[203,4,204,4],[203,5,204,5],[203,6,204,6],[203,8,203,9],[199,10,200,10],[199,11,200,11],[200,2,200,3],[200,8,200,9],[201,0,202,0],[201,2,201,3],[201,4,202,4],[201,5,202,5],[201,6,202,6],[201,8,201,9],[205,10,206,10],[205,11,206,11],[206,2,206,3],[206,8,206,9],[207,0,208,0],[207,2,207,3],[207,4,208,4],[207,5,208,5],[207,6,208,6],[207,8,207,9],[203,10,204,10],[203,11,204,11],[204,2,204,3],[204,8,204,9],[205,0,206,0],[205,2,205,3],[205,4,206,4],[205,5,206,5],[205,6,206,6],[205,8,205,9],[209,10,210,10],[209,11,210,11],[210,2,210,3],[210,8,210,9],[211,0,212,0],[211,2,211,3],[211,4,212,4],[211,5,212,5],[211,6,212,6],[211,8,211,9],[207,10,208,10],[207,11,208,11],[208,2,208,3],[208,8,208,9],[209,0,210,0],[209,2,209,3],[209,4,210,4],[209,5,210,5],[209,6,210,6],[209,8,209,9],[213,10,214,10],[213,11,214,11],[214,2,214,3],[214,8,214,9],[215,7,216,9],[215,10,216,10],[215,11,216,11],[211,10,212,10],[211,11,212,11],[212,2,212,3],[212,8,212,9],[213,0,214,0],[213,2,213,3],[213,4,214,4],[213,5,214,5],[213,6,214,6],[213,8,213,9],[221,0,221,2],[221,6,221,8],[222,0,223,0],[222,2,222,3],[222,4,223,4],[222,5,223,5],[222,6,223,6],[222,8,222,9],[217,7,218,9],[217,10,218,10],[217,11,218,11],[219,0,219,2],[219,5,219,9],[220,0,220,2],[220,4,220,5],[220,6,220,8],[220,10,220,11],[224,10,225,10],[224,11,225,11],[225,2,225,3],[225,8,225,9],[226,0,227,0],[226,2,226,3],[226,4,227,4],[226,5,227,5],[226,6,227,6],[226,8,226,9],[222,10,223,10],[222,11,223,11],[223,2,223,3],[223,8,223,9],[224,0,225,0],[224,2,224,3],[224,4,225,4],[224,5,225,5],[224,6,225,6],[224,8,224,9],[228,10,229,10],[228,11,229,11],[229,2,229,3],[229,8,229,9],[230,0,231,0],[230,2,230,3],[230,4,231,4],[230,5,231,5],[230,6,231,6],[230,8,230,9],[226,10,227,10],[226,11,227,11],[227,2,227,3],[227,8,227,9],[228,0,229,0],[228,2,228,3],[228,4,229,4],[228,5,229,5],[228,6,229,6],[228,8,228,9],[232,10,233,10],[232,11,233,11],[233,2,233,3],[233,8,233,9],[234,0,235,0],[234,2,234,3],[234,4,235,4],[234,5,235,5],[234,6,235,6],[234,8,234,9],[230,10,231,10],[230,11,231,11],[231,2,231,3],[231,8,231,9],[232,0,233,0],[232,2,232,3],[232,4,233,4],[232,5,233,5],[232,6,233,6],[232,8,232,9],[236,10,237,10],[236,11,237,11],[237,2,237,3],[237,8,237,9],[238,0,239,0],[238,2,238,3],[238,4,239,4],[238,5,239,5],[238,6,239,6],[238,8,238,9],[234,10,235,10]],"merged_total":1143,"flags":["merged_cut"]}
[null,null,null,null,"配　送\n事業所",{"$f":"保険会社用!F1","v":0},null,null,null,null,null,{"$f":"入力シート!F1","v":"○○県"}]
["LPガス配送事業者",null,null,{"$f":"保険会社用!D2","v":0},null,null,null,null,null,null,null,{"$f":"入力シート!F2","v":"2015-06-03"}]
[null,null,null,null,null,null,null,null,null,null,1,{"$f":"IF($L$26=0,1,(COUNTIF($L$26,\">0\")+COUNTIF($L$54,\">0\")+COUNTIF($L$81,\">0\")+COUNTIF($L$108,\">0\")+COUNTIF($L$135,\">0\")+COUNTIF($L$162,\">0\")+COUNTIF($L$189,\">0\")+COUNTIF($L$216,\">0\")+COUNTIF($L$243,\">0\")+COUNTIF($L$270,\">0\")))","v":1}]
["LPガス配送",null,null,"名　　　　称","配送契約の内容",null,"LPガス配送",null,null,"名　　　　称","配送契約の内容"]
["受託販売所",null,null,"住　　　　所","配　送　先\n消費者戸数","1か年間の\n配送トン数","受託販売所",null,null,"住　　　　所","配　送　先\n消費者戸数","1か年間の\n配送トン数"]
[1,"名称",{"$f":"保険会社用!C6","v":""},null,{"$f":"保険会社用!E6","v":""},{"$f":"IF(保険会社用!F6>0,保険会社用!F6,\"\")","v":""},11,"名称",{"$f":"保険会社用!I6","v":""},null,{"$f":"保険会社用!K6","v":""},{"$f":"IF(保険会社用!L6>0,保険会社用!L6,\"\")","v":""}]
[null,"住所",{"$f":"保険会社用!C7","v":""},null,null,null,null,"住所",{"$f":"保険会社用!I7","v":""}]
[2,"名称",{"$f":"保険会社用!C8","v":""},null,{"$f":"保険会社用!E8","v":""},{"$f":"IF(保険会社用!F8>0,保険会社用!F8,\"\")","v":""},12,"名称",{"$f":"保険会社用!I8","v":""},null,{"$f":"保険会社用!K8","v":""},{"$f":"IF(保険会社用!L8>0,保険会社用!L8,\"\")","v":""}]
[null,"住所",{"$f":"保険会社用!C9","v":""},null,null,null,null,"住所",{"$f":"保険会社用!I9","v":""}]
[3,"名称",{"$f":"保険会社用!C10","v":""},null,{"$f":"保険会社用!E10","v":""},{"$f":"IF(保険会社用!F10>0,保険会社用!F10,\"\")","v":""},13,"名称",{"$f":"保険会社用!I10","v":""},null,{"$f":"保険会社用!K10","v":""},{"$f":"IF(保険会社用!L10>0,保険会社用!L10,\"\")","v":""}]
[null,"住所",{"$f":"保険会社用!C11","v":""},null,null,null,null,"住所",{"$f":"保険会社用!I11","v":""}]
[4,"名称",{"$f":"保険会社用!C12","v":""},null,{"$f":"保険会社用!E12","v":""},{"$f":"IF(保険会社用!F12>0,保険会社用!F12,\"\")","v":""},14,"名称",{"$f":"保険会社用!I12","v":""},null,{"$f":"保険会社用!K12","v":""},{"$f":"IF(保険会社用!L12>0,保険会社用!L12,\"\")","v":""}]
[null,"住所",{"$f":"保険会社用!C13","v":""},null,null,null,null,"住所",{"$f":"保険会社用!I13","v":""}]
[5,"名称",{"$f":"保険会社用!C14","v":""},null,{"$f":"保険会社用!E14","v":""},{"$f":"IF(保険会社用!F14>0,保険会社用!F14,\"\")","v":""},15,"名称",{"$f":"保険会社用!I14","v":""},null,{"$f":"保険会社用!K14","v":""},{"$f":"IF(保険会社用!L14>0,保険会社用!L14,\"\")","v":""}]
[null,"住所",{"$f":"保険会社用!C15","v":""},null,null,null,null,"住所",{"$f":"保険会社用!I15","v":""}]
[6,"名称",{"$f":"保険会社用!C16","v":""},null,{"$f":"保険会社用!E16","v":""},{"$f":"IF(保険会社用!F16>0,保険会社用!F16,\"\")","v":""},16,"名称",{"$f":"保険会社用!I16","v":""},null,{"$f":"保険会社用!K16","v":""},{"$f":"IF(保険会社用!L16>0,保険会社用!L16,\"\")","v":""}]
[null,"住所",{"$f":"保険会社用!C17","v":""},null,null,null,null,"住所",{"$f":"保険会社用!I17","v":""}]
[7,"名称",{"$f":"保険会社用!C18","v":""},null,{"$f":"保険会社用!E18","v":""},{"$f":"IF(保険会社用!F18>0,保険会社用!F18,\"\")","v":""},17,"名称",{"$f":"保険会社用!I18","v":""},null,{"$f":"保険会社用!K18","v":""},{"$f":"IF(保険会社用!L18>0,保険会社用!L18,\"\")","v":""}]
[null,"住所",{"$f":"保険会社用!C19","v":""},null,null,null,null,"住所",{"$f":"保険会社用!I19","v":""}]
[8,"名称",{"$f":"保険会社用!C20","v":""},null,{"$f":"保険会社用!E20","v":""},{"$f":"IF(保険会社用!F20>0,保険会社用!F20,\"\")","v":""},18,"名称",{"$f":"保険会社用!I20","v":""},null,{"$f":"保険会社用!K20","v":""},{"$f":"IF(保険会社用!L20>0,保険会社用!L20,\"\")","v":""}]
[null,"住所",{"$f":"保険会社用!C21","v":""},null,null,null,null,"住所",{"$f":"保険会社用!I21","v":""}]
[9,"名称",{"$f":"保険会社用!C22","v":""},null,{"$f":"保険会社用!E22","v":""},{"$f":"IF(保険会社用!F22>0,保険会社用!F22,\"\")","v":""},19,"名称",{"$f":"保険会社用!I22","v":""},null,{"$f":"保険会社用!K22","v":""},{"$f":"IF(保険会社用!L22>0,保険会社用!L22,\"\")","v":""}]
[null,"住所",{"$f":"保険会社用!C23","v":""},null,null,null,null,"住所",{"$f":"保険会社用!I23","v":""}]
[10,"名称",{"$f":"保険会社用!C24","v":""},null,{"$f":"保険会社用!E24","v":""},{"$f":"IF(保険会社用!F24>0,保険会社用!F24,\"\")","v":""},20,"名称",{"$f":"保険会社用!I24","v":""},null,{"$f":"保険会社用!K24","v":""},{"$f":"IF(保険会社用!L24>0,保険会社用!L24,\"\")","v":""}]
[null,"住所",{"$f":"保険会社用!C25","v":""},null,null,null,null,"住所",{"$f":"保険会社用!I25","v":""}]
["（注）","1.本名簿には、配送事業者がＬＰガス配送を受託しているＬＰガス販売事業者をすべて記入する。",null,null,null,null,null,"小　　計（このページの合計）",null,null,{"$f":"保険会社用!K26","v":0},{"$f":"保険会社用!L26","v":0}]
[null,"2.ＬＰガス配送受託販売所の名称欄には企業名、販売所名を明記し、住所欄には当該販売所の住所を記入する。"]
[null,"3.保険契約加入依頼の際、依頼書に本名簿（保険会社用、事業団用、都道府県協会用）を添付して提出する。",null,null,null,null,null,"配送事業所ごとの合計",null,null,{"$f":"保険会社用!K28","v":0},{"$f":"保険会社用!L28","v":0}]
[null,"4.支部が事業団に加入依頼書を送付する際、２部（保険会社用、事業団用）を添付する。"]
[null,null,null,null,null,null,null,null,null,null,null,"＊１トン未満切り捨て"]
[null,null,null,null,null,null,null,null,null,null,2,{"$f":"COUNTIF($L$26,\">0\")+COUNTIF($L$54,\">0\")+COUNTIF($L$81,\">0\")+COUNTIF($L$108,\">0\")+COUNTIF($L$135,\">0\")+COUNTIF($L$162,\">0\")+COUNTIF($L$189,\">0\")+COUNTIF($L$216,\">0\")+COUNTIF($L$243,\">0\")+COUNTIF($L$270,\">0\")","v":0}]
["LPガス配送",null,null,"名　　　　称","配送契約の内容",null,"LPガス配送",null,null,"名　　　　称","配送契約の内容"]
["受託販売所",null,null,"住　　　　所","配　送　先\n消費者戸数","1か年間の\n配送トン数","受託販売所",null,null,"住　　　　所","配　送　先\n消費者戸数","1か年間の\n配送トン数"]
[21,"名称",{"$f":"保険会社用!C34","v":""},null,{"$f":"保険会社用!E34","v":""},{"$f":"IF(保険会社用!F34>0,保険会社用!F34,\"\")","v":""},31,"名称",{"$f":"保険会社用!I34","v":""},null,{"$f":"保険会社用!K34","v":""},{"$f":"IF(保険会社用!L34>0,保険会社用!L34,\"\")","v":""}]
[null,"住所",{"$f":"保険会社用!C35","v":""},null,null,null,null,"住所",{"$f":"保険会社用!I35","v":""}]
[22,"名称",{"$f":"保険会社用!C36","v":""},null,{"$f":"保険会社用!E36","v":""},{"$f":"IF(保険会社用!F36>0,保険会社用!F36,\"\")","v":""},32,"名称",{"$f":"保険会社用!I36","v":""},null,{"$f":"保険会社用!K36","v":""},{"$f":"IF(保険会社用!L36>0,保険会社用!L36,\"\")","v":""}]
[null,"住所",{"$f":"保険会社用!C37","v":""},null,null,null,null,"住所",{"$f":"保険会社用!I37","v":""}]
[23,"名称",{"$f":"保険会社用!C38","v":""},null,{"$f":"保険会社用!E38","v":""},{"$f":"IF(保険会社用!F38>0,保険会社用!F38,\"\")","v":""},33,"名称",{"$f":"保険会社用!I38","v":""},null,{"$f":"保険会社用!K38","v":""},{"$f":"IF(保険会社用!L38>0,保険会社用!L38,\"\")","v":""}]
[null,"住所",{"$f":"保険会社用!C39","v":""},null,null,null,null,"住所",{"$f":"保険会社用!I39","v":""}]
[24,"名称",{"$f":"保険会社用!C40","v":""},null,{"$f":"保険会社用!E40","v":""},{"$f":"IF(保険会社用!F40>0,保険会社用!F40,\"\")","v":""},34,"名称",{"$f":"保険会社用!I40","v":""},null,{"$f":"保険会社用!K40","v":""},{"$f":"IF(保険会社用!L40>0,保険会社用!L40,\"\")","v":""}]
[null,"住所",{"$f":"保険会社用!C41","v":""},null,null,null,null,"住所",{"$f":"保険会社用!I41","v":""}]
[25,"名称",{"$f":"保険会社用!C42","v":""},null,{"$f":"保険会社用!E42","v":""},{"$f":"IF(保険会社用!F42>0,保険会社用!F42,\"\")","v":""},35,"名称",{"$f":"保険会社用!I42","v":""},null,{"$f":"保険会社用!K42","v":""},{"$f":"IF(保険会社用!L42>0,保険会社用!L42,\"\")","v":""}]
[null,"住所",{"$f":"保険会社用!C43","v":""},null,null,null,null,"住所",{"$f":"保険会社用!I43","v":""}]
[26,"名称",{"$f":"保険会社用!C44","v":""},null,{"$f":"保険会社用!E44","v":""},{"$f":"IF(保険会社用!F44>0,保険会社用!F44,\"\")","v":""},36,"名称",{"$f":"保険会社用!I44","v":""},null,{"$f":"保険会社用!K44","v":""},{"$f":"IF(保険会社用!L44>0,保険会社用!L44,\"\")","v":""}]
[null,"住所",{"$f":"保険会社用!C45","v":""},null,null,null,null,"住所",{"$f":"保険会社用!I45","v":""}]
[27,"名称",{"$f":"保険会社用!C46","v":""},null,{"$f":"保険会社用!E46","v":""},{"$f":"IF(保険会社用!F46>0,保険会社用!F46,\"\")","v":""},37,"名称",{"$f":"保険会社用!I46","v":""},null,{"$f":"保険会社用!K46","v":""},{"$f":"IF(保険会社用!L46>0,保険会社用!L46,\"\")","v":""}]
[null,"住所",{"$f":"保険会社用!C47","v":""},null,null,null,null,"住所",{"$f":"保険会社用!I47","v":""}]
[28,"名称",{"$f":"保険会社用!C48","v":""},null,{"$f":"保険会社用!E48","v":""},{"$f":"IF(保険会社用!F48>0,保険会社用!F48,\"\")","v":""},38,"名称",{"$f":"保険会社用!I48","v":""},null,{"$f":"保険会社用!K48","v":""},{"$f":"IF(保険会社用!L48>0,保険会社用!L48,\"\")","v":""}]
[null,"住所",{"$f":"保険会社用!C49","v":""},null,null,null,null,"住所",{"$f":"保険会社用!I49","v":""}]
[29,"名称",{"$f":"保険会社用!C50","v":""},null,{"$f":"保険会社用!E50","v":""},{"$f":"IF(保険会社用!F50>0,保険会社用!F50,\"\")","v":""},39,"名称",{"$f":"保険会社用!I50","v":""},null,{"$f":"保険会社用!K50","v":""},{"$f":"IF(保険会社用!L50>0,保険会社用!L50,\"\")","v":""}]
[null,"住所",{"$f":"保険会社用!C51","v":""},null,null,null,null,"住所",{"$f":"保険会社用!I51","v":""}]
[30,"名称",{"$f":"保険会社用!C52","v":""},null,{"$f":"保険会社用!E52","v":""},{"$f":"IF(保険会社用!F52>0,保険会社用!F52,\"\")","v":""},40,"名称",{"$f":"保険会社用!I52","v":""},null,{"$f":"保険会社用!K52","v":""},{"$f":"IF(保険会社用!L52>0,保険会社用!L52,\"\")","v":""}]
[null,"住所",{"$f":"保険会社用!C53","v":""},null,null,null,null,"住所",{"$f":"保険会社用!I53","v":""}]
["（注）","1.本名簿には、配送事業者がＬＰガス配送を受託しているＬＰガス販売事業者をすべて記入する。",null,null,null,null,null,"小　　計（このページの合計）",null,null,{"$f":"保険会社用!K54","v":0},{"$f":"保険会社用!L54","v":0}]
[null,"2.ＬＰガス配送受託販売所の名称欄には企業名、販売所名を明記し、住所欄には当該販売所の住所を記入する。"]
[null,"3.保険契約加入依頼の際、依頼書に本名簿（保険会社用、事業団用、都道府県協会用）を添付して提出する。"]
[null,"4.支部が事業団に加入依頼書を送付する際、２部（保険会社用、事業団用）を添付する。"]
[null,null,null,null,null,null,null,null,null,null,3,{"$f":"COUNTIF($L$26,\">0\")+COUNTIF($L$54,\">0\")+COUNTIF($L$81,\">0\")+COUNTIF($L$108,\">0\")+COUNTIF($L$135,\">0\")+COUNTIF($L$162,\">0\")+COUNTIF($L$189,\">0\")+COUNTIF($L$216,\">0\")+COUNTIF($L$243,\">0\")+COUNTIF($L$270,\">0\")","v":0}]
["LPガス配送",null,null,"名　　　　称","配送契約の内容",null,"LPガス配送",null,null,"名　　　　称","配送契約の内容"]
["受託販売所",null,null,"住　　　　所","配　送　先\n消費者戸数","1か年間の\n配送トン数","受託販売所",null,null,"住　　　　所","配　送　先\n消費者戸数","1か年間の\n配送トン数"]
[41,"名称",{"$f":"保険会社用!C61","v":""},null,{"$f":"保険会社用!E61","v":""},{"$f":"IF(保険会社用!F61>0,保険会社用!F61,\"\")","v":""},51,"名称",{"$f":"保険会社用!I61","v":""},null,{"$f":"保険会社用!K61","v":""},{"$f":"IF(保険会社用!L61>0,保険会社用!L61,\"\")","v":""}]
[null,"住所",{"$f":"事業団用!C62","v":""},null,null,null,null,"住所",{"$f":"保険会社用!I62","v":""}]
[42,"名称",{"$f":"保険会社用!C63","v":""},null,{"$f":"保険会社用!E63","v":""},{"$f":"IF(保険会社用!F63>0,保険会社用!F63,\"\")","v":""},52,"名称",{"$f":"保険会社用!I63","v":""},null,{"$f":"保険会社用!K63","v":""},{"$f":"IF(保険会社用!L63>0,保険会社用!L63,\"\")","v":""}]
[null,"住所",{"$f":"事業団用!C64","v":""},null,null,null,null,"住所",{"$f":"保険会社用!I64","v":""}]
[43,"名称",{"$f":"保険会社用!C65","v":""},null,{"$f":"保険会社用!E65","v":""},{"$f":"IF(保険会社用!F65>0,保険会社用!F65,\"\")","v":""},53,"名称",{"$f":"保険会社用!I65","v":""},null,{"$f":"保険会社用!K65","v":""},{"$f":"IF(保険会社用!L65>0,保険会社用!L65,\"\")","v":""}]
[null,"住所",{"$f":"事業団用!C66","v":""},null,null,null,null,"住所",{"$f":"保険会社用!I66","v":""}]
[44,"名称",{"$f":"保険会社用!C67","v":""},null,{"$f":"保険会社用!E67","v":""},{"$f":"IF(保険会社用!F67>0,保険会社用!F67,\"\")","v":""},54,"名称",{"$f":"保険会社用!I67","v":""},null,{"$f":"保険会社用!K67","v":""},{"$f":"IF(保険会社用!L67>0,保険会社用!L67,\"\")","v":""}]
[null,"住所",{"$f":"事業団用!C68","v":""},null,null,null,null,"住所",{"$f":"保険会社用!I68","v":""}]
[45,"名称",{"$f":"保険会社用!C69","v":""},null,{"$f":"保険会社用!E69","v":""},{"$f":"IF(保険会社用!F69>0,保険会社用!F69,\"\")","v":""},55,"名称",{"$f":"保険会社用!I69","v":""},null,{"$f":"保険会社用!K69","v":""},{"$f":"IF(保険会社用!L69>0,保険会社用!L69,\"\")","v":""}]
[null,"住所",{"$f":"事業団用!C70","v":""},null,null,null,null,"住所",{"$f":"保険会社用!I70","v":""}]
[46,"名称",{"$f":"保険会社用!C71","v":""},null,{"$f":"保険会社用!E71","v":""},{"$f":"IF(保険会社用!F71>0,保険会社用!F71,\"\")","v":""},56,"名称",{"$f":"保険会社用!I71","v":""},null,{"$f":"保険会社用!K71","v":""},{"$f":"IF(保険会社用!L71>0,保険会社用!L71,\"\")","v":""}]
[null,"住所",{"$f":"事業団用!C72","v":""},null,null,null,null,"住所",{"$f":"保険会社用!I72","v":""}]
[47,"名称",{"$f":"保険会社用!C73","v":""},null,{"$f":"保険会社用!E73","v":""},{"$f":"IF(保険会社用!F73>0,保険会社用!F73,\"\")","v":""},57,"名称",{"$f":"保険会社用!I73","v":""},null,{"$f":"保険会社用!K73","v":""},{"$f":"IF(保険会社用!L73>0,保険会社用!L73,\"\")","v":""}]
[null,"住所",{"$f":"事業団用!C74","v":""},null,null,null,null,"住所",{"$f":"保険会社用!I74","v":""}]
[48,"名称",{"$f":"保険会社用!C75","v":""},null,{"$f":"保険会社用!E75","v":""},{"$f":"IF(保険会社用!F75>0,保険会社用!F75,\"\")","v":""},58,"名称",{"$f":"保険会社用!I75","v":""},null,{"$f":"保険会社用!K75","v":""},{"$f":"IF(保険会社用!L75>0,保険会社用!L75,\"\")","v":""}]
[null,"住所",{"$f":"事業団用!C76","v":""},null,null,null,null,"住所",{"$f":"保険会社用!I76","v":""}]
[49,"名称",{"$f":"保険会社用!C77","v":""},null,{"$f":"保険会社用!E77","v":""},{"$f":"IF(保険会社用!F77>0,保険会社用!F77,\"\")","v":""},59,"名称",{"$f":"保険会社用!I77","v":""},null,{"$f":"保険会社用!K77","v":""},{"$f":"IF(保険会社用!L77>0,保険会社用!L77,\"\")","v":""}]
[null,"住所",{"$f":"事業団用!C78","v":""},null,null,null,null,"住所",{"$f":"保険会社用!I78","v":""}]
[50,"名称",{"$f":"保険会社用!C79","v":""},null,{"$f":"保険会社用!E79","v":""},{"$f":"IF(保険会社用!F79>0,保険会社用!F79,\"\")","v":""},60,"名称",{"$f":"保険会社用!I79","v":""},null,{"$f":"保険会社用!K79","v":""},{"$f":"IF(保険会社用!L79>0,保険会社用!L79,\"\")","v":""}]
[null,"住所",{"$f":"事業団用!C80","v":""},null,null,null,null,"住所",{"$f":"保険会社用!I80","v":""}]
["（注）","1.本名簿には、配送事業者がＬＰガス配送を受託しているＬＰガス販売事業者をすべて記入する。",null,null,null,null,null,"小　　計（このページの合計）",null,null,{"$f":"保険会社用!K81","v":0},{"$f":"保険会社用!L81","v":0}]
[null,"2.ＬＰガス配送受託販売所の名称欄には企業名、販売所名を明記し、住所欄には当該販売所の住所を記入する。"]
[null,"3.保険契約加入依頼の際、依頼書に本名簿（保険会社用、事業団用、都道府県協会用）を添付して提出する。"]
[null,"4.支部が事業団に加入依頼書を送付する際、２部（保険会社用、事業団用）を添付する。"]
[null,null,null,null,null,null,null,null,null,null,4,{"$f":"COUNTIF($L$26,\">0\")+COUNTIF($L$54,\">0\")+COUNTIF($L$81,\">0\")+COUNTIF($L$108,\">0\")+COUNTIF($L$135,\">0\")+COUNTIF($L$162,\">0\")+COUNTIF($L$189,\">0\")+COUNTIF($L$216,\">0\")+COUNTIF($L$243,\">0\")+COUNTIF($L$270,\">0\")","v":0}]
["LPガス配送",null,null,"名　　　　称","配送契約の内容",null,"LPガス配送",null,null,"名　　　　称","配送契約の内容"]
["受託販売所",null,null,"住　　　　所","配　送　先\n消費者戸数","1か年間の\n配送トン数","受託販売所",null,null,"住　　　　所","配　送　先\n消費者戸数","1か年間の\n配送トン数"]
[61,"名称",{"$f":"保険会社用!C88","v":""},null,{"$f":"保険会社用!E88","v":""},{"$f":"IF(保険会社用!F88>0,保険会社用!F88,\"\")","v":""},71,"名称",{"$f":"保険会社用!I88","v":""},null,{"$f":"保険会社用!K88","v":""},{"$f":"IF(保険会社用!L88>0,保険会社用!L88,\"\")","v":""}]
[null,"住所",{"$f":"保険会社用!C89","v":""},null,null,null,null,"住所",{"$f":"保険会社用!I89","v":""}]
[62,"名称",{"$f":"保険会社用!C90","v":""},null,{"$f":"保険会社用!E90","v":""},{"$f":"IF(保険会社用!F90>0,保険会社用!F90,\"\")","v":""},72,"名称",{"$f":"保険会社用!I90","v":""},null,{"$f":"保険会社用!K90","v":""},{"$f":"IF(保険会社用!L90>0,保険会社用!L90,\"\")","v":""}]
[null,"住所",{"$f":"保険会社用!C91","v":""},null,null,null,null,"住所",{"$f":"保険会社用!I91","v":""}]
[63,"名称",{"$f":"保険会社用!C92","v":""},null,{"$f":"保険会社用!E92","v":""},{"$f":"IF(保険会社用!F92>0,保険会社用!F92,\"\")","v":""},73,"名称",{"$f":"保険会社用!I92","v":""},null,{"$f":"保険会社用!K92","v":""},{"$f":"IF(保険会社用!L92>0,保険会社用!L92,\"\")","v":""}]
[null,"住所",{"$f":"保険会社用!C93","v":""},null,null,null,null,"住所",{"$f":"保険会社用!I93","v":""}]
[64,"名称",{"$f":"保険会社用!C94","v":""},null,{"$f":"保険会社用!E94","v":""},{"$f":"IF(保険会社用!F94>0,保険会社用!F94,\"\")","v":""},74,"名称",{"$f":"保険会社用!I94","v":""},null,{"$f":"保険会社用!K94","v":""},{"$f":"IF(保険会社用!L94>0,保険会社用!L94,\"\")","v":""}]
[null,"住所",{"$f":"保険会社用!C95","v":""},null,null,null,null,"住所",{"$f":"保険会社用!I95","v":""}]
[65,"名称",{"$f":"保険会社用!C96","v":""},null,{"$f":"保険会社用!E96","v":""},{"$f":"IF(保険会社用!F96>0,保険会社用!F96,\"\")","v":""},75,"名称",{"$f":"保険会社用!I96","v":""},null,{"$f":"保険会社用!K96","v":""},{"$f":"IF(保険会社用!L96>0,保険会社用!L96,\"\")","v":""}]
[null,"住所",{"$f":"保険会社用!C97","v":""},null,null,null,null,"住所",{"$f":"保険会社用!I97","v":""}]
[66,"名称",{"$f":"保険会社用!C98","v":""},null,{"$f":"保険会社用!E98","v":""},{"$f":"IF(保険会社用!F98>0,保険会社用!F98,\"\")","v":""},76,"名称",{"$f":"保険会社用!I98","v":""},null,{"$f":"保険会社用!K98","v":""},{"$f":"IF(保険会社用!L98>0,保険会社用!L98,\"\")","v":""}]
[null,"住所",{"$f":"保険会社用!C99","v":""},null,null,null,null,"住所",{"$f":"保険会社用!I99","v":""}]
[67,"名称",{"$f":"保険会社用!C100","v":""},null,{"$f":"保険会社用!E100","v":""},{"$f":"IF(保険会社用!F100>0,保険会社用!F100,\"\")","v":""},77,"名称",{"$f":"保険会社用!I100","v":""},null,{"$f":"保険会社用!K100","v":""},{"$f":"IF(保険会社用!L100>0,保険会社用!L100,\"\")","v":""}]
[null,"住所",{"$f":"保険会社用!C101","v":""},null,null,null,null,"住所",{"$f":"保険会社用!I101","v":""}]
[68,"名称",{"$f":"保険会社用!C102","v":""},null,{"$f":"保険会社用!E102","v":""},{"$f":"IF(保険会社用!F102>0,保険会社用!F102,\"\")","v":""},78,"名称",{"$f":"保険会社用!I102","v":""},null,{"$f":"保険会社用!K102","v":""},{"$f":"IF(保険会社用!L102>0,保険会社用!L102,\"\")","v":""}]
[null,"住所",{"$f":"保険会社用!C103","v":""},null,null,null,null,"住所",{"$f":"保険会社用!I103","v":""}]
[69,"名称",{"$f":"保険会社用!C104","v":""},null,{"$f":"保険会社用!E104","v":""},{"$f":"IF(保険会社用!F104>0,保険会社用!F104,\"\")","v":""},79,"名称",{"$f":"保険会社用!I104","v":""},null,{"$f":"保険会社用!K104","v":""},{"$f":"IF(保険会社用!L104>0,保険会社用!L104,\"\")","v":""}]
[null,"住所",{"$f":"保険会社用!C105","v":""},null,null,null,null,"住所",{"$f":"保険会社用!I105","v":""}]
[70,"名称",{"$f":"保険会社用!C106","v":""},null,{"$f":"保険会社用!E106","v":""},{"$f":"IF(保険会社用!F106>0,保険会社用!F106,\"\")","v":""},80,"名称",{"$f":"保険会社用!I106","v":""},null,{"$f":"保険会社用!K106","v":""},{"$f":"IF(保険会社用!L106>0,保険会社用!L106,\"\")","v":""}]
[null,"住所",{"$f":"保険会社用!C107","v":""},null,null,null,null,"住所",{"$f":"保険会社用!I107","v":""}]
["（注）","1.本名簿には、配送事業者がＬＰガス配送を受託しているＬＰガス販売事業者をすべて記入する。",null,null,null,null,null,"小　　計（このページの合計）",null,null,{"$f":"保険会社用!K108","v":0},{"$f":"保険会社用!L108","v":0}]
[null,"2.ＬＰガス配送受託販売所の名称欄には企業名、販売所名を明記し、住所欄には当該販売所の住所を記入する。"]
[null,"3.保険契約加入依頼の際、依頼書に本名簿（保険会社用、事業団用、都道府県協会用）を添付して提出する。"]
[null,"4.支部が事業団に加入依頼書を送付する際、２部（保険会社用、事業団用）を添付する。"]
[null,null,null,null,null,null,null,null,null,null,5,{"$f":"COUNTIF($L$26,\">0\")+COUNTIF($L$54,\">0\")+COUNTIF($L$81,\">0\")+COUNTIF($L$108,\">0\")+COUNTIF($L$135,\">0\")+COUNTIF($L$162,\">0\")+COUNTIF($L$189,\">0\")+COUNTIF($L$216,\">0\")+COUNTIF($L$243,\">0\")+COUNTIF($L$270,\">0\")","v":0}]
["LPガス配送",null,null,"名　　　　称","配送契約の内容",null,"LPガス配送",null,null,"名　　　　称","配送契約の内容"]
["受託販売所",null,null,"住　　　　所","配　送　先\n消費者戸数","1か年間の\n配送トン数","受託販売所",null,null,"住　　　　所","配　送　先\n消費者戸数","1か年間の\n配送トン数"]
[81,"名称",{"$f":"保険会社用!C115","v":""},null,{"$f":"保険会社用!E115","v":""},{"$f":"IF(保険会社用!F115>0,保険会社用!F115,\"\")","v":""},91,"名称",{"$f":"保険会社用!I115","v":""},null,{"$f":"保険会社用!K115","v":""},{"$f":"IF(保険会社用!L115>0,保険会社用!L115,\"\")","v":""}]
[null,"住所",{"$f":"保険会社用!C116","v":""},null,null,null,null,"住所",{"$f":"保険会社用!I116","v":""}]
[82,"名称",{"$f":"保険会社用!C117","v":""},null,{"$f":"保険会社用!E117","v":""},{"$f":"IF(保険会社用!F117>0,保険会社用!F117,\"\")","v":""},92,"名称",{"$f":"保険会社用!I117","v":""},null,{"$f":"保険会社用!K117","v":""},{"$f":"IF(保険会社用!L117>0,保険会社用!L117,\"\")","v":""}]
[null,"住所",{"$f":"保険会社用!C118","v":""},null,null,null,null,"住所",{"$f":"保険会社用!I118","v":""}]
[83,"名称",{"$f":"保険会社用!C119","v":""},null,{"$f":"保険会社用!E119","v":""},{"$f":"IF(保険会社用!F119>0,保険会社用!F119,\"\")","v":""},93,"名称",{"$f":"保険会社用!I119","v":""},null,{"$f":"保険会社用!K119","v":""},{"$f":"IF(保険会社用!L119>0,保険会社用!L119,\"\")","v":""}]
[null,"住所",{"$f":"保険会社用!C120","v":""},null,null,null,null,"住所",{"$f":"保険会社用!I120","v":""}]
[84,"名称",{"$f":"保険会社用!C121","v":""},null,{"$f":"保険会社用!E121","v":""},{"$f":"IF(保険会社用!F121>0,保険会社用!F121,\"\")","v":""},94,"名称",{"$f":"保険会社用!I121","v":""},null,{"$f":"保険会社用!K121","v":""},{"$f":"IF(保険会社用!L121>0,保険会社用!L121,\"\")","v":""}]
[null,"住所",{"$f":"保険会社用!C122","v":""},null,null,null,null,"住所",{"$f":"保険会社用!I122","v":""}]
[85,"名称",{"$f":"保険会社用!C123","v":""},null,{"$f":"保険会社用!E123","v":""},{"$f":"IF(保険会社用!F123>0,保険会社用!F123,\"\")","v":""},95,"名称",{"$f":"保険会社用!I123","v":""},null,{"$f":"保険会社用!K123","v":""},{"$f":"IF(保険会社用!L123>0,保険会社用!L123,\"\")","v":""}]
[null,"住所",{"$f":"保険会社用!C124","v":""},null,null,null,null,"住所",{"$f":"保険会社用!I124","v":""}]
[86,"名称",{"$f":"保険会社用!C125","v":""},null,{"$f":"保険会社用!E125","v":""},{"$f":"IF(保険会社用!F125>0,保険会社用!F125,\"\")","v":""},96,"名称",{"$f":"保険会社用!I125","v":""},null,{"$f":"保険会社用!K125","v":""},{"$f":"IF(保険会社用!L125>0,保険会社用!L125,\"\")","v":""}]
[null,"住所",{"$f":"保険会社用!C126","v":""},null,null,null,null,"住所",{"$f":"保険会社用!I126","v":""}]
[87,"名称",{"$f":"保険会社用!C127","v":""},null,{"$f":"保険会社用!E127","v":""},{"$f":"IF(保険会社用!F127>0,保険会社用!F127,\"\")","v":""},97,"名称",{"$f":"保険会社用!I127","v":""},null,{"$f":"保険会社用!K127","v":""},{"$f":"IF(保険会社用!L127>0,保険会社用!L127,\"\")","v":""}]
[null,"住所",{"$f":"保険会社用!C128","v":""},null,null,null,null,"住所",{"$f":"保険会社用!I128","v":""}]
[88,"名称",{"$f":"保険会社用!C129","v":""},null,{"$f":"保険会社用!E129","v":""},{"$f":"IF(保険会社用!F129>0,保険会社用!F129,\"\")","v":""},98,"名称",{"$f":"保険会社用!I129","v":""},null,{"$f":"保険会社用!K129","v":""},{"$f":"IF(保険会社用!L129>0,保険会社用!L129,\"\")","v":""}]
[null,"住所",{"$f":"保険会社用!C130","v":""},null,null,null,null,"住所",{"$f":"保険会社用!I130","v":""}]
[89,"名称",{"$f":"保険会社用!C131","v":""},null,{"$f":"保険会社用!E131","v":""},{"$f":"IF(保険会社用!F131>0,保険会社用!F131,\"\")","v":""},99,"名称",{"$f":"保険会社用!I131","v":""},null,{"$f":"保険会社用!K131","v":""},{"$f":"IF(保険会社用!L131>0,保険会社用!L131,\"\")","v":""}]
[null,"住所",{"$f":"保険会社用!C132","v":""},null,null,null,null,"住所",{"$f":"保険会社用!I132","v":""}]
[90,"名称",{"$f":"保険会社用!C133","v":""},null,{"$f":"保険会社用!E133","v":""},{"$f":"IF(保険会社用!F133>0,保険会社用!F133,\"\")","v":""},100,"名称",{"$f":"保険会社用!I133","v":""},null,{"$f":"保険会社用!K133","v":""},{"$f":"IF(保険会社用!L133>0,保険会社用!L133,\"\")","v":""}]
[null,"住所",{"$f":"保険会社用!C134","v":""},null,null,null,null,"住所",{"$f":"保険会社用!I134","v":""}]
["（注）","1.本名簿には、配送事業者がＬＰガス配送を受託しているＬＰガス販売事業者をすべて記入する。",null,null,null,null,null,"小　　計（このページの合計）",null,null,{"$f":"保険会社用!K135","v":0},{"$f":"保険会社用!L135","v":0}]
[null,"2.ＬＰガス配送受託販売所の名称欄には企業名、販売所名を明記し、住所欄には当該販売所の住所を記入する。"]
[null,"3.保険契約加入依頼の際、依頼書に本名簿（保険会社用、事業団用、都道府県協会用）を添付して提出する。"]
[null,"4.支部が事業団に加入依頼書を送付する際、２部（保険会社用、事業団用）を添付する。"]
[null,null,null,null,null,null,null,null,null,null,6,{"$f":"COUNTIF($L$26,\">0\")+COUNTIF($L$54,\">0\")+COUNTIF($L$81,\">0\")+COUNTIF($L$108,\">0\")+COUNTIF($L$135,\">0\")+COUNTIF($L$162,\">0\")+COUNTIF($L$189,\">0\")+COUNTIF($L$216,\">0\")+COUNTIF($L$243,\">0\")+COUNTIF($L$270,\">0\")","v":0}]
["LPガス配送",null,null,"名　　　　称","配送契約の内容",null,"LPガス配送",null,null,"名　　　　称","配送契約の内容"]
["受託販売所",null,null,"住　　　　所","配　送　先\n消費者戸数","1か年間の\n配送トン数","受託販売所",null,null,"住　　　　所","配　送　先\n消費者戸数","1か年間の\n配送トン数"]
[101,"名称",{"$f":"保険会社用!C142","v":""},null,{"$f":"保険会社用!E142","v":""},{"$f":"IF(保険会社用!F142>0,保険会社用!F142,\"\")","v":""},111,"名称",{"$f":"保険会社用!I142","v":""},null,{"$f":"保険会社用!K142","v":""},{"$f":"IF(保険会社用!L142>0,保険会社用!L142,\"\")","v":""}]
[null,"住所",{"$f":"保険会社用!C143","v":""},null,null,null,null,"住所",{"$f":"保険会社用!I143","v":""}]
[102,"名称",{"$f":"保険会社用!C144","v":""},null,{"$f":"保険会社用!E144","v":""},{"$f":"IF(保険会社用!F144>0,保険会社用!F144,\"\")","v":""},112,"名称",{"$f":"保険会社用!I144","v":""},null,{"$f":"保険会社用!K144","v":""},{"$f":"IF(保険会社用!L144>0,保険会社用!L144,\"\")","v":""}]
[null,"住所",{"$f":"保険会社用!C145","v":""},null,null,null,null,"住所",{"$f":"保険会社用!I145","v":""}]
[103,"名称",{"$f":"保険会社用!C146","v":""},null,{"$f":"保険会社用!E146","v":""},{"$f":"IF(保険会社用!F146>0,保険会社用!F146,\"\")","v":""},113,"名称",{"$f":"保険会社用!I146","v":""},null,{"$f":"保険会社用!K146","v":""},{"$f":"IF(保険会社用!L146>0,保険会社用!L146,\"\")","v":""}]
[null,"住所",{"$f":"保険会社用!C147","v":""},null,null,null,null,"住所",{"$f":"保険会社用!I147","v":""}]
[104,"名称",{"$f":"保険会社用!C148","v":""},null,{"$f":"保険会社用!E148","v":""},{"$f":"IF(保険会社用!F148>0,保険会社用!F148,\"\")","v":""},114,"名称",{"$f":"保険会社用!I148","v":""},null,{"$f":"保険会社用!K148","v":""},{"$f":"IF(保険会社用!L148>0,保険会社用!L148,\"\")","v":""}]
[null,"住所",{"$f":"保険会社用!C149","v":""},null,null,null,null,"住所",{"$f":"保険会社用!I149","v":""}]
[105,"名称",{"$f":"保険会社用!C150","v":""},null,{"$f":"保険会社用!E150","v":""},{"$f":"IF(保険会社用!F150>0,保険会社用!F150,\"\")","v":""},115,"名称",{"$f":"保険会社用!I150","v":""},null,{"$f":"保険会社用!K150","v":""},{"$f":"IF(保険会社用!L150>0,保険会社用!L150,\"\")","v":""}]
[null,"住所",{"$f":"保険会社用!C151","v":""},null,null,null,null,"住所",{"$f":"保険会社用!I151","v":""}]
[106,"名称",{"$f":"保険会社用!C152","v":""},null,{"$f":"保険会社用!E152","v":""},{"$f":"IF(保険会社用!F152>0,保険会社用!F152,\"\")","v":""},116,"名称",{"$f":"保険会社用!I152","v":""},null,{"$f":"保険会社用!K152","v":""},{"$f":"IF(保険会社用!L152>0,保険会社用!L152,\"\")","v":""}]
[null,"住所",{"$f":"保険会社用!C153","v":""},null,null,null,null,"住所",{"$f":"保険会社用!I153","v":""}]
[107,"名称",{"$f":"保険会社用!C154","v":""},null,{"$f":"保険会社用!E154","v":""},{"$f":"IF(保険会社用!F154>0,保険会社用!F154,\"\")","v":""},117,"名称",{"$f":"保険会社用!I154","v":""},null,{"$f":"保険会社用!K154","v":""},{"$f":"IF(保険会社用!L154>0,保険会社用!L154,\"\")","v":""}]
[null,"住所",{"$f":"保険会社用!C155","v":""},null,null,null,null,"住所",{"$f":"保険会社用!I155","v":""}]
[108,"名称",{"$f":"保険会社用!C156","v":""},null,{"$f":"保険会社用!E156","v":""},{"$f":"IF(保険会社用!F156>0,保険会社用!F156,\"\")","v":""},118,"名称",{"$f":"保険会社用!I156","v":""},null,{"$f":"保険会社用!K156","v":""},{"$f":"IF(保険会社用!L156>0,保険会社用!L156,\"\")","v":""}]
[null,"住所",{"$f":"保険会社用!C157","v":""},null,null,null,null,"住所",{"$f":"保険会社用!I157","v":""}]
[109,"名称",{"$f":"保険会社用!C158","v":""},null,{"$f":"保険会社用!E158","v":""},{"$f":"IF(保険会社用!F158>0,保険会社用!F158,\"\")","v":""},119,"名称",{"$f":"保険会社用!I158","v":""},null,{"$f":"保険会社用!K158","v":""},{"$f":"IF(保険会社用!L158>0,保険会社用!L158,\"\")","v":""}]
[null,"住所",{"$f":"保険会社用!C159","v":""},null,null,null,null,"住所",{"$f":"保険会社用!I159","v":""}]
[110,"名称",{"$f":"保険会社用!C160","v":""},null,{"$f":"保険会社用!E160","v":""},{"$f":"IF(保険会社用!F160>0,保険会社用!F160,\"\")","v":""},120,"名称",{"$f":"保険会社用!I160","v":""},null,{"$f":"保険会社用!K160","v":""},{"$f":"IF(保険会社用!L160>0,保険会社用!L160,\"\")","v":""}]
[null,"住所",{"$f":"保険会社用!C161","v":""},null,null,null,null,"住所",{"$f":"保険会社用!I161","v":""}]
["（注）","1.本名簿には、配送事業者がＬＰガス配送を受託しているＬＰガス販売事業者をすべて記入する。",null,null,null,null,null,"小　　計（このページの合計）",null,null,{"$f":"保険会社用!K162","v":0},{"$f":"保険会社用!L162","v":0}]
[null,"2.ＬＰガス配送受託販売所の名称欄には企業名、販売所名を明記し、住所欄には当該販売所の住所を記入する。"]
[null,"3.保険契約加入依頼の際、依頼書に本名簿（保険会社用、事業団用、都道府県協会用）を添付して提出する。"]
[null,"4.支部が事業団に加入依頼書を送付する際、２部（保険会社用、事業団用）を添付する。"]
[null,null,null,null,null,null,null,null,null,null,7,{"$f":"COUNTIF($L$26,\">0\")+COUNTIF($L$54,\">0\")+COUNTIF($L$81,\">0\")+COUNTIF($L$108,\">0\")+COUNTIF($L$135,\">0\")+COUNTIF($L$162,\">0\")+COUNTIF($L$189,\">0\")+COUNTIF($L$216,\">0\")+COUNTIF($L$243,\">0\")+COUNTIF($L$270,\">0\")","v":0}]
["LPガス配送",null,null,"名　　　　称","配送契約の内容",null,"LPガス配送",null,null,"名　　　　称","配送契約の内容"]
["受託販売所",null,null,"住　　　　所","配　送　先\n消費者戸数","1か年間の\n配送トン数","受託販売所",null,null,"住　　　　所","配　送　先\n消費者戸数","1か年間の\n配送トン数"]
[121,"名称",{"$f":"保険会社用!C169","v":""},null,{"$f":"保険会社用!E169","v":""},{"$f":"IF(保険会社用!F169>0,保険会社用!F169,\"\")","v":""},131,"名称",{"$f":"保険会社用!I169","v":""},null,{"$f":"保険会社用!K169","v":""},{"$f":"IF(保険会社用!L169>0,保険会社用!L169,\"\")","v":""}]
[null,"住所",{"$f":"保険会社用!C170","v":""},null,null,null,null,"住所",{"$f":"保険会社用!I170","v":""}]
[122,"名称",{"$f":"保険会社用!C171","v":""},null,{"$f":"保険会社用!E171","v":""},{"$f":"IF(保険会社用!F171>0,保険会社用!F171,\"\")","v":""},132,"名称",{"$f":"保険会社用!I171","v":""},null,{"$f":"保険会社用!K171","v":""},{"$f":"IF(保険会社用!L171>0,保険会社用!L171,\"\")","v":""}]
[null,"住所",{"$f":"保険会社用!C172","v":""},null,null,null,null,"住所",{"$f":"保険会社用!I172","v":""}]
[123,"名称",{"$f":"保険会社用!C173","v":""},null,{"$f":"保険会社用!E173","v":""},{"$f":"IF(保険会社用!F173>0,保険会社用!F173,\"\")","v":""},133,"名称",{"$f":"保険会社用!I173","v":""},null,{"$f":"保険会社用!K173","v":""},{"$f":"IF(保険会社用!L173>0,保険会社用!L173,\"\")","v":""}]
[null,"住所",{"$f":"保険会社用!C174","v":""},null,null,null,null,"住所",{"$f":"保険会社用!I174","v":""}]
[124,"名称",{"$f":"保険会社用!C175","v":""},null,{"$f":"保険会社用!E175","v":""},{"$f":"IF(保険会社用!F175>0,保険会社用!F175,\"\")","v":""},134,"名称",{"$f":"保険会社用!I175","v":""},null,{"$f":"保険会社用!K175","v":""},{"$f":"IF(保険会社用!L175>0,保険会社用!L175,\"\")","v":""}]
[null,"住所",{"$f":"保険会社用!C176","v":""},null,null,null,null,"住所",{"$f":"保険会社用!I176","v":""}]
[125,"名称",{"$f":"保険会社用!C177","v":""},null,{"$f":"保険会社用!E177","v":""},{"$f":"IF(保険会社用!F177>0,保険会社用!F177,\"\")","v":""},135,"名称",{"$f":"保険会社用!I177","v":""},null,{"$f":"保険会社用!K177","v":""},{"$f":"IF(保険会社用!L177>0,保険会社用!L177,\"\")","v":""}]
[null,"住所",{"$f":"保険会社用!C178","v":""},null,null,null,null,"住所",{"$f":"保険会社用!I178","v":""}]
[126,"名称",{"$f":"保険会社用!C179","v":""},null,{"$f":"保険会社用!E179","v":""},{"$f":"IF(保険会社用!F179>0,保険会社用!F179,\"\")","v":""},136,"名称",{"$f":"保険会社用!I179","v":""},null,{"$f":"保険会社用!K179","v":""},{"$f":"IF(保険会社用!L179>0,保険会社用!L179,\"\")","v":""}]
[null,"住所",{"$f":"保険会社用!C180","v":""},null,null,null,null,"住所",{"$f":"保険会社用!I180","v":""}]
[127,"名称",{"$f":"保険会社用!C181","v":""},null,{"$f":"保険会社用!E181","v":""},{"$f":"IF(保険会社用!F181>0,保険会社用!F181,\"\")","v":""},137,"名称",{"$f":"保険会社用!I181","v":""},null,{"$f":"保険会社用!K181","v":""},{"$f":"IF(保険会社用!L181>0,保険会社用!L181,\"\")","v":""}]
[null,"住所",{"$f":"保険会社用!C182","v":""},null,null,null,null,"住所",{"$f":"保険会社用!I182","v":""}]
[128,"名称",{"$f":"保険会社用!C183","v":""},null,{"$f":"保険会社用!E183","v":""},{"$f":"IF(保険会社用!F183>0,保険会社用!F183,\"\")","v":""},138,"名称",{"$f":"保険会社用!I183","v":""},null,{"$f":"保険会社用!K183","v":""},{"$f":"IF(保険会社用!L183>0,保険会社用!L183,\"\")","v":""}]
[null,"住所",{"$f":"保険会社用!C184","v":""},null,null,null,null,"住所",{"$f":"保険会社用!I184","v":""}]
[129,"名称",{"$f":"保険会社用!C185","v":""},null,{"$f":"保険会社用!E185","v":""},{"$f":"IF(保険会社用!F185>0,保険会社用!F185,\"\")","v":""},139,"名称",{"$f":"保険会社用!I185","v":""},null,{"$f":"保険会社用!K185","v":""},{"$f":"IF(保険会社用!L185>0,保険会社用!L185,\"\")","v":""}]
[null,"住所",{"$f":"保険会社用!C186","v":""},null,null,null,null,"住所",{"$f":"保険会社用!I186","v":""}]
[130,"名称",{"$f":"保険会社用!C187","v":""},null,{"$f":"保険会社用!E187","v":""},{"$f":"IF(保険会社用!F187>0,保険会社用!F187,\"\")","v":""},140,"名称",{"$f":"保険会社用!I187","v":""},null,{"$f":"保険会社用!K187","v":""},{"$f":"IF(保険会社用!L187>0,保険会社用!L187,\"\")","v":""}]
[null,"住所",{"$f":"保険会社用!C188","v":""},null,null,null,null,"住所",{"$f":"保険会社用!I188","v":""}]
["（注）","1.本名簿には、配送事業者がＬＰガス配送を受託しているＬＰガス販売事業者をすべて記入する。",null,null,null,null,null,"小　　計（このページの合計）",null,null,{"$f":"保険会社用!K189","v":0},{"$f":"保険会社用!L189","v":0}]
[null,"2.ＬＰガス配送受託販売所の名称欄には企業名、販売所名を明記し、住所欄には当該販売所の住所を記入する。"]
[null,"3.保険契約加入依頼の際、依頼書に本名簿（保険会社用、事業団用、都道府県協会用）を添付して提出する。"]
[null,"4.支部が事業団に加入依頼書を送付する際、２部（保険会社用、事業団用）を添付する。"]
[null,null,null,null,null,null,null,null,null,null,8,{"$f":"COUNTIF($L$26,\">0\")+COUNTIF($L$54,\">0\")+COUNTIF($L$81,\">0\")+COUNTIF($L$108,\">0\")+COUNTIF($L$135,\">0\")+COUNTIF($L$162,\">0\")+COUNTIF($L$189,\">0\")+COUNTIF($L$216,\">0\")+COUNTIF($L$243,\">0\")+COUNTIF($L$270,\">0\")","v":0}]
["LPガス配送",null,null,"名　　　　称","配送契約の内容",null,"LPガス配送",null,null,"名　　　　称","配送契約の内容"]
["受託販売所",null,null,"住　　　　所","配　送　先\n消費者戸数","1か年間の\n配送トン数","受託販売所",null,null,"住　　　　所","配　送　先\n消費者戸数","1か年間の\n配送トン数"]
[141,"名称",{"$f":"保険会社用!C196","v":""},null,{"$f":"保険会社用!E196","v":""},{"$f":"IF(保険会社用!F196>0,保険会社用!F196,\"\")","v":""},151,"名称",{"$f":"保険会社用!I196","v":""},null,{"$f":"保険会社用!K196","v":""},{"$f":"IF(保険会社用!L196>0,保険会社用!L196,\"\")","v":""}]
[null,"住所",{"$f":"保険会社用!C197","v":""},null,null,null,null,"住所",{"$f":"保険会社用!I197","v":""}]
[142,"名称",{"$f":"保険会社用!C198","v":""},null,{"$f":"保険会社用!E198","v":""},{"$f":"IF(保険会社用!F198>0,保険会社用!F198,\"\")","v":""},152,"名称",{"$f":"保険会社用!I198","v":""},null,{"$f":"保険会社用!K198","v":""},{"$f":"IF(保険会社用!L198>0,保険会社用!L198,\"\")","v":""}]
[null,"住所",{"$f":"保険会社用!C199","v":""},null,null,null,null,"住所",{"$f":"保険会社用!I199","v":""}]
[143,"名称",{"$f":"保険会社用!C200","v":""},null,{"$f":"保険会社用!E200","v":""},{"$f":"IF(保険会社用!F200>0,保険会社用!F200,\"\")","v":""},153,"名称",{"$f":"保険会社用!I200","v":""},null,{"$f":"保険会社用!K200","v":""},{"$f":"IF(保険会社用!L200>0,保険会社用!L200,\"\")","v":""}]
[null,"住所",{"$f":"保険会社用!C201","v":""},null,null,null,null,"住所",{"$f":"保険会社用!I201","v":""}]
[144,"名称",{"$f":"保険会社用!C202","v":""},null,{"$f":"保険会社用!E202","v":""},{"$f":"IF(保険会社用!F202>0,保険会社用!F202,\"\")","v":""},154,"名称",{"$f":"保険会社用!I202","v":""},null,{"$f":"保険会社用!K202","v":""},{"$f":"IF(保険会社用!L202>0,保険会社用!L202,\"\")","v":""}]
[null,"住所",{"$f":"保険会社用!C203","v":""},null,null,null,null,"住所",{"$f":"保険会社用!I203","v":""}]
[145,"名称",{"$f":"保険会社用!C204","v":""},null,{"$f":"保険会社用!E204","v":""},{"$f":"IF(保険会社用!F204>0,保険会社用!F204,\"\")","v":""},155,"名称",{"$f":"保険会社用!I204","v":""},null,{"$f":"保険会社用!K204","v":""},{"$f":"IF(保険会社用!L204>0,保険会社用!L204,\"\")","v":""}]
[null,"住所",{"$f":"保険会社用!C205","v":""},null,null,null,null,"住所",{"$f":"保険会社用!I205","v":""}]
[146,"名称",{"$f":"保険会社用!C206","v":""},null,{"$f":"保険会社用!E206","v":""},{"$f":"IF(保険会社用!F206>0,保険会社用!F206,\"\")","v":""},156,"名称",{"$f":"保険会社用!I206","v":""},null,{"$f":"保険会社用!K206","v":""},{"$f":"IF(保険会社用!L206>0,保険会社用!L206,\"\")","v":""}]
[null,"住所",{"$f":"保険会社用!C207","v":""},null,null,null,null,"住所",{"$f":"保険会社用!I207","v":""}]
[147,"名称",{"$f":"保険会社用!C208","v":""},null,{"$f":"保険会社用!E208","v":""},{"$f":"IF(保険会社用!F208>0,保険会社用!F208,\"\")","v":""},157,"名称",{"$f":"保険会社用!I208","v":""},null,{"$f":"保険会社用!K208","v":""},{"$f":"IF(保険会社用!L208>0,保険会社用!L208,\"\")","v":""}]
[null,"住所",{"$f":"保険会社用!C209","v":""},null,null,null,null,"住所",{"$f":"保険会社用!I209","v":""}]
[148,"名称",{"$f":"保険会社用!C210","v":""},null,{"$f":"保険会社用!E210","v":""},{"$f":"IF(保険会社用!F210>0,保険会社用!F210,\"\")","v":""},158,"名称",{"$f":"保険会社用!I210","v":""},null,{"$f":"保険会社用!K210","v":""},{"$f":"IF(保険会社用!L210>0,保険会社用!L210,\"\")","v":""}]
[null,"住所",{"$f":"保険会社用!C211","v":""},null,null,null,null,"住所",{"$f":"保険会社用!I211","v":""}]
[149,"名称",{"$f":"保険会社用!C212","v":""},null,{"$f":"保険会社用!E212","v":""},{"$f":"IF(保険会社用!F212>0,保険会社用!F212,\"\")","v":""},159,"名称",{"$f":"保険会社用!I212","v":""},null,{"$f":"保険会社用!K212","v":""},{"$f":"IF(保険会社用!L212>0,保険会社用!L212,\"\")","v":""}]
[null,"住所",{"$f":"保険会社用!C213","v":""},null,null,null,null,"住所",{"$f":"保険会社用!I213","v":""}]
[150,"名称",{"$f":"保険会社用!C214","v":""},null,{"$f":"保険会社用!E214","v":""},{"$f":"IF(保険会社用!F214>0,保険会社用!F214,\"\")","v":""},160,"名称",{"$f":"保険会社用!I214","v":""},null,{"$f":"保険会社用!K214","v":""},{"$f":"IF(保険会社用!L214>0,保険会社用!L214,\"\")","v":""}]
[null,"住所",{"$f":"保険会社用!C215","v":""},null,null,null,null,"住所",{"$f":"保険会社用!I215","v":""}]
["（注）","1.本名簿には、配送事業者がＬＰガス配送を受託しているＬＰガス販売事業者をすべて記入する。",null,null,null,null,null,"小　　計（このページの合計）",null,null,{"$f":"保険会社用!K216","v":0},{"$f":"保険会社用!L216","v":0}]
[null,"2.ＬＰガス配送受託販売所の名称欄には企業名、販売所名を明記し、住所欄には当該販売所の住所を記入する。"]
[null,"3.保険契約加入依頼の際、依頼書に本名簿（保険会社用、事業団用、都道府県協会用）を添付して提出する。"]
[null,"4.支部が事業団に加入依頼書を送付する際、２部（保険会社用、事業団用）を添付する。"]
[null,null,null,null,null,null,null,null,null,null,9,{"$f":"COUNTIF($L$26,\">0\")+COUNTIF($L$54,\">0\")+COUNTIF($L$81,\">0\")+COUNTIF($L$108,\">0\")+COUNTIF($L$135,\">0\")+COUNTIF($L$162,\">0\")+COUNTIF($L$189,\">0\")+COUNTIF($L$216,\">0\")+COUNTIF($L$243,\">0\")+COUNTIF($L$270,\">0\")","v":0}]
["LPガス配送",null,null,"名　　　　称","配送契約の内容",null,"LPガス配送",null,null,"名　　　　称","配送契約の内容"]
["受託販売所",null,null,"住　　　　所","配　送　先\n消費者戸数","1か年間の\n配送トン数","受託販売所",null,null,"住　　　　所","配　送　先\n消費者戸数","1か年間の\n配送トン数"]
[161,"名称",{"$f":"保険会社用!C223","v":""},null,{"$f":"保険会社用!E223","v":""},{"$f":"IF(保険会社用!F223>0,保険会社用!F223,\"\")","v":""},171,"名称",{"$f":"保険会社用!I223","v":""},null,{"$f":"保険会社用!K223","v":""},{"$f":"IF(保険会社用!L223>0,保険会社用!L223,\"\")","v":""}]
[null,"住所",{"$f":"保険会社用!C224","v":""},null,null,null,null,"住所",{"$f":"保険会社用!I224","v":""}]
[162,"名称",{"$f":"保険会社用!C225","v":""},null,{"$f":"保険会社用!E225","v":""},{"$f":"IF(保険会社用!F225>0,保険会社用!F225,\"\")","v":""},172,"名称",{"$f":"保険会社用!I225","v":""},null,{"$f":"保険会社用!K225","v":""},{"$f":"IF(保険会社用!L225>0,保険会社用!L225,\"\")","v":""}]
[null,"住所",{"$f":"保険会社用!C226","v":""},null,null,null,null,"住所",{"$f":"保険会社用!I226","v":""}]
[163,"名称",{"$f":"保険会社用!C227","v":""},null,{"$f":"保険会社用!E227","v":""},{"$f":"IF(保険会社用!F227>0,保険会社用!F227,\"\")","v":""},173,"名称",{"$f":"保険会社用!I227","v":""},null,{"$f":"保険会社用!K227","v":""},{"$f":"IF(保険会社用!L227>0,保険会社用!L227,\"\")","v":""}]
[null,"住所",{"$f":"保険会社用!C228","v":""},null,null,null,null,"住所",{"$f":"保険会社用!I228","v":""}]
[164,"名称",{"$f":"保険会社用!C229","v":""},null,{"$f":"保険会社用!E229","v":""},{"$f":"IF(保険会社用!F229>0,保険会社用!F229,\"\")","v":""},174,"名称",{"$f":"保険会社用!I229","v":""},null,{"$f":"保険会社用!K229","v":""},{"$f":"IF(保険会社用!L229>0,保険会社用!L229,\"\")","v":""}]
[null,"住所",{"$f":"保険会社用!C230","v":""},null,null,null,null,"住所",{"$f":"保険会社用!I230","v":""}]
[165,"名称",{"$f":"保険会社用!C231","v":""},null,{"$f":"保険会社用!E231","v":""},{"$f":"IF(保険会社用!F231>0,保険会社用!F231,\"\")","v":""},175,"名称",{"$f":"保険会社用!I231","v":""},null,{"$f":"保険会社用!K231","v":""},{"$f":"IF(保険会社用!L231>0,保険会社用!L231,\"\")","v":""}]
[null,"住所",{"$f":"保険会社用!C232","v":""},null,null,null,null,"住所",{"$f":"保険会社用!I232","v":""}]
[166,"名称",{"$f":"保険会社用!C233","v":""},null,{"$f":"保険会社用!E233","v":""},{"$f":"IF(保険会社用!F233>0,保険会社用!F233,\"\")","v":""},176,"名称",{"$f":"保険会社用!I233","v":""},null,{"$f":"保険会社用!K233","v":""},{"$f":"IF(保険会社用!L233>0,保険会社用!L233,\"\")","v":""}]
[null,"住所",{"$f":"保険会社用!C234","v":""},null,null,null,null,"住所",{"$f":"保険会社用!I234","v":""}]
[167,"名称",{"$f":"保険会社用!C235","v":""},null,{"$f":"保険会社用!E235","v":""},{"$f":"IF(保険会社用!F235>0,保険会社用!F235,\"\")","v":""},177,"名称",{"$f":"保険会社用!I235","v":""},null,{"$f":"保険会社用!K235","v":""},{"$f":"IF(保険会社用!L235>0,保険会社用!L235,\"\")","v":""}]
[null,"住所",{"$f":"保険会社用!C236","v":""},null,null,null,null,"住所",{"$f":"保険会社用!I236","v":""}]
[168,"名称",{"$f":"保険会社用!C237","v":""},null,{"$f":"保険会社用!E237","v":""},{"$f":"IF(保険会社用!F237>0,保険会社用!F237,\"\")","v":""},178,"名称",{"$f":"保険会社用!I237","v":""},null,{"$f":"保険会社用!K237","v":""},{"$f":"IF(保険会社用!L237>0,保険会社用!L237,\"\")","v":""}]
[null,"住所",{"$f":"保険会社用!C238","v":""},null,null,null,null,"住所",{"$f":"保険会社用!I238","v":""}]
[169,"名称",{"$f":"保険会社用!C239","v":""},null,{"$f":"保険会社用!E239","v":""},{"$f":"IF(保険会社用!F239>0,保険会社用!F239,\"\")","v":""},179,"名称",{"$f":"保険会社用!I239","v":""},null,{"$f":"保険会社用!K239","v":""},{"$f":"IF(保険会社用!L239>0,保険会社用!L239,\"\")","v":""}]
[null,"住所",{"$f":"保険会社用!C240","v":""},null,null,null,null,"住所",{"$f":"保険会社用!I240","v":""}]
[170,"名称",{"$f":"保険会社用!C241","v":""},null,{"$f":"保険会社用!E241","v":""},{"$f":"IF(保険会社用!F241>0,保険会社用!F241,\"\")","v":""},180,"名称",{"$f":"保険会社用!I241","v":""},null,{"$f":"保険会社用!K241","v":""},{"$f":"IF(保険会社用!L241>0,保険会社用!L241,\"\")","v":""}]
[null,"住所",{"$f":"保険会社用!C242","v":""},null,null,null,null,"住所",{"$f":"保険会社用!I242","v":""}]
["（注）","1.本名簿には、配送事業者がＬＰガス配送を受託しているＬＰガス販売事業者をすべて記入する。",null,null,null,null,null,"小　　計（このページの合計）",null,null,{"$f":"保険会社用!K243","v":0},{"$f":"保険会社用!L243","v":0}]
[null,"2.ＬＰガス配送受託販売所の名称欄には企業名、販売所名を明記し、住所欄には当該販売所の住所を記入する。"]
[null,"3.保険契約加入依頼の際、依頼書に本名簿（保険会社用、事業団用、都道府県協会用）を添付して提出する。"]
[null,"4.支部が事業団に加入依頼書を送付する際、２部（保険会社用、事業団用）を添付する。"]
[null,null,null,null,null,null,null,null,null,null,10,{"$f":"COUNTIF($L$26,\">0\")+COUNTIF($L$54,\">0\")+COUNTIF($L$81,\">0\")+COUNTIF($L$108,\">0\")+COUNTIF($L$135,\">0\")+COUNTIF($L$162,\">0\")+COUNTIF($L$189,\">0\")+COUNTIF($L$216,\">0\")+COUNTIF($L$243,\">0\")+COUNTIF($L$270,\">0\")","v":0}]
["LPガス配送",null,null,"名　　　　称","配送契約の内容",null,"LPガス配送",null,null,"名　　　　称","配送契約の内容"]
["受託販売所",null,null,"住　　　　所","配　送　先\n消費者戸数","1か年間の\n配送トン数","受託販売所",null,null,"住　　　　所","配　送　先\n消費者戸数","1か年間の\n配送トン数"]
[181,"名称",{"$f":"保険会社用!C250","v":""},null,{"$f":"保険会社用!E250","v":""},{"$f":"IF(保険会社用!F250>0,保険会社用!F250,\"\")","v":""},191,"名称",{"$f":"保険会社用!I250","v":""},null,{"$f":"保険会社用!K250","v":""},{"$f":"IF(保険会社用!L250>0,保険会社用!L250,\"\")","v":""}]
[null,"住所",{"$f":"保険会社用!C251","v":""},null,null,null,null,"住所",{"$f":"保険会社用!I251","v":""}]
[182,"名称",{"$f":"保険会社用!C252","v":""},null,{"$f":"保険会社用!E252","v":""},{"$f":"IF(保険会社用!F252>0,保険会社用!F252,\"\")","v":""},192,"名称",{"$f":"保険会社用!I252","v":""},null,{"$f":"保険会社用!K252","v":""},{"$f":"IF(保険会社用!L252>0,保険会社用!L252,\"\")","v":""}]
[null,"住所",{"$f":"保険会社用!C253","v":""},null,null,null,null,"住所",{"$f":"保険会社用!I253","v":""}]
[183,"名称",{"$f":"保険会社用!C254","v":""},null,{"$f":"保険会社用!E254","v":""},{"$f":"IF(保険会社用!F254>0,保険会社用!F254,\"\")","v":""},193,"名称",{"$f":"保険会社用!I254","v":""},null,{"$f":"保険会社用!K254","v":""},{"$f":"IF(保険会社用!L254>0,保険会社用!L254,\"\")","v":""}]
[null,"住所",{"$f":"保険会社用!C255","v":""},null,null,null,null,"住所",{"$f":"保険会社用!I255","v":""}]
[184,"名称",{"$f":"保険会社用!C256","v":""},null,{"$f":"保険会社用!E256","v":""},{"$f":"IF(保険会社用!F256>0,保険会社用!F256,\"\")","v":""},194,"名称",{"$f":"保険会社用!I256","v":""},null,{"$f":"保険会社用!K256","v":""},{"$f":"IF(保険会社用!L256>0,保険会社用!L256,\"\")","v":""}]
[null,"住所",{"$f":"保険会社用!C257","v":""},null,null,null,null,"住所",{"$f":"保険会社用!I257","v":""}]
[185,"名称",{"$f":"保険会社用!C258","v":""},null,{"$f":"保険会社用!E258","v":""},{"$f":"IF(保険会社用!F258>0,保険会社用!F258,\"\")","v":""},195,"名称",{"$f":"保険会社用!I258","v":""},null,{"$f":"保険会社用!K258","v":""},{"$f":"IF(保険会社用!L258>0,保険会社用!L258,\"\")","v":""}]
[null,"住所",{"$f":"保険会社用!C259","v":""},null,null,null,null,"住所",{"$f":"保険会社用!I259","v":""}]
[186,"名称",{"$f":"保険会社用!C260","v":""},null,{"$f":"保険会社用!E260","v":""},{"$f":"IF(保険会社用!F260>0,保険会社用!F260,\"\")","v":""},196,"名称",{"$f":"保険会社用!I260","v":""},null,{"$f":"保険会社用!K260","v":""},{"$f":"IF(保険会社用!L260>0,保険会社用!L260,\"\")","v":""}]
[null,"住所",{"$f":"保険会社用!C261","v":""},null,null,null,null,"住所",{"$f":"保険会社用!I261","v":""}]
[187,"名称",{"$f":"保険会社用!C262","v":""},null,{"$f":"保険会社用!E262","v":""},{"$f":"IF(保険会社用!F262>0,保険会社用!F262,\"\")","v":""},197,"名称",{"$f":"保険会社用!I262","v":""},null,{"$f":"保険会社用!K262","v":""},{"$f":"IF(保険会社用!L262>0,保険会社用!L262,\"\")","v":""}]
[null,"住所",{"$f":"保険会社用!C263","v":""},null,null,null,null,"住所",{"$f":"保険会社用!I263","v":""}]
[188,"名称",{"$f":"保険会社用!C264","v":""},null,{"$f":"保険会社用!E264","v":""},{"$f":"IF(保険会社用!F264>0,保険会社用!F264,\"\")","v":""},198,"名称",{"$f":"保険会社用!I264","v":""},null,{"$f":"保険会社用!K264","v":""},{"$f":"IF(保険会社用!L264>0,保険会社用!L264,\"\")","v":""}]
[null,"住所",{"$f":"保険会社用!C265","v":""},null,null,null,null,"住所",{"$f":"保険会社用!I265","v":""}]
[189,"名称",{"$f":"保険会社用!C266","v":""},null,{"$f":"保険会社用!E266","v":""},{"$f":"IF(保険会社用!F266>0,保険会社用!F266,\"\")","v":""},199,"名称",{"$f":"保険会社用!I266","v":""},null,{"$f":"保険会社用!K266","v":""},{"$f":"IF(保険会社用!L266>0,保険会社用!L266,\"\")","v":""}]
[null,"住所",{"$f":"保険会社用!C267","v":""},null,null,null,null,"住所",{"$f":"保険会社用!I267","v":""}]
[190,"名称",{"$f":"保険会社用!C268","v":""},null,{"$f":"保険会社用!E268","v":""},{"$f":"IF(保険会社用!F268>0,保険会社用!F268,\"\")","v":""},200,"名称",{"$f":"保険会社用!I268","v":""},null,{"$f":"保険会社用!K268","v":""},{"$f":"IF(保険会社用!L268>0,保険会社用!L268,\"\")","v":""}]
[null,"住所",{"$f":"保険会社用!C269","v":""},null,null,null,null,"住所",{"$f":"保険会社用!I269","v":""}]
["（注）","1.本名簿には、配送事業者がＬＰガス配送を受託しているＬＰガス販売事業者をすべて記入する。",null,null,null,null,null,"小　　計（このページの合計）",null,null,{"$f":"保険会社用!K270","v":0},{"$f":"保険会社用!L270","v":0}]
[null,"2.ＬＰガス配送受託販売所の名称欄には企業名、販売所名を明記し、住所欄には当該販売所の住所を記入する。"]
[null,"3.保険契約加入依頼の際、依頼書に本名簿（保険会社用、事業団用、都道府県協会用）を添付して提出する。"]
[null,"4.支部が事業団に加入依頼書を送付する際、２部（保険会社用、事業団用）を添付する。"]